Workbook

Sheet Einstellungen
A1: Dienstplan 2027 – Niedersachsen
A2: Erst hier Schichten und Namen eintragen, dann in den Monatsblättern je Tag ein Kürzel wählen. Stunden und Besetzung rechnet die Datei selbst.
A4: Kürzel | B4: Bezeichnung | C4: Stunden | D4: Hinweis
A5: F | B5: Frühschicht | C5: 8 | D5: Kürzel, Namen und Stunden kannst du frei ändern oder ergänzen.
A6: S | B6: Spätschicht | C6: 8 | D6: Stunden = bezahlte Arbeitszeit der Schicht ohne Pause.
A7: N | B7: Nachtschicht | C7: 8
A8: T | B8: Tagdienst | C8: 8
A9: H | B9: Halber Tag | C9: 4
A10: U | B10: Urlaub | C10: 0
A11: K | B11: Krank | C11: 0
A12: X | B12: Frei | C12: 0
A17: Mitarbeiter
A18: Nr. | B18: Name | C18: Soll-Std./Monat
A19: 1
A20: 2
A21: 3
A22: 4
A23: 5
A24: 6
A25: 7
A26: 8
A27: 9
A28: 10
A29: 11
A30: 12
A32: Kostenlose Vorlage von kniffwerk.de/vorlagen – frei verwendbar. Feiertage laut OpenHolidays API, ohne Gewähr. Die Vorlage ersetzt keine Prüfung von Arbeitszeitgesetz, Tarifvertrag oder Betriebsvereinbarung.

Sheet Januar
A1: Dienstplan Januar 2027
A2: Je Tag ein Kürzel wählen (Liste in der Zelle). Kürzel und Stunden stehen im Blatt „Einstellungen“.
C4: Fr | D4: Sa | E4: So | F4: Mo | G4: Di | H4: Mi | I4: Do | J4: Fr | K4: Sa | L4: So | M4: Mo | N4: Di | O4: Mi | P4: Do | Q4: Fr | R4: Sa | S4: So | T4: Mo | U4: Di | V4: Mi | W4: Do | X4: Fr | Y4: Sa | Z4: So | AA4: Mo | AB4: Di | AC4: Mi | AD4: Do | AE4: Fr | AF4: Sa | AG4: So
A5: Nr. | B5: Name | C5: 1 | D5: 2 | E5: 3 | F5: 4 | G5: 5 | H5: 6 | I5: 7 | J5: 8 | K5: 9 | L5: 10 | M5: 11 | N5: 12 | O5: 13 | P5: 14 | Q5: 15 | R5: 16 | S5: 17 | T5: 18 | U5: 19 | V5: 20 | W5: 21 | X5: 22 | Y5: 23 | Z5: 24 | AA5: 25 | AB5: 26 | AC5: 27 | AD5: 28 | AE5: 29 | AF5: 30 | AG5: 31 | AH5: Stunden | AI5: Soll | AJ5: + / −
A6: 1 | B6: =IF(Einstellungen!B19="","",Einstellungen!B19) | AH6: =SUMPRODUCT(SUMIF(Einstellungen!$A$5:$A$14,C6:AG6,Einstellungen!$C$5:$C$14)) | AI6: =IF(Einstellungen!C19="","",Einstellungen!C19) | AJ6: =IF(AI6="","",AH6-AI6)
A7: 2 | B7: =IF(Einstellungen!B20="","",Einstellungen!B20) | AH7: =SUMPRODUCT(SUMIF(Einstellungen!$A$5:$A$14,C7:AG7,Einstellungen!$C$5:$C$14)) | AI7: =IF(Einstellungen!C20="","",Einstellungen!C20) | AJ7: =IF(AI7="","",AH7-AI7)
A8: 3 | B8: =IF(Einstellungen!B21="","",Einstellungen!B21) | AH8: =SUMPRODUCT(SUMIF(Einstellungen!$A$5:$A$14,C8:AG8,Einstellungen!$C$5:$C$14)) | AI8: =IF(Einstellungen!C21="","",Einstellungen!C21) | AJ8: =IF(AI8="","",AH8-AI8)
A9: 4 | B9: =IF(Einstellungen!B22="","",Einstellungen!B22) | AH9: =SUMPRODUCT(SUMIF(Einstellungen!$A$5:$A$14,C9:AG9,Einstellungen!$C$5:$C$14)) | AI9: =IF(Einstellungen!C22="","",Einstellungen!C22) | AJ9: =IF(AI9="","",AH9-AI9)
A10: 5 | B10: =IF(Einstellungen!B23="","",Einstellungen!B23) | AH10: =SUMPRODUCT(SUMIF(Einstellungen!$A$5:$A$14,C10:AG10,Einstellungen!$C$5:$C$14)) | AI10: =IF(Einstellungen!C23="","",Einstellungen!C23) | AJ10: =IF(AI10="","",AH10-AI10)
A11: 6 | B11: =IF(Einstellungen!B24="","",Einstellungen!B24) | AH11: =SUMPRODUCT(SUMIF(Einstellungen!$A$5:$A$14,C11:AG11,Einstellungen!$C$5:$C$14)) | AI11: =IF(Einstellungen!C24="","",Einstellungen!C24) | AJ11: =IF(AI11="","",AH11-AI11)
A12: 7 | B12: =IF(Einstellungen!B25="","",Einstellungen!B25) | AH12: =SUMPRODUCT(SUMIF(Einstellungen!$A$5:$A$14,C12:AG12,Einstellungen!$C$5:$C$14)) | AI12: =IF(Einstellungen!C25="","",Einstellungen!C25) | AJ12: =IF(AI12="","",AH12-AI12)
A13: 8 | B13: =IF(Einstellungen!B26="","",Einstellungen!B26) | AH13: =SUMPRODUCT(SUMIF(Einstellungen!$A$5:$A$14,C13:AG13,Einstellungen!$C$5:$C$14)) | AI13: =IF(Einstellungen!C26="","",Einstellungen!C26) | AJ13: =IF(AI13="","",AH13-AI13)
A14: 9 | B14: =IF(Einstellungen!B27="","",Einstellungen!B27) | AH14: =SUMPRODUCT(SUMIF(Einstellungen!$A$5:$A$14,C14:AG14,Einstellungen!$C$5:$C$14)) | AI14: =IF(Einstellungen!C27="","",Einstellungen!C27) | AJ14: =IF(AI14="","",AH14-AI14)
A15: 10 | B15: =IF(Einstellungen!B28="","",Einstellungen!B28) | AH15: =SUMPRODUCT(SUMIF(Einstellungen!$A$5:$A$14,C15:AG15,Einstellungen!$C$5:$C$14)) | AI15: =IF(Einstellungen!C28="","",Einstellungen!C28) | AJ15: =IF(AI15="","",AH15-AI15)
A16: 11 | B16: =IF(Einstellungen!B29="","",Einstellungen!B29) | AH16: =SUMPRODUCT(SUMIF(Einstellungen!$A$5:$A$14,C16:AG16,Einstellungen!$C$5:$C$14)) | AI16: =IF(Einstellungen!C29="","",Einstellungen!C29) | AJ16: =IF(AI16="","",AH16-AI16)
A17: 12 | B17: =IF(Einstellungen!B30="","",Einstellungen!B30) | AH17: =SUMPRODUCT(SUMIF(Einstellungen!$A$5:$A$14,C17:AG17,Einstellungen!$C$5:$C$14)) | AI17: =IF(Einstellungen!C30="","",Einstellungen!C30) | AJ17: =IF(AI17="","",AH17-AI17)
B18: Besetzung je Tag
B19: =IF(Einstellungen!A5="","",Einstellungen!B5&" ("&Einstellungen!A5&")") | C19: =IF(Einstellungen!$A$5="","",COUNTIF(C6:C17,Einstellungen!$A$5)) | D19: =IF(Einstellungen!$A$5="","",COUNTIF(D6:D17,Einstellungen!$A$5)) | E19: =IF(Einstellungen!$A$5="","",COUNTIF(E6:E17,Einstellungen!$A$5)) | F19: =IF(Einstellungen!$A$5="","",COUNTIF(F6:F17,Einstellungen!$A$5)) | G19: =IF(Einstellungen!$A$5="","",COUNTIF(G6:G17,Einstellungen!$A$5)) | H19: =IF(Einstellungen!$A$5="","",COUNTIF(H6:H17,Einstellungen!$A$5)) | I19: =IF(Einstellungen!$A$5="","",COUNTIF(I6:I17,Einstellungen!$A$5)) | J19: =IF(Einstellungen!$A$5="","",COUNTIF(J6:J17,Einstellungen!$A$5)) | ... AG19: =IF(Einstellungen!$A$5="","",COUNTIF(AG6:AG17,Einstellungen!$A$5))
B20: =IF(Einstellungen!A6="","",Einstellungen!B6&" ("&Einstellungen!A6&")") | C20: =IF(Einstellungen!$A$6="","",COUNTIF(C6:C17,Einstellungen!$A$6)) | D20: =IF(Einstellungen!$A$6="","",COUNTIF(D6:D17,Einstellungen!$A$6)) | E20: =IF(Einstellungen!$A$6="","",COUNTIF(E6:E17,Einstellungen!$A$6)) | F20: =IF(Einstellungen!$A$6="","",COUNTIF(F6:F17,Einstellungen!$A$6)) | G20: =IF(Einstellungen!$A$6="","",COUNTIF(G6:G17,Einstellungen!$A$6)) | H20: =IF(Einstellungen!$A$6="","",COUNTIF(H6:H17,Einstellungen!$A$6)) | I20: =IF(Einstellungen!$A$6="","",COUNTIF(I6:I17,Einstellungen!$A$6)) | J20: =IF(Einstellungen!$A$6="","",COUNTIF(J6:J17,Einstellungen!$A$6)) | ... AG20: =IF(Einstellungen!$A$6="","",COUNTIF(AG6:AG17,Einstellungen!$A$6))
B21: =IF(Einstellungen!A7="","",Einstellungen!B7&" ("&Einstellungen!A7&")") | C21: =IF(Einstellungen!$A$7="","",COUNTIF(C6:C17,Einstellungen!$A$7)) | D21: =IF(Einstellungen!$A$7="","",COUNTIF(D6:D17,Einstellungen!$A$7)) | E21: =IF(Einstellungen!$A$7="","",COUNTIF(E6:E17,Einstellungen!$A$7)) | F21: =IF(Einstellungen!$A$7="","",COUNTIF(F6:F17,Einstellungen!$A$7)) | G21: =IF(Einstellungen!$A$7="","",COUNTIF(G6:G17,Einstellungen!$A$7)) | H21: =IF(Einstellungen!$A$7="","",COUNTIF(H6:H17,Einstellungen!$A$7)) | I21: =IF(Einstellungen!$A$7="","",COUNTIF(I6:I17,Einstellungen!$A$7)) | J21: =IF(Einstellungen!$A$7="","",COUNTIF(J6:J17,Einstellungen!$A$7)) | ... AG21: =IF(Einstellungen!$A$7="","",COUNTIF(AG6:AG17,Einstellungen!$A$7))
B22: =IF(Einstellungen!A8="","",Einstellungen!B8&" ("&Einstellungen!A8&")") | C22: =IF(Einstellungen!$A$8="","",COUNTIF(C6:C17,Einstellungen!$A$8)) | D22: =IF(Einstellungen!$A$8="","",COUNTIF(D6:D17,Einstellungen!$A$8)) | E22: =IF(Einstellungen!$A$8="","",COUNTIF(E6:E17,Einstellungen!$A$8)) | F22: =IF(Einstellungen!$A$8="","",COUNTIF(F6:F17,Einstellungen!$A$8)) | G22: =IF(Einstellungen!$A$8="","",COUNTIF(G6:G17,Einstellungen!$A$8)) | H22: =IF(Einstellungen!$A$8="","",COUNTIF(H6:H17,Einstellungen!$A$8)) | I22: =IF(Einstellungen!$A$8="","",COUNTIF(I6:I17,Einstellungen!$A$8)) | J22: =IF(Einstellungen!$A$8="","",COUNTIF(J6:J17,Einstellungen!$A$8)) | ... AG22: =IF(Einstellungen!$A$8="","",COUNTIF(AG6:AG17,Einstellungen!$A$8))
B24: Feiertage: 1. Neujahr

Sheet Februar
A1: Dienstplan Februar 2027
A2: Je Tag ein Kürzel wählen (Liste in der Zelle). Kürzel und Stunden stehen im Blatt „Einstellungen“.
C4: Mo | D4: Di | E4: Mi | F4: Do | G4: Fr | H4: Sa | I4: So | J4: Mo | K4: Di | L4: Mi | M4: Do | N4: Fr | O4: Sa | P4: So | Q4: Mo | R4: Di | S4: Mi | T4: Do | U4: Fr | V4: Sa | W4: So | X4: Mo | Y4: Di | Z4: Mi | AA4: Do | AB4: Fr | AC4: Sa | AD4: So
A5: Nr. | B5: Name | C5: 1 | D5: 2 | E5: 3 | F5: 4 | G5: 5 | H5: 6 | I5: 7 | J5: 8 | K5: 9 | L5: 10 | M5: 11 | N5: 12 | O5: 13 | P5: 14 | Q5: 15 | R5: 16 | S5: 17 | T5: 18 | U5: 19 | V5: 20 | W5: 21 | X5: 22 | Y5: 23 | Z5: 24 | AA5: 25 | AB5: 26 | AC5: 27 | AD5: 28 | AH5: Stunden | AI5: Soll | AJ5: + / −
A6: 1 | B6: =IF(Einstellungen!B19="","",Einstellungen!B19) | AH6: =SUMPRODUCT(SUMIF(Einstellungen!$A$5:$A$14,C6:AD6,Einstellungen!$C$5:$C$14)) | AI6: =IF(Einstellungen!C19="","",Einstellungen!C19) | AJ6: =IF(AI6="","",AH6-AI6)
A7: 2 | B7: =IF(Einstellungen!B20="","",Einstellungen!B20) | AH7: =SUMPRODUCT(SUMIF(Einstellungen!$A$5:$A$14,C7:AD7,Einstellungen!$C$5:$C$14)) | AI7: =IF(Einstellungen!C20="","",Einstellungen!C20) | AJ7: =IF(AI7="","",AH7-AI7)
A8: 3 | B8: =IF(Einstellungen!B21="","",Einstellungen!B21) | AH8: =SUMPRODUCT(SUMIF(Einstellungen!$A$5:$A$14,C8:AD8,Einstellungen!$C$5:$C$14)) | AI8: =IF(Einstellungen!C21="","",Einstellungen!C21) | AJ8: =IF(AI8="","",AH8-AI8)
A9: 4 | B9: =IF(Einstellungen!B22="","",Einstellungen!B22) | AH9: =SUMPRODUCT(SUMIF(Einstellungen!$A$5:$A$14,C9:AD9,Einstellungen!$C$5:$C$14)) | AI9: =IF(Einstellungen!C22="","",Einstellungen!C22) | AJ9: =IF(AI9="","",AH9-AI9)
A10: 5 | B10: =IF(Einstellungen!B23="","",Einstellungen!B23) | AH10: =SUMPRODUCT(SUMIF(Einstellungen!$A$5:$A$14,C10:AD10,Einstellungen!$C$5:$C$14)) | AI10: =IF(Einstellungen!C23="","",Einstellungen!C23) | AJ10: =IF(AI10="","",AH10-AI10)
A11: 6 | B11: =IF(Einstellungen!B24="","",Einstellungen!B24) | AH11: =SUMPRODUCT(SUMIF(Einstellungen!$A$5:$A$14,C11:AD11,Einstellungen!$C$5:$C$14)) | AI11: =IF(Einstellungen!C24="","",Einstellungen!C24) | AJ11: =IF(AI11="","",AH11-AI11)
A12: 7 | B12: =IF(Einstellungen!B25="","",Einstellungen!B25) | AH12: =SUMPRODUCT(SUMIF(Einstellungen!$A$5:$A$14,C12:AD12,Einstellungen!$C$5:$C$14)) | AI12: =IF(Einstellungen!C25="","",Einstellungen!C25) | AJ12: =IF(AI12="","",AH12-AI12)
A13: 8 | B13: =IF(Einstellungen!B26="","",Einstellungen!B26) | AH13: =SUMPRODUCT(SUMIF(Einstellungen!$A$5:$A$14,C13:AD13,Einstellungen!$C$5:$C$14)) | AI13: =IF(Einstellungen!C26="","",Einstellungen!C26) | AJ13: =IF(AI13="","",AH13-AI13)
A14: 9 | B14: =IF(Einstellungen!B27="","",Einstellungen!B27) | AH14: =SUMPRODUCT(SUMIF(Einstellungen!$A$5:$A$14,C14:AD14,Einstellungen!$C$5:$C$14)) | AI14: =IF(Einstellungen!C27="","",Einstellungen!C27) | AJ14: =IF(AI14="","",AH14-AI14)
A15: 10 | B15: =IF(Einstellungen!B28="","",Einstellungen!B28) | AH15: =SUMPRODUCT(SUMIF(Einstellungen!$A$5:$A$14,C15:AD15,Einstellungen!$C$5:$C$14)) | AI15: =IF(Einstellungen!C28="","",Einstellungen!C28) | AJ15: =IF(AI15="","",AH15-AI15)
A16: 11 | B16: =IF(Einstellungen!B29="","",Einstellungen!B29) | AH16: =SUMPRODUCT(SUMIF(Einstellungen!$A$5:$A$14,C16:AD16,Einstellungen!$C$5:$C$14)) | AI16: =IF(Einstellungen!C29="","",Einstellungen!C29) | AJ16: =IF(AI16="","",AH16-AI16)
A17: 12 | B17: =IF(Einstellungen!B30="","",Einstellungen!B30) | AH17: =SUMPRODUCT(SUMIF(Einstellungen!$A$5:$A$14,C17:AD17,Einstellungen!$C$5:$C$14)) | AI17: =IF(Einstellungen!C30="","",Einstellungen!C30) | AJ17: =IF(AI17="","",AH17-AI17)
B18: Besetzung je Tag
B19: =IF(Einstellungen!A5="","",Einstellungen!B5&" ("&Einstellungen!A5&")") | C19: =IF(Einstellungen!$A$5="","",COUNTIF(C6:C17,Einstellungen!$A$5)) | D19: =IF(Einstellungen!$A$5="","",COUNTIF(D6:D17,Einstellungen!$A$5)) | E19: =IF(Einstellungen!$A$5="","",COUNTIF(E6:E17,Einstellungen!$A$5)) | F19: =IF(Einstellungen!$A$5="","",COUNTIF(F6:F17,Einstellungen!$A$5)) | G19: =IF(Einstellungen!$A$5="","",COUNTIF(G6:G17,Einstellungen!$A$5)) | H19: =IF(Einstellungen!$A$5="","",COUNTIF(H6:H17,Einstellungen!$A$5)) | I19: =IF(Einstellungen!$A$5="","",COUNTIF(I6:I17,Einstellungen!$A$5)) | J19: =IF(Einstellungen!$A$5="","",COUNTIF(J6:J17,Einstellungen!$A$5)) | ... AD19: =IF(Einstellungen!$A$5="","",COUNTIF(AD6:AD17,Einstellungen!$A$5))
B20: =IF(Einstellungen!A6="","",Einstellungen!B6&" ("&Einstellungen!A6&")") | C20: =IF(Einstellungen!$A$6="","",COUNTIF(C6:C17,Einstellungen!$A$6)) | D20: =IF(Einstellungen!$A$6="","",COUNTIF(D6:D17,Einstellungen!$A$6)) | E20: =IF(Einstellungen!$A$6="","",COUNTIF(E6:E17,Einstellungen!$A$6)) | F20: =IF(Einstellungen!$A$6="","",COUNTIF(F6:F17,Einstellungen!$A$6)) | G20: =IF(Einstellungen!$A$6="","",COUNTIF(G6:G17,Einstellungen!$A$6)) | H20: =IF(Einstellungen!$A$6="","",COUNTIF(H6:H17,Einstellungen!$A$6)) | I20: =IF(Einstellungen!$A$6="","",COUNTIF(I6:I17,Einstellungen!$A$6)) | J20: =IF(Einstellungen!$A$6="","",COUNTIF(J6:J17,Einstellungen!$A$6)) | ... AD20: =IF(Einstellungen!$A$6="","",COUNTIF(AD6:AD17,Einstellungen!$A$6))
B21: =IF(Einstellungen!A7="","",Einstellungen!B7&" ("&Einstellungen!A7&")") | C21: =IF(Einstellungen!$A$7="","",COUNTIF(C6:C17,Einstellungen!$A$7)) | D21: =IF(Einstellungen!$A$7="","",COUNTIF(D6:D17,Einstellungen!$A$7)) | E21: =IF(Einstellungen!$A$7="","",COUNTIF(E6:E17,Einstellungen!$A$7)) | F21: =IF(Einstellungen!$A$7="","",COUNTIF(F6:F17,Einstellungen!$A$7)) | G21: =IF(Einstellungen!$A$7="","",COUNTIF(G6:G17,Einstellungen!$A$7)) | H21: =IF(Einstellungen!$A$7="","",COUNTIF(H6:H17,Einstellungen!$A$7)) | I21: =IF(Einstellungen!$A$7="","",COUNTIF(I6:I17,Einstellungen!$A$7)) | J21: =IF(Einstellungen!$A$7="","",COUNTIF(J6:J17,Einstellungen!$A$7)) | ... AD21: =IF(Einstellungen!$A$7="","",COUNTIF(AD6:AD17,Einstellungen!$A$7))
B22: =IF(Einstellungen!A8="","",Einstellungen!B8&" ("&Einstellungen!A8&")") | C22: =IF(Einstellungen!$A$8="","",COUNTIF(C6:C17,Einstellungen!$A$8)) | D22: =IF(Einstellungen!$A$8="","",COUNTIF(D6:D17,Einstellungen!$A$8)) | E22: =IF(Einstellungen!$A$8="","",COUNTIF(E6:E17,Einstellungen!$A$8)) | F22: =IF(Einstellungen!$A$8="","",COUNTIF(F6:F17,Einstellungen!$A$8)) | G22: =IF(Einstellungen!$A$8="","",COUNTIF(G6:G17,Einstellungen!$A$8)) | H22: =IF(Einstellungen!$A$8="","",COUNTIF(H6:H17,Einstellungen!$A$8)) | I22: =IF(Einstellungen!$A$8="","",COUNTIF(I6:I17,Einstellungen!$A$8)) | J22: =IF(Einstellungen!$A$8="","",COUNTIF(J6:J17,Einstellungen!$A$8)) | ... AD22: =IF(Einstellungen!$A$8="","",COUNTIF(AD6:AD17,Einstellungen!$A$8))
B24: Feiertage: keine

Sheet März
A1: Dienstplan März 2027
A2: Je Tag ein Kürzel wählen (Liste in der Zelle). Kürzel und Stunden stehen im Blatt „Einstellungen“.
C4: Mo | D4: Di | E4: Mi | F4: Do | G4: Fr | H4: Sa | I4: So | J4: Mo | K4: Di | L4: Mi | M4: Do | N4: Fr | O4: Sa | P4: So | Q4: Mo | R4: Di | S4: Mi | T4: Do | U4: Fr | V4: Sa | W4: So | X4: Mo | Y4: Di | Z4: Mi | AA4: Do | AB4: Fr | AC4: Sa | AD4: So | AE4: Mo | AF4: Di | AG4: Mi
A5: Nr. | B5: Name | C5: 1 | D5: 2 | E5: 3 | F5: 4 | G5: 5 | H5: 6 | I5: 7 | J5: 8 | K5: 9 | L5: 10 | M5: 11 | N5: 12 | O5: 13 | P5: 14 | Q5: 15 | R5: 16 | S5: 17 | T5: 18 | U5: 19 | V5: 20 | W5: 21 | X5: 22 | Y5: 23 | Z5: 24 | AA5: 25 | AB5: 26 | AC5: 27 | AD5: 28 | AE5: 29 | AF5: 30 | AG5: 31 | AH5: Stunden | AI5: Soll | AJ5: + / −
A6: 1 | B6: =IF(Einstellungen!B19="","",Einstellungen!B19) | AH6: =SUMPRODUCT(SUMIF(Einstellungen!$A$5:$A$14,C6:AG6,Einstellungen!$C$5:$C$14)) | AI6: =IF(Einstellungen!C19="","",Einstellungen!C19) | AJ6: =IF(AI6="","",AH6-AI6)
A7: 2 | B7: =IF(Einstellungen!B20="","",Einstellungen!B20) | AH7: =SUMPRODUCT(SUMIF(Einstellungen!$A$5:$A$14,C7:AG7,Einstellungen!$C$5:$C$14)) | AI7: =IF(Einstellungen!C20="","",Einstellungen!C20) | AJ7: =IF(AI7="","",AH7-AI7)
A8: 3 | B8: =IF(Einstellungen!B21="","",Einstellungen!B21) | AH8: =SUMPRODUCT(SUMIF(Einstellungen!$A$5:$A$14,C8:AG8,Einstellungen!$C$5:$C$14)) | AI8: =IF(Einstellungen!C21="","",Einstellungen!C21) | AJ8: =IF(AI8="","",AH8-AI8)
A9: 4 | B9: =IF(Einstellungen!B22="","",Einstellungen!B22) | AH9: =SUMPRODUCT(SUMIF(Einstellungen!$A$5:$A$14,C9:AG9,Einstellungen!$C$5:$C$14)) | AI9: =IF(Einstellungen!C22="","",Einstellungen!C22) | AJ9: =IF(AI9="","",AH9-AI9)
A10: 5 | B10: =IF(Einstellungen!B23="","",Einstellungen!B23) | AH10: =SUMPRODUCT(SUMIF(Einstellungen!$A$5:$A$14,C10:AG10,Einstellungen!$C$5:$C$14)) | AI10: =IF(Einstellungen!C23="","",Einstellungen!C23) | AJ10: =IF(AI10="","",AH10-AI10)
A11: 6 | B11: =IF(Einstellungen!B24="","",Einstellungen!B24) | AH11: =SUMPRODUCT(SUMIF(Einstellungen!$A$5:$A$14,C11:AG11,Einstellungen!$C$5:$C$14)) | AI11: =IF(Einstellungen!C24="","",Einstellungen!C24) | AJ11: =IF(AI11="","",AH11-AI11)
A12: 7 | B12: =IF(Einstellungen!B25="","",Einstellungen!B25) | AH12: =SUMPRODUCT(SUMIF(Einstellungen!$A$5:$A$14,C12:AG12,Einstellungen!$C$5:$C$14)) | AI12: =IF(Einstellungen!C25="","",Einstellungen!C25) | AJ12: =IF(AI12="","",AH12-AI12)
A13: 8 | B13: =IF(Einstellungen!B26="","",Einstellungen!B26) | AH13: =SUMPRODUCT(SUMIF(Einstellungen!$A$5:$A$14,C13:AG13,Einstellungen!$C$5:$C$14)) | AI13: =IF(Einstellungen!C26="","",Einstellungen!C26) | AJ13: =IF(AI13="","",AH13-AI13)
A14: 9 | B14: =IF(Einstellungen!B27="","",Einstellungen!B27) | AH14: =SUMPRODUCT(SUMIF(Einstellungen!$A$5:$A$14,C14:AG14,Einstellungen!$C$5:$C$14)) | AI14: =IF(Einstellungen!C27="","",Einstellungen!C27) | AJ14: =IF(AI14="","",AH14-AI14)
A15: 10 | B15: =IF(Einstellungen!B28="","",Einstellungen!B28) | AH15: =SUMPRODUCT(SUMIF(Einstellungen!$A$5:$A$14,C15:AG15,Einstellungen!$C$5:$C$14)) | AI15: =IF(Einstellungen!C28="","",Einstellungen!C28) | AJ15: =IF(AI15="","",AH15-AI15)
A16: 11 | B16: =IF(Einstellungen!B29="","",Einstellungen!B29) | AH16: =SUMPRODUCT(SUMIF(Einstellungen!$A$5:$A$14,C16:AG16,Einstellungen!$C$5:$C$14)) | AI16: =IF(Einstellungen!C29="","",Einstellungen!C29) | AJ16: =IF(AI16="","",AH16-AI16)
A17: 12 | B17: =IF(Einstellungen!B30="","",Einstellungen!B30) | AH17: =SUMPRODUCT(SUMIF(Einstellungen!$A$5:$A$14,C17:AG17,Einstellungen!$C$5:$C$14)) | AI17: =IF(Einstellungen!C30="","",Einstellungen!C30) | AJ17: =IF(AI17="","",AH17-AI17)
B18: Besetzung je Tag
B19: =IF(Einstellungen!A5="","",Einstellungen!B5&" ("&Einstellungen!A5&")") | C19: =IF(Einstellungen!$A$5="","",COUNTIF(C6:C17,Einstellungen!$A$5)) | D19: =IF(Einstellungen!$A$5="","",COUNTIF(D6:D17,Einstellungen!$A$5)) | E19: =IF(Einstellungen!$A$5="","",COUNTIF(E6:E17,Einstellungen!$A$5)) | F19: =IF(Einstellungen!$A$5="","",COUNTIF(F6:F17,Einstellungen!$A$5)) | G19: =IF(Einstellungen!$A$5="","",COUNTIF(G6:G17,Einstellungen!$A$5)) | H19: =IF(Einstellungen!$A$5="","",COUNTIF(H6:H17,Einstellungen!$A$5)) | I19: =IF(Einstellungen!$A$5="","",COUNTIF(I6:I17,Einstellungen!$A$5)) | J19: =IF(Einstellungen!$A$5="","",COUNTIF(J6:J17,Einstellungen!$A$5)) | ... AG19: =IF(Einstellungen!$A$5="","",COUNTIF(AG6:AG17,Einstellungen!$A$5))
B20: =IF(Einstellungen!A6="","",Einstellungen!B6&" ("&Einstellungen!A6&")") | C20: =IF(Einstellungen!$A$6="","",COUNTIF(C6:C17,Einstellungen!$A$6)) | D20: =IF(Einstellungen!$A$6="","",COUNTIF(D6:D17,Einstellungen!$A$6)) | E20: =IF(Einstellungen!$A$6="","",COUNTIF(E6:E17,Einstellungen!$A$6)) | F20: =IF(Einstellungen!$A$6="","",COUNTIF(F6:F17,Einstellungen!$A$6)) | G20: =IF(Einstellungen!$A$6="","",COUNTIF(G6:G17,Einstellungen!$A$6)) | H20: =IF(Einstellungen!$A$6="","",COUNTIF(H6:H17,Einstellungen!$A$6)) | I20: =IF(Einstellungen!$A$6="","",COUNTIF(I6:I17,Einstellungen!$A$6)) | J20: =IF(Einstellungen!$A$6="","",COUNTIF(J6:J17,Einstellungen!$A$6)) | ... AG20: =IF(Einstellungen!$A$6="","",COUNTIF(AG6:AG17,Einstellungen!$A$6))
B21: =IF(Einstellungen!A7="","",Einstellungen!B7&" ("&Einstellungen!A7&")") | C21: =IF(Einstellungen!$A$7="","",COUNTIF(C6:C17,Einstellungen!$A$7)) | D21: =IF(Einstellungen!$A$7="","",COUNTIF(D6:D17,Einstellungen!$A$7)) | E21: =IF(Einstellungen!$A$7="","",COUNTIF(E6:E17,Einstellungen!$A$7)) | F21: =IF(Einstellungen!$A$7="","",COUNTIF(F6:F17,Einstellungen!$A$7)) | G21: =IF(Einstellungen!$A$7="","",COUNTIF(G6:G17,Einstellungen!$A$7)) | H21: =IF(Einstellungen!$A$7="","",COUNTIF(H6:H17,Einstellungen!$A$7)) | I21: =IF(Einstellungen!$A$7="","",COUNTIF(I6:I17,Einstellungen!$A$7)) | J21: =IF(Einstellungen!$A$7="","",COUNTIF(J6:J17,Einstellungen!$A$7)) | ... AG21: =IF(Einstellungen!$A$7="","",COUNTIF(AG6:AG17,Einstellungen!$A$7))
B22: =IF(Einstellungen!A8="","",Einstellungen!B8&" ("&Einstellungen!A8&")") | C22: =IF(Einstellungen!$A$8="","",COUNTIF(C6:C17,Einstellungen!$A$8)) | D22: =IF(Einstellungen!$A$8="","",COUNTIF(D6:D17,Einstellungen!$A$8)) | E22: =IF(Einstellungen!$A$8="","",COUNTIF(E6:E17,Einstellungen!$A$8)) | F22: =IF(Einstellungen!$A$8="","",COUNTIF(F6:F17,Einstellungen!$A$8)) | G22: =IF(Einstellungen!$A$8="","",COUNTIF(G6:G17,Einstellungen!$A$8)) | H22: =IF(Einstellungen!$A$8="","",COUNTIF(H6:H17,Einstellungen!$A$8)) | I22: =IF(Einstellungen!$A$8="","",COUNTIF(I6:I17,Einstellungen!$A$8)) | J22: =IF(Einstellungen!$A$8="","",COUNTIF(J6:J17,Einstellungen!$A$8)) | ... AG22: =IF(Einstellungen!$A$8="","",COUNTIF(AG6:AG17,Einstellungen!$A$8))
B24: Feiertage: 26. Karfreitag; 29. Ostermontag

Sheet April
A1: Dienstplan April 2027
A2: Je Tag ein Kürzel wählen (Liste in der Zelle). Kürzel und Stunden stehen im Blatt „Einstellungen“.
C4: Do | D4: Fr | E4: Sa | F4: So | G4: Mo | H4: Di | I4: Mi | J4: Do | K4: Fr | L4: Sa | M4: So | N4: Mo | O4: Di | P4: Mi | Q4: Do | R4: Fr | S4: Sa | T4: So | U4: Mo | V4: Di | W4: Mi | X4: Do | Y4: Fr | Z4: Sa | AA4: So | AB4: Mo | AC4: Di | AD4: Mi | AE4: Do | AF4: Fr
A5: Nr. | B5: Name | C5: 1 | D5: 2 | E5: 3 | F5: 4 | G5: 5 | H5: 6 | I5: 7 | J5: 8 | K5: 9 | L5: 10 | M5: 11 | N5: 12 | O5: 13 | P5: 14 | Q5: 15 | R5: 16 | S5: 17 | T5: 18 | U5: 19 | V5: 20 | W5: 21 | X5: 22 | Y5: 23 | Z5: 24 | AA5: 25 | AB5: 26 | AC5: 27 | AD5: 28 | AE5: 29 | AF5: 30 | AH5: Stunden | AI5: Soll | AJ5: + / −
A6: 1 | B6: =IF(Einstellungen!B19="","",Einstellungen!B19) | AH6: =SUMPRODUCT(SUMIF(Einstellungen!$A$5:$A$14,C6:AF6,Einstellungen!$C$5:$C$14)) | AI6: =IF(Einstellungen!C19="","",Einstellungen!C19) | AJ6: =IF(AI6="","",AH6-AI6)
A7: 2 | B7: =IF(Einstellungen!B20="","",Einstellungen!B20) | AH7: =SUMPRODUCT(SUMIF(Einstellungen!$A$5:$A$14,C7:AF7,Einstellungen!$C$5:$C$14)) | AI7: =IF(Einstellungen!C20="","",Einstellungen!C20) | AJ7: =IF(AI7="","",AH7-AI7)
A8: 3 | B8: =IF(Einstellungen!B21="","",Einstellungen!B21) | AH8: =SUMPRODUCT(SUMIF(Einstellungen!$A$5:$A$14,C8:AF8,Einstellungen!$C$5:$C$14)) | AI8: =IF(Einstellungen!C21="","",Einstellungen!C21) | AJ8: =IF(AI8="","",AH8-AI8)
A9: 4 | B9: =IF(Einstellungen!B22="","",Einstellungen!B22) | AH9: =SUMPRODUCT(SUMIF(Einstellungen!$A$5:$A$14,C9:AF9,Einstellungen!$C$5:$C$14)) | AI9: =IF(Einstellungen!C22="","",Einstellungen!C22) | AJ9: =IF(AI9="","",AH9-AI9)
A10: 5 | B10: =IF(Einstellungen!B23="","",Einstellungen!B23) | AH10: =SUMPRODUCT(SUMIF(Einstellungen!$A$5:$A$14,C10:AF10,Einstellungen!$C$5:$C$14)) | AI10: =IF(Einstellungen!C23="","",Einstellungen!C23) | AJ10: =IF(AI10="","",AH10-AI10)
A11: 6 | B11: =IF(Einstellungen!B24="","",Einstellungen!B24) | AH11: =SUMPRODUCT(SUMIF(Einstellungen!$A$5:$A$14,C11:AF11,Einstellungen!$C$5:$C$14)) | AI11: =IF(Einstellungen!C24="","",Einstellungen!C24) | AJ11: =IF(AI11="","",AH11-AI11)
A12: 7 | B12: =IF(Einstellungen!B25="","",Einstellungen!B25) | AH12: =SUMPRODUCT(SUMIF(Einstellungen!$A$5:$A$14,C12:AF12,Einstellungen!$C$5:$C$14)) | AI12: =IF(Einstellungen!C25="","",Einstellungen!C25) | AJ12: =IF(AI12="","",AH12-AI12)
A13: 8 | B13: =IF(Einstellungen!B26="","",Einstellungen!B26) | AH13: =SUMPRODUCT(SUMIF(Einstellungen!$A$5:$A$14,C13:AF13,Einstellungen!$C$5:$C$14)) | AI13: =IF(Einstellungen!C26="","",Einstellungen!C26) | AJ13: =IF(AI13="","",AH13-AI13)
A14: 9 | B14: =IF(Einstellungen!B27="","",Einstellungen!B27) | AH14: =SUMPRODUCT(SUMIF(Einstellungen!$A$5:$A$14,C14:AF14,Einstellungen!$C$5:$C$14)) | AI14: =IF(Einstellungen!C27="","",Einstellungen!C27) | AJ14: =IF(AI14="","",AH14-AI14)
A15: 10 | B15: =IF(Einstellungen!B28="","",Einstellungen!B28) | AH15: =SUMPRODUCT(SUMIF(Einstellungen!$A$5:$A$14,C15:AF15,Einstellungen!$C$5:$C$14)) | AI15: =IF(Einstellungen!C28="","",Einstellungen!C28) | AJ15: =IF(AI15="","",AH15-AI15)
A16: 11 | B16: =IF(Einstellungen!B29="","",Einstellungen!B29) | AH16: =SUMPRODUCT(SUMIF(Einstellungen!$A$5:$A$14,C16:AF16,Einstellungen!$C$5:$C$14)) | AI16: =IF(Einstellungen!C29="","",Einstellungen!C29) | AJ16: =IF(AI16="","",AH16-AI16)
A17: 12 | B17: =IF(Einstellungen!B30="","",Einstellungen!B30) | AH17: =SUMPRODUCT(SUMIF(Einstellungen!$A$5:$A$14,C17:AF17,Einstellungen!$C$5:$C$14)) | AI17: =IF(Einstellungen!C30="","",Einstellungen!C30) | AJ17: =IF(AI17="","",AH17-AI17)
B18: Besetzung je Tag
B19: =IF(Einstellungen!A5="","",Einstellungen!B5&" ("&Einstellungen!A5&")") | C19: =IF(Einstellungen!$A$5="","",COUNTIF(C6:C17,Einstellungen!$A$5)) | D19: =IF(Einstellungen!$A$5="","",COUNTIF(D6:D17,Einstellungen!$A$5)) | E19: =IF(Einstellungen!$A$5="","",COUNTIF(E6:E17,Einstellungen!$A$5)) | F19: =IF(Einstellungen!$A$5="","",COUNTIF(F6:F17,Einstellungen!$A$5)) | G19: =IF(Einstellungen!$A$5="","",COUNTIF(G6:G17,Einstellungen!$A$5)) | H19: =IF(Einstellungen!$A$5="","",COUNTIF(H6:H17,Einstellungen!$A$5)) | I19: =IF(Einstellungen!$A$5="","",COUNTIF(I6:I17,Einstellungen!$A$5)) | J19: =IF(Einstellungen!$A$5="","",COUNTIF(J6:J17,Einstellungen!$A$5)) | ... AF19: =IF(Einstellungen!$A$5="","",COUNTIF(AF6:AF17,Einstellungen!$A$5))
B20: =IF(Einstellungen!A6="","",Einstellungen!B6&" ("&Einstellungen!A6&")") | C20: =IF(Einstellungen!$A$6="","",COUNTIF(C6:C17,Einstellungen!$A$6)) | D20: =IF(Einstellungen!$A$6="","",COUNTIF(D6:D17,Einstellungen!$A$6)) | E20: =IF(Einstellungen!$A$6="","",COUNTIF(E6:E17,Einstellungen!$A$6)) | F20: =IF(Einstellungen!$A$6="","",COUNTIF(F6:F17,Einstellungen!$A$6)) | G20: =IF(Einstellungen!$A$6="","",COUNTIF(G6:G17,Einstellungen!$A$6)) | H20: =IF(Einstellungen!$A$6="","",COUNTIF(H6:H17,Einstellungen!$A$6)) | I20: =IF(Einstellungen!$A$6="","",COUNTIF(I6:I17,Einstellungen!$A$6)) | J20: =IF(Einstellungen!$A$6="","",COUNTIF(J6:J17,Einstellungen!$A$6)) | ... AF20: =IF(Einstellungen!$A$6="","",COUNTIF(AF6:AF17,Einstellungen!$A$6))
B21: =IF(Einstellungen!A7="","",Einstellungen!B7&" ("&Einstellungen!A7&")") | C21: =IF(Einstellungen!$A$7="","",COUNTIF(C6:C17,Einstellungen!$A$7)) | D21: =IF(Einstellungen!$A$7="","",COUNTIF(D6:D17,Einstellungen!$A$7)) | E21: =IF(Einstellungen!$A$7="","",COUNTIF(E6:E17,Einstellungen!$A$7)) | F21: =IF(Einstellungen!$A$7="","",COUNTIF(F6:F17,Einstellungen!$A$7)) | G21: =IF(Einstellungen!$A$7="","",COUNTIF(G6:G17,Einstellungen!$A$7)) | H21: =IF(Einstellungen!$A$7="","",COUNTIF(H6:H17,Einstellungen!$A$7)) | I21: =IF(Einstellungen!$A$7="","",COUNTIF(I6:I17,Einstellungen!$A$7)) | J21: =IF(Einstellungen!$A$7="","",COUNTIF(J6:J17,Einstellungen!$A$7)) | ... AF21: =IF(Einstellungen!$A$7="","",COUNTIF(AF6:AF17,Einstellungen!$A$7))
B22: =IF(Einstellungen!A8="","",Einstellungen!B8&" ("&Einstellungen!A8&")") | C22: =IF(Einstellungen!$A$8="","",COUNTIF(C6:C17,Einstellungen!$A$8)) | D22: =IF(Einstellungen!$A$8="","",COUNTIF(D6:D17,Einstellungen!$A$8)) | E22: =IF(Einstellungen!$A$8="","",COUNTIF(E6:E17,Einstellungen!$A$8)) | F22: =IF(Einstellungen!$A$8="","",COUNTIF(F6:F17,Einstellungen!$A$8)) | G22: =IF(Einstellungen!$A$8="","",COUNTIF(G6:G17,Einstellungen!$A$8)) | H22: =IF(Einstellungen!$A$8="","",COUNTIF(H6:H17,Einstellungen!$A$8)) | I22: =IF(Einstellungen!$A$8="","",COUNTIF(I6:I17,Einstellungen!$A$8)) | J22: =IF(Einstellungen!$A$8="","",COUNTIF(J6:J17,Einstellungen!$A$8)) | ... AF22: =IF(Einstellungen!$A$8="","",COUNTIF(AF6:AF17,Einstellungen!$A$8))
B24: Feiertage: keine

Sheet Mai
A1: Dienstplan Mai 2027
A2: Je Tag ein Kürzel wählen (Liste in der Zelle). Kürzel und Stunden stehen im Blatt „Einstellungen“.
C4: Sa | D4: So | E4: Mo | F4: Di | G4: Mi | H4: Do | I4: Fr | J4: Sa | K4: So | L4: Mo | M4: Di | N4: Mi | O4: Do | P4: Fr | Q4: Sa | R4: So | S4: Mo | T4: Di | U4: Mi | V4: Do | W4: Fr | X4: Sa | Y4: So | Z4: Mo | AA4: Di | AB4: Mi | AC4: Do | AD4: Fr | AE4: Sa | AF4: So | AG4: Mo
A5: Nr. | B5: Name | C5: 1 | D5: 2 | E5: 3 | F5: 4 | G5: 5 | H5: 6 | I5: 7 | J5: 8 | K5: 9 | L5: 10 | M5: 11 | N5: 12 | O5: 13 | P5: 14 | Q5: 15 | R5: 16 | S5: 17 | T5: 18 | U5: 19 | V5: 20 | W5: 21 | X5: 22 | Y5: 23 | Z5: 24 | AA5: 25 | AB5: 26 | AC5: 27 | AD5: 28 | AE5: 29 | AF5: 30 | AG5: 31 | AH5: Stunden | AI5: Soll | AJ5: + / −
A6: 1 | B6: =IF(Einstellungen!B19="","",Einstellungen!B19) | AH6: =SUMPRODUCT(SUMIF(Einstellungen!$A$5:$A$14,C6:AG6,Einstellungen!$C$5:$C$14)) | AI6: =IF(Einstellungen!C19="","",Einstellungen!C19) | AJ6: =IF(AI6="","",AH6-AI6)
A7: 2 | B7: =IF(Einstellungen!B20="","",Einstellungen!B20) | AH7: =SUMPRODUCT(SUMIF(Einstellungen!$A$5:$A$14,C7:AG7,Einstellungen!$C$5:$C$14)) | AI7: =IF(Einstellungen!C20="","",Einstellungen!C20) | AJ7: =IF(AI7="","",AH7-AI7)
A8: 3 | B8: =IF(Einstellungen!B21="","",Einstellungen!B21) | AH8: =SUMPRODUCT(SUMIF(Einstellungen!$A$5:$A$14,C8:AG8,Einstellungen!$C$5:$C$14)) | AI8: =IF(Einstellungen!C21="","",Einstellungen!C21) | AJ8: =IF(AI8="","",AH8-AI8)
A9: 4 | B9: =IF(Einstellungen!B22="","",Einstellungen!B22) | AH9: =SUMPRODUCT(SUMIF(Einstellungen!$A$5:$A$14,C9:AG9,Einstellungen!$C$5:$C$14)) | AI9: =IF(Einstellungen!C22="","",Einstellungen!C22) | AJ9: =IF(AI9="","",AH9-AI9)
A10: 5 | B10: =IF(Einstellungen!B23="","",Einstellungen!B23) | AH10: =SUMPRODUCT(SUMIF(Einstellungen!$A$5:$A$14,C10:AG10,Einstellungen!$C$5:$C$14)) | AI10: =IF(Einstellungen!C23="","",Einstellungen!C23) | AJ10: =IF(AI10="","",AH10-AI10)
A11: 6 | B11: =IF(Einstellungen!B24="","",Einstellungen!B24) | AH11: =SUMPRODUCT(SUMIF(Einstellungen!$A$5:$A$14,C11:AG11,Einstellungen!$C$5:$C$14)) | AI11: =IF(Einstellungen!C24="","",Einstellungen!C24) | AJ11: =IF(AI11="","",AH11-AI11)
A12: 7 | B12: =IF(Einstellungen!B25="","",Einstellungen!B25) | AH12: =SUMPRODUCT(SUMIF(Einstellungen!$A$5:$A$14,C12:AG12,Einstellungen!$C$5:$C$14)) | AI12: =IF(Einstellungen!C25="","",Einstellungen!C25) | AJ12: =IF(AI12="","",AH12-AI12)
A13: 8 | B13: =IF(Einstellungen!B26="","",Einstellungen!B26) | AH13: =SUMPRODUCT(SUMIF(Einstellungen!$A$5:$A$14,C13:AG13,Einstellungen!$C$5:$C$14)) | AI13: =IF(Einstellungen!C26="","",Einstellungen!C26) | AJ13: =IF(AI13="","",AH13-AI13)
A14: 9 | B14: =IF(Einstellungen!B27="","",Einstellungen!B27) | AH14: =SUMPRODUCT(SUMIF(Einstellungen!$A$5:$A$14,C14:AG14,Einstellungen!$C$5:$C$14)) | AI14: =IF(Einstellungen!C27="","",Einstellungen!C27) | AJ14: =IF(AI14="","",AH14-AI14)
A15: 10 | B15: =IF(Einstellungen!B28="","",Einstellungen!B28) | AH15: =SUMPRODUCT(SUMIF(Einstellungen!$A$5:$A$14,C15:AG15,Einstellungen!$C$5:$C$14)) | AI15: =IF(Einstellungen!C28="","",Einstellungen!C28) | AJ15: =IF(AI15="","",AH15-AI15)
A16: 11 | B16: =IF(Einstellungen!B29="","",Einstellungen!B29) | AH16: =SUMPRODUCT(SUMIF(Einstellungen!$A$5:$A$14,C16:AG16,Einstellungen!$C$5:$C$14)) | AI16: =IF(Einstellungen!C29="","",Einstellungen!C29) | AJ16: =IF(AI16="","",AH16-AI16)
A17: 12 | B17: =IF(Einstellungen!B30="","",Einstellungen!B30) | AH17: =SUMPRODUCT(SUMIF(Einstellungen!$A$5:$A$14,C17:AG17,Einstellungen!$C$5:$C$14)) | AI17: =IF(Einstellungen!C30="","",Einstellungen!C30) | AJ17: =IF(AI17="","",AH17-AI17)
B18: Besetzung je Tag
B19: =IF(Einstellungen!A5="","",Einstellungen!B5&" ("&Einstellungen!A5&")") | C19: =IF(Einstellungen!$A$5="","",COUNTIF(C6:C17,Einstellungen!$A$5)) | D19: =IF(Einstellungen!$A$5="","",COUNTIF(D6:D17,Einstellungen!$A$5)) | E19: =IF(Einstellungen!$A$5="","",COUNTIF(E6:E17,Einstellungen!$A$5)) | F19: =IF(Einstellungen!$A$5="","",COUNTIF(F6:F17,Einstellungen!$A$5)) | G19: =IF(Einstellungen!$A$5="","",COUNTIF(G6:G17,Einstellungen!$A$5)) | H19: =IF(Einstellungen!$A$5="","",COUNTIF(H6:H17,Einstellungen!$A$5)) | I19: =IF(Einstellungen!$A$5="","",COUNTIF(I6:I17,Einstellungen!$A$5)) | J19: =IF(Einstellungen!$A$5="","",COUNTIF(J6:J17,Einstellungen!$A$5)) | ... AG19: =IF(Einstellungen!$A$5="","",COUNTIF(AG6:AG17,Einstellungen!$A$5))
B20: =IF(Einstellungen!A6="","",Einstellungen!B6&" ("&Einstellungen!A6&")") | C20: =IF(Einstellungen!$A$6="","",COUNTIF(C6:C17,Einstellungen!$A$6)) | D20: =IF(Einstellungen!$A$6="","",COUNTIF(D6:D17,Einstellungen!$A$6)) | E20: =IF(Einstellungen!$A$6="","",COUNTIF(E6:E17,Einstellungen!$A$6)) | F20: =IF(Einstellungen!$A$6="","",COUNTIF(F6:F17,Einstellungen!$A$6)) | G20: =IF(Einstellungen!$A$6="","",COUNTIF(G6:G17,Einstellungen!$A$6)) | H20: =IF(Einstellungen!$A$6="","",COUNTIF(H6:H17,Einstellungen!$A$6)) | I20: =IF(Einstellungen!$A$6="","",COUNTIF(I6:I17,Einstellungen!$A$6)) | J20: =IF(Einstellungen!$A$6="","",COUNTIF(J6:J17,Einstellungen!$A$6)) | ... AG20: =IF(Einstellungen!$A$6="","",COUNTIF(AG6:AG17,Einstellungen!$A$6))
B21: =IF(Einstellungen!A7="","",Einstellungen!B7&" ("&Einstellungen!A7&")") | C21: =IF(Einstellungen!$A$7="","",COUNTIF(C6:C17,Einstellungen!$A$7)) | D21: =IF(Einstellungen!$A$7="","",COUNTIF(D6:D17,Einstellungen!$A$7)) | E21: =IF(Einstellungen!$A$7="","",COUNTIF(E6:E17,Einstellungen!$A$7)) | F21: =IF(Einstellungen!$A$7="","",COUNTIF(F6:F17,Einstellungen!$A$7)) | G21: =IF(Einstellungen!$A$7="","",COUNTIF(G6:G17,Einstellungen!$A$7)) | H21: =IF(Einstellungen!$A$7="","",COUNTIF(H6:H17,Einstellungen!$A$7)) | I21: =IF(Einstellungen!$A$7="","",COUNTIF(I6:I17,Einstellungen!$A$7)) | J21: =IF(Einstellungen!$A$7="","",COUNTIF(J6:J17,Einstellungen!$A$7)) | ... AG21: =IF(Einstellungen!$A$7="","",COUNTIF(AG6:AG17,Einstellungen!$A$7))
B22: =IF(Einstellungen!A8="","",Einstellungen!B8&" ("&Einstellungen!A8&")") | C22: =IF(Einstellungen!$A$8="","",COUNTIF(C6:C17,Einstellungen!$A$8)) | D22: =IF(Einstellungen!$A$8="","",COUNTIF(D6:D17,Einstellungen!$A$8)) | E22: =IF(Einstellungen!$A$8="","",COUNTIF(E6:E17,Einstellungen!$A$8)) | F22: =IF(Einstellungen!$A$8="","",COUNTIF(F6:F17,Einstellungen!$A$8)) | G22: =IF(Einstellungen!$A$8="","",COUNTIF(G6:G17,Einstellungen!$A$8)) | H22: =IF(Einstellungen!$A$8="","",COUNTIF(H6:H17,Einstellungen!$A$8)) | I22: =IF(Einstellungen!$A$8="","",COUNTIF(I6:I17,Einstellungen!$A$8)) | J22: =IF(Einstellungen!$A$8="","",COUNTIF(J6:J17,Einstellungen!$A$8)) | ... AG22: =IF(Einstellungen!$A$8="","",COUNTIF(AG6:AG17,Einstellungen!$A$8))
B24: Feiertage: 1. Tag der Arbeit; 6. Christi Himmelfahrt; 17. Pfingstmontag

Sheet Juni
A1: Dienstplan Juni 2027
A2: Je Tag ein Kürzel wählen (Liste in der Zelle). Kürzel und Stunden stehen im Blatt „Einstellungen“.
C4: Di | D4: Mi | E4: Do | F4: Fr | G4: Sa | H4: So | I4: Mo | J4: Di | K4: Mi | L4: Do | M4: Fr | N4: Sa | O4: So | P4: Mo | Q4: Di | R4: Mi | S4: Do | T4: Fr | U4: Sa | V4: So | W4: Mo | X4: Di | Y4: Mi | Z4: Do | AA4: Fr | AB4: Sa | AC4: So | AD4: Mo | AE4: Di | AF4: Mi
A5: Nr. | B5: Name | C5: 1 | D5: 2 | E5: 3 | F5: 4 | G5: 5 | H5: 6 | I5: 7 | J5: 8 | K5: 9 | L5: 10 | M5: 11 | N5: 12 | O5: 13 | P5: 14 | Q5: 15 | R5: 16 | S5: 17 | T5: 18 | U5: 19 | V5: 20 | W5: 21 | X5: 22 | Y5: 23 | Z5: 24 | AA5: 25 | AB5: 26 | AC5: 27 | AD5: 28 | AE5: 29 | AF5: 30 | AH5: Stunden | AI5: Soll | AJ5: + / −
A6: 1 | B6: =IF(Einstellungen!B19="","",Einstellungen!B19) | AH6: =SUMPRODUCT(SUMIF(Einstellungen!$A$5:$A$14,C6:AF6,Einstellungen!$C$5:$C$14)) | AI6: =IF(Einstellungen!C19="","",Einstellungen!C19) | AJ6: =IF(AI6="","",AH6-AI6)
A7: 2 | B7: =IF(Einstellungen!B20="","",Einstellungen!B20) | AH7: =SUMPRODUCT(SUMIF(Einstellungen!$A$5:$A$14,C7:AF7,Einstellungen!$C$5:$C$14)) | AI7: =IF(Einstellungen!C20="","",Einstellungen!C20) | AJ7: =IF(AI7="","",AH7-AI7)
A8: 3 | B8: =IF(Einstellungen!B21="","",Einstellungen!B21) | AH8: =SUMPRODUCT(SUMIF(Einstellungen!$A$5:$A$14,C8:AF8,Einstellungen!$C$5:$C$14)) | AI8: =IF(Einstellungen!C21="","",Einstellungen!C21) | AJ8: =IF(AI8="","",AH8-AI8)
A9: 4 | B9: =IF(Einstellungen!B22="","",Einstellungen!B22) | AH9: =SUMPRODUCT(SUMIF(Einstellungen!$A$5:$A$14,C9:AF9,Einstellungen!$C$5:$C$14)) | AI9: =IF(Einstellungen!C22="","",Einstellungen!C22) | AJ9: =IF(AI9="","",AH9-AI9)
A10: 5 | B10: =IF(Einstellungen!B23="","",Einstellungen!B23) | AH10: =SUMPRODUCT(SUMIF(Einstellungen!$A$5:$A$14,C10:AF10,Einstellungen!$C$5:$C$14)) | AI10: =IF(Einstellungen!C23="","",Einstellungen!C23) | AJ10: =IF(AI10="","",AH10-AI10)
A11: 6 | B11: =IF(Einstellungen!B24="","",Einstellungen!B24) | AH11: =SUMPRODUCT(SUMIF(Einstellungen!$A$5:$A$14,C11:AF11,Einstellungen!$C$5:$C$14)) | AI11: =IF(Einstellungen!C24="","",Einstellungen!C24) | AJ11: =IF(AI11="","",AH11-AI11)
A12: 7 | B12: =IF(Einstellungen!B25="","",Einstellungen!B25) | AH12: =SUMPRODUCT(SUMIF(Einstellungen!$A$5:$A$14,C12:AF12,Einstellungen!$C$5:$C$14)) | AI12: =IF(Einstellungen!C25="","",Einstellungen!C25) | AJ12: =IF(AI12="","",AH12-AI12)
A13: 8 | B13: =IF(Einstellungen!B26="","",Einstellungen!B26) | AH13: =SUMPRODUCT(SUMIF(Einstellungen!$A$5:$A$14,C13:AF13,Einstellungen!$C$5:$C$14)) | AI13: =IF(Einstellungen!C26="","",Einstellungen!C26) | AJ13: =IF(AI13="","",AH13-AI13)
A14: 9 | B14: =IF(Einstellungen!B27="","",Einstellungen!B27) | AH14: =SUMPRODUCT(SUMIF(Einstellungen!$A$5:$A$14,C14:AF14,Einstellungen!$C$5:$C$14)) | AI14: =IF(Einstellungen!C27="","",Einstellungen!C27) | AJ14: =IF(AI14="","",AH14-AI14)
A15: 10 | B15: =IF(Einstellungen!B28="","",Einstellungen!B28) | AH15: =SUMPRODUCT(SUMIF(Einstellungen!$A$5:$A$14,C15:AF15,Einstellungen!$C$5:$C$14)) | AI15: =IF(Einstellungen!C28="","",Einstellungen!C28) | AJ15: =IF(AI15="","",AH15-AI15)
A16: 11 | B16: =IF(Einstellungen!B29="","",Einstellungen!B29) | AH16: =SUMPRODUCT(SUMIF(Einstellungen!$A$5:$A$14,C16:AF16,Einstellungen!$C$5:$C$14)) | AI16: =IF(Einstellungen!C29="","",Einstellungen!C29) | AJ16: =IF(AI16="","",AH16-AI16)
A17: 12 | B17: =IF(Einstellungen!B30="","",Einstellungen!B30) | AH17: =SUMPRODUCT(SUMIF(Einstellungen!$A$5:$A$14,C17:AF17,Einstellungen!$C$5:$C$14)) | AI17: =IF(Einstellungen!C30="","",Einstellungen!C30) | AJ17: =IF(AI17="","",AH17-AI17)
B18: Besetzung je Tag
B19: =IF(Einstellungen!A5="","",Einstellungen!B5&" ("&Einstellungen!A5&")") | C19: =IF(Einstellungen!$A$5="","",COUNTIF(C6:C17,Einstellungen!$A$5)) | D19: =IF(Einstellungen!$A$5="","",COUNTIF(D6:D17,Einstellungen!$A$5)) | E19: =IF(Einstellungen!$A$5="","",COUNTIF(E6:E17,Einstellungen!$A$5)) | F19: =IF(Einstellungen!$A$5="","",COUNTIF(F6:F17,Einstellungen!$A$5)) | G19: =IF(Einstellungen!$A$5="","",COUNTIF(G6:G17,Einstellungen!$A$5)) | H19: =IF(Einstellungen!$A$5="","",COUNTIF(H6:H17,Einstellungen!$A$5)) | I19: =IF(Einstellungen!$A$5="","",COUNTIF(I6:I17,Einstellungen!$A$5)) | J19: =IF(Einstellungen!$A$5="","",COUNTIF(J6:J17,Einstellungen!$A$5)) | ... AF19: =IF(Einstellungen!$A$5="","",COUNTIF(AF6:AF17,Einstellungen!$A$5))
B20: =IF(Einstellungen!A6="","",Einstellungen!B6&" ("&Einstellungen!A6&")") | C20: =IF(Einstellungen!$A$6="","",COUNTIF(C6:C17,Einstellungen!$A$6)) | D20: =IF(Einstellungen!$A$6="","",COUNTIF(D6:D17,Einstellungen!$A$6)) | E20: =IF(Einstellungen!$A$6="","",COUNTIF(E6:E17,Einstellungen!$A$6)) | F20: =IF(Einstellungen!$A$6="","",COUNTIF(F6:F17,Einstellungen!$A$6)) | G20: =IF(Einstellungen!$A$6="","",COUNTIF(G6:G17,Einstellungen!$A$6)) | H20: =IF(Einstellungen!$A$6="","",COUNTIF(H6:H17,Einstellungen!$A$6)) | I20: =IF(Einstellungen!$A$6="","",COUNTIF(I6:I17,Einstellungen!$A$6)) | J20: =IF(Einstellungen!$A$6="","",COUNTIF(J6:J17,Einstellungen!$A$6)) | ... AF20: =IF(Einstellungen!$A$6="","",COUNTIF(AF6:AF17,Einstellungen!$A$6))
B21: =IF(Einstellungen!A7="","",Einstellungen!B7&" ("&Einstellungen!A7&")") | C21: =IF(Einstellungen!$A$7="","",COUNTIF(C6:C17,Einstellungen!$A$7)) | D21: =IF(Einstellungen!$A$7="","",COUNTIF(D6:D17,Einstellungen!$A$7)) | E21: =IF(Einstellungen!$A$7="","",COUNTIF(E6:E17,Einstellungen!$A$7)) | F21: =IF(Einstellungen!$A$7="","",COUNTIF(F6:F17,Einstellungen!$A$7)) | G21: =IF(Einstellungen!$A$7="","",COUNTIF(G6:G17,Einstellungen!$A$7)) | H21: =IF(Einstellungen!$A$7="","",COUNTIF(H6:H17,Einstellungen!$A$7)) | I21: =IF(Einstellungen!$A$7="","",COUNTIF(I6:I17,Einstellungen!$A$7)) | J21: =IF(Einstellungen!$A$7="","",COUNTIF(J6:J17,Einstellungen!$A$7)) | ... AF21: =IF(Einstellungen!$A$7="","",COUNTIF(AF6:AF17,Einstellungen!$A$7))
B22: =IF(Einstellungen!A8="","",Einstellungen!B8&" ("&Einstellungen!A8&")") | C22: =IF(Einstellungen!$A$8="","",COUNTIF(C6:C17,Einstellungen!$A$8)) | D22: =IF(Einstellungen!$A$8="","",COUNTIF(D6:D17,Einstellungen!$A$8)) | E22: =IF(Einstellungen!$A$8="","",COUNTIF(E6:E17,Einstellungen!$A$8)) | F22: =IF(Einstellungen!$A$8="","",COUNTIF(F6:F17,Einstellungen!$A$8)) | G22: =IF(Einstellungen!$A$8="","",COUNTIF(G6:G17,Einstellungen!$A$8)) | H22: =IF(Einstellungen!$A$8="","",COUNTIF(H6:H17,Einstellungen!$A$8)) | I22: =IF(Einstellungen!$A$8="","",COUNTIF(I6:I17,Einstellungen!$A$8)) | J22: =IF(Einstellungen!$A$8="","",COUNTIF(J6:J17,Einstellungen!$A$8)) | ... AF22: =IF(Einstellungen!$A$8="","",COUNTIF(AF6:AF17,Einstellungen!$A$8))
B24: Feiertage: keine

Sheet Juli
A1: Dienstplan Juli 2027
A2: Je Tag ein Kürzel wählen (Liste in der Zelle). Kürzel und Stunden stehen im Blatt „Einstellungen“.
C4: Do | D4: Fr | E4: Sa | F4: So | G4: Mo | H4: Di | I4: Mi | J4: Do | K4: Fr | L4: Sa | M4: So | N4: Mo | O4: Di | P4: Mi | Q4: Do | R4: Fr | S4: Sa | T4: So | U4: Mo | V4: Di | W4: Mi | X4: Do | Y4: Fr | Z4: Sa | AA4: So | AB4: Mo | AC4: Di | AD4: Mi | AE4: Do | AF4: Fr | AG4: Sa
A5: Nr. | B5: Name | C5: 1 | D5: 2 | E5: 3 | F5: 4 | G5: 5 | H5: 6 | I5: 7 | J5: 8 | K5: 9 | L5: 10 | M5: 11 | N5: 12 | O5: 13 | P5: 14 | Q5: 15 | R5: 16 | S5: 17 | T5: 18 | U5: 19 | V5: 20 | W5: 21 | X5: 22 | Y5: 23 | Z5: 24 | AA5: 25 | AB5: 26 | AC5: 27 | AD5: 28 | AE5: 29 | AF5: 30 | AG5: 31 | AH5: Stunden | AI5: Soll | AJ5: + / −
A6: 1 | B6: =IF(Einstellungen!B19="","",Einstellungen!B19) | AH6: =SUMPRODUCT(SUMIF(Einstellungen!$A$5:$A$14,C6:AG6,Einstellungen!$C$5:$C$14)) | AI6: =IF(Einstellungen!C19="","",Einstellungen!C19) | AJ6: =IF(AI6="","",AH6-AI6)
A7: 2 | B7: =IF(Einstellungen!B20="","",Einstellungen!B20) | AH7: =SUMPRODUCT(SUMIF(Einstellungen!$A$5:$A$14,C7:AG7,Einstellungen!$C$5:$C$14)) | AI7: =IF(Einstellungen!C20="","",Einstellungen!C20) | AJ7: =IF(AI7="","",AH7-AI7)
A8: 3 | B8: =IF(Einstellungen!B21="","",Einstellungen!B21) | AH8: =SUMPRODUCT(SUMIF(Einstellungen!$A$5:$A$14,C8:AG8,Einstellungen!$C$5:$C$14)) | AI8: =IF(Einstellungen!C21="","",Einstellungen!C21) | AJ8: =IF(AI8="","",AH8-AI8)
A9: 4 | B9: =IF(Einstellungen!B22="","",Einstellungen!B22) | AH9: =SUMPRODUCT(SUMIF(Einstellungen!$A$5:$A$14,C9:AG9,Einstellungen!$C$5:$C$14)) | AI9: =IF(Einstellungen!C22="","",Einstellungen!C22) | AJ9: =IF(AI9="","",AH9-AI9)
A10: 5 | B10: =IF(Einstellungen!B23="","",Einstellungen!B23) | AH10: =SUMPRODUCT(SUMIF(Einstellungen!$A$5:$A$14,C10:AG10,Einstellungen!$C$5:$C$14)) | AI10: =IF(Einstellungen!C23="","",Einstellungen!C23) | AJ10: =IF(AI10="","",AH10-AI10)
A11: 6 | B11: =IF(Einstellungen!B24="","",Einstellungen!B24) | AH11: =SUMPRODUCT(SUMIF(Einstellungen!$A$5:$A$14,C11:AG11,Einstellungen!$C$5:$C$14)) | AI11: =IF(Einstellungen!C24="","",Einstellungen!C24) | AJ11: =IF(AI11="","",AH11-AI11)
A12: 7 | B12: =IF(Einstellungen!B25="","",Einstellungen!B25) | AH12: =SUMPRODUCT(SUMIF(Einstellungen!$A$5:$A$14,C12:AG12,Einstellungen!$C$5:$C$14)) | AI12: =IF(Einstellungen!C25="","",Einstellungen!C25) | AJ12: =IF(AI12="","",AH12-AI12)
A13: 8 | B13: =IF(Einstellungen!B26="","",Einstellungen!B26) | AH13: =SUMPRODUCT(SUMIF(Einstellungen!$A$5:$A$14,C13:AG13,Einstellungen!$C$5:$C$14)) | AI13: =IF(Einstellungen!C26="","",Einstellungen!C26) | AJ13: =IF(AI13="","",AH13-AI13)
A14: 9 | B14: =IF(Einstellungen!B27="","",Einstellungen!B27) | AH14: =SUMPRODUCT(SUMIF(Einstellungen!$A$5:$A$14,C14:AG14,Einstellungen!$C$5:$C$14)) | AI14: =IF(Einstellungen!C27="","",Einstellungen!C27) | AJ14: =IF(AI14="","",AH14-AI14)
A15: 10 | B15: =IF(Einstellungen!B28="","",Einstellungen!B28) | AH15: =SUMPRODUCT(SUMIF(Einstellungen!$A$5:$A$14,C15:AG15,Einstellungen!$C$5:$C$14)) | AI15: =IF(Einstellungen!C28="","",Einstellungen!C28) | AJ15: =IF(AI15="","",AH15-AI15)
A16: 11 | B16: =IF(Einstellungen!B29="","",Einstellungen!B29) | AH16: =SUMPRODUCT(SUMIF(Einstellungen!$A$5:$A$14,C16:AG16,Einstellungen!$C$5:$C$14)) | AI16: =IF(Einstellungen!C29="","",Einstellungen!C29) | AJ16: =IF(AI16="","",AH16-AI16)
A17: 12 | B17: =IF(Einstellungen!B30="","",Einstellungen!B30) | AH17: =SUMPRODUCT(SUMIF(Einstellungen!$A$5:$A$14,C17:AG17,Einstellungen!$C$5:$C$14)) | AI17: =IF(Einstellungen!C30="","",Einstellungen!C30) | AJ17: =IF(AI17="","",AH17-AI17)
B18: Besetzung je Tag
B19: =IF(Einstellungen!A5="","",Einstellungen!B5&" ("&Einstellungen!A5&")") | C19: =IF(Einstellungen!$A$5="","",COUNTIF(C6:C17,Einstellungen!$A$5)) | D19: =IF(Einstellungen!$A$5="","",COUNTIF(D6:D17,Einstellungen!$A$5)) | E19: =IF(Einstellungen!$A$5="","",COUNTIF(E6:E17,Einstellungen!$A$5)) | F19: =IF(Einstellungen!$A$5="","",COUNTIF(F6:F17,Einstellungen!$A$5)) | G19: =IF(Einstellungen!$A$5="","",COUNTIF(G6:G17,Einstellungen!$A$5)) | H19: =IF(Einstellungen!$A$5="","",COUNTIF(H6:H17,Einstellungen!$A$5)) | I19: =IF(Einstellungen!$A$5="","",COUNTIF(I6:I17,Einstellungen!$A$5)) | J19: =IF(Einstellungen!$A$5="","",COUNTIF(J6:J17,Einstellungen!$A$5)) | ... AG19: =IF(Einstellungen!$A$5="","",COUNTIF(AG6:AG17,Einstellungen!$A$5))
B20: =IF(Einstellungen!A6="","",Einstellungen!B6&" ("&Einstellungen!A6&")") | C20: =IF(Einstellungen!$A$6="","",COUNTIF(C6:C17,Einstellungen!$A$6)) | D20: =IF(Einstellungen!$A$6="","",COUNTIF(D6:D17,Einstellungen!$A$6)) | E20: =IF(Einstellungen!$A$6="","",COUNTIF(E6:E17,Einstellungen!$A$6)) | F20: =IF(Einstellungen!$A$6="","",COUNTIF(F6:F17,Einstellungen!$A$6)) | G20: =IF(Einstellungen!$A$6="","",COUNTIF(G6:G17,Einstellungen!$A$6)) | H20: =IF(Einstellungen!$A$6="","",COUNTIF(H6:H17,Einstellungen!$A$6)) | I20: =IF(Einstellungen!$A$6="","",COUNTIF(I6:I17,Einstellungen!$A$6)) | J20: =IF(Einstellungen!$A$6="","",COUNTIF(J6:J17,Einstellungen!$A$6)) | ... AG20: =IF(Einstellungen!$A$6="","",COUNTIF(AG6:AG17,Einstellungen!$A$6))
B21: =IF(Einstellungen!A7="","",Einstellungen!B7&" ("&Einstellungen!A7&")") | C21: =IF(Einstellungen!$A$7="","",COUNTIF(C6:C17,Einstellungen!$A$7)) | D21: =IF(Einstellungen!$A$7="","",COUNTIF(D6:D17,Einstellungen!$A$7)) | E21: =IF(Einstellungen!$A$7="","",COUNTIF(E6:E17,Einstellungen!$A$7)) | F21: =IF(Einstellungen!$A$7="","",COUNTIF(F6:F17,Einstellungen!$A$7)) | G21: =IF(Einstellungen!$A$7="","",COUNTIF(G6:G17,Einstellungen!$A$7)) | H21: =IF(Einstellungen!$A$7="","",COUNTIF(H6:H17,Einstellungen!$A$7)) | I21: =IF(Einstellungen!$A$7="","",COUNTIF(I6:I17,Einstellungen!$A$7)) | J21: =IF(Einstellungen!$A$7="","",COUNTIF(J6:J17,Einstellungen!$A$7)) | ... AG21: =IF(Einstellungen!$A$7="","",COUNTIF(AG6:AG17,Einstellungen!$A$7))
B22: =IF(Einstellungen!A8="","",Einstellungen!B8&" ("&Einstellungen!A8&")") | C22: =IF(Einstellungen!$A$8="","",COUNTIF(C6:C17,Einstellungen!$A$8)) | D22: =IF(Einstellungen!$A$8="","",COUNTIF(D6:D17,Einstellungen!$A$8)) | E22: =IF(Einstellungen!$A$8="","",COUNTIF(E6:E17,Einstellungen!$A$8)) | F22: =IF(Einstellungen!$A$8="","",COUNTIF(F6:F17,Einstellungen!$A$8)) | G22: =IF(Einstellungen!$A$8="","",COUNTIF(G6:G17,Einstellungen!$A$8)) | H22: =IF(Einstellungen!$A$8="","",COUNTIF(H6:H17,Einstellungen!$A$8)) | I22: =IF(Einstellungen!$A$8="","",COUNTIF(I6:I17,Einstellungen!$A$8)) | J22: =IF(Einstellungen!$A$8="","",COUNTIF(J6:J17,Einstellungen!$A$8)) | ... AG22: =IF(Einstellungen!$A$8="","",COUNTIF(AG6:AG17,Einstellungen!$A$8))
B24: Feiertage: keine

Sheet August
A1: Dienstplan August 2027
A2: Je Tag ein Kürzel wählen (Liste in der Zelle). Kürzel und Stunden stehen im Blatt „Einstellungen“.
C4: So | D4: Mo | E4: Di | F4: Mi | G4: Do | H4: Fr | I4: Sa | J4: So | K4: Mo | L4: Di | M4: Mi | N4: Do | O4: Fr | P4: Sa | Q4: So | R4: Mo | S4: Di | T4: Mi | U4: Do | V4: Fr | W4: Sa | X4: So | Y4: Mo | Z4: Di | AA4: Mi | AB4: Do | AC4: Fr | AD4: Sa | AE4: So | AF4: Mo | AG4: Di
A5: Nr. | B5: Name | C5: 1 | D5: 2 | E5: 3 | F5: 4 | G5: 5 | H5: 6 | I5: 7 | J5: 8 | K5: 9 | L5: 10 | M5: 11 | N5: 12 | O5: 13 | P5: 14 | Q5: 15 | R5: 16 | S5: 17 | T5: 18 | U5: 19 | V5: 20 | W5: 21 | X5: 22 | Y5: 23 | Z5: 24 | AA5: 25 | AB5: 26 | AC5: 27 | AD5: 28 | AE5: 29 | AF5: 30 | AG5: 31 | AH5: Stunden | AI5: Soll | AJ5: + / −
A6: 1 | B6: =IF(Einstellungen!B19="","",Einstellungen!B19) | AH6: =SUMPRODUCT(SUMIF(Einstellungen!$A$5:$A$14,C6:AG6,Einstellungen!$C$5:$C$14)) | AI6: =IF(Einstellungen!C19="","",Einstellungen!C19) | AJ6: =IF(AI6="","",AH6-AI6)
A7: 2 | B7: =IF(Einstellungen!B20="","",Einstellungen!B20) | AH7: =SUMPRODUCT(SUMIF(Einstellungen!$A$5:$A$14,C7:AG7,Einstellungen!$C$5:$C$14)) | AI7: =IF(Einstellungen!C20="","",Einstellungen!C20) | AJ7: =IF(AI7="","",AH7-AI7)
A8: 3 | B8: =IF(Einstellungen!B21="","",Einstellungen!B21) | AH8: =SUMPRODUCT(SUMIF(Einstellungen!$A$5:$A$14,C8:AG8,Einstellungen!$C$5:$C$14)) | AI8: =IF(Einstellungen!C21="","",Einstellungen!C21) | AJ8: =IF(AI8="","",AH8-AI8)
A9: 4 | B9: =IF(Einstellungen!B22="","",Einstellungen!B22) | AH9: =SUMPRODUCT(SUMIF(Einstellungen!$A$5:$A$14,C9:AG9,Einstellungen!$C$5:$C$14)) | AI9: =IF(Einstellungen!C22="","",Einstellungen!C22) | AJ9: =IF(AI9="","",AH9-AI9)
A10: 5 | B10: =IF(Einstellungen!B23="","",Einstellungen!B23) | AH10: =SUMPRODUCT(SUMIF(Einstellungen!$A$5:$A$14,C10:AG10,Einstellungen!$C$5:$C$14)) | AI10: =IF(Einstellungen!C23="","",Einstellungen!C23) | AJ10: =IF(AI10="","",AH10-AI10)
A11: 6 | B11: =IF(Einstellungen!B24="","",Einstellungen!B24) | AH11: =SUMPRODUCT(SUMIF(Einstellungen!$A$5:$A$14,C11:AG11,Einstellungen!$C$5:$C$14)) | AI11: =IF(Einstellungen!C24="","",Einstellungen!C24) | AJ11: =IF(AI11="","",AH11-AI11)
A12: 7 | B12: =IF(Einstellungen!B25="","",Einstellungen!B25) | AH12: =SUMPRODUCT(SUMIF(Einstellungen!$A$5:$A$14,C12:AG12,Einstellungen!$C$5:$C$14)) | AI12: =IF(Einstellungen!C25="","",Einstellungen!C25) | AJ12: =IF(AI12="","",AH12-AI12)
A13: 8 | B13: =IF(Einstellungen!B26="","",Einstellungen!B26) | AH13: =SUMPRODUCT(SUMIF(Einstellungen!$A$5:$A$14,C13:AG13,Einstellungen!$C$5:$C$14)) | AI13: =IF(Einstellungen!C26="","",Einstellungen!C26) | AJ13: =IF(AI13="","",AH13-AI13)
A14: 9 | B14: =IF(Einstellungen!B27="","",Einstellungen!B27) | AH14: =SUMPRODUCT(SUMIF(Einstellungen!$A$5:$A$14,C14:AG14,Einstellungen!$C$5:$C$14)) | AI14: =IF(Einstellungen!C27="","",Einstellungen!C27) | AJ14: =IF(AI14="","",AH14-AI14)
A15: 10 | B15: =IF(Einstellungen!B28="","",Einstellungen!B28) | AH15: =SUMPRODUCT(SUMIF(Einstellungen!$A$5:$A$14,C15:AG15,Einstellungen!$C$5:$C$14)) | AI15: =IF(Einstellungen!C28="","",Einstellungen!C28) | AJ15: =IF(AI15="","",AH15-AI15)
A16: 11 | B16: =IF(Einstellungen!B29="","",Einstellungen!B29) | AH16: =SUMPRODUCT(SUMIF(Einstellungen!$A$5:$A$14,C16:AG16,Einstellungen!$C$5:$C$14)) | AI16: =IF(Einstellungen!C29="","",Einstellungen!C29) | AJ16: =IF(AI16="","",AH16-AI16)
A17: 12 | B17: =IF(Einstellungen!B30="","",Einstellungen!B30) | AH17: =SUMPRODUCT(SUMIF(Einstellungen!$A$5:$A$14,C17:AG17,Einstellungen!$C$5:$C$14)) | AI17: =IF(Einstellungen!C30="","",Einstellungen!C30) | AJ17: =IF(AI17="","",AH17-AI17)
B18: Besetzung je Tag
B19: =IF(Einstellungen!A5="","",Einstellungen!B5&" ("&Einstellungen!A5&")") | C19: =IF(Einstellungen!$A$5="","",COUNTIF(C6:C17,Einstellungen!$A$5)) | D19: =IF(Einstellungen!$A$5="","",COUNTIF(D6:D17,Einstellungen!$A$5)) | E19: =IF(Einstellungen!$A$5="","",COUNTIF(E6:E17,Einstellungen!$A$5)) | F19: =IF(Einstellungen!$A$5="","",COUNTIF(F6:F17,Einstellungen!$A$5)) | G19: =IF(Einstellungen!$A$5="","",COUNTIF(G6:G17,Einstellungen!$A$5)) | H19: =IF(Einstellungen!$A$5="","",COUNTIF(H6:H17,Einstellungen!$A$5)) | I19: =IF(Einstellungen!$A$5="","",COUNTIF(I6:I17,Einstellungen!$A$5)) | J19: =IF(Einstellungen!$A$5="","",COUNTIF(J6:J17,Einstellungen!$A$5)) | ... AG19: =IF(Einstellungen!$A$5="","",COUNTIF(AG6:AG17,Einstellungen!$A$5))
B20: =IF(Einstellungen!A6="","",Einstellungen!B6&" ("&Einstellungen!A6&")") | C20: =IF(Einstellungen!$A$6="","",COUNTIF(C6:C17,Einstellungen!$A$6)) | D20: =IF(Einstellungen!$A$6="","",COUNTIF(D6:D17,Einstellungen!$A$6)) | E20: =IF(Einstellungen!$A$6="","",COUNTIF(E6:E17,Einstellungen!$A$6)) | F20: =IF(Einstellungen!$A$6="","",COUNTIF(F6:F17,Einstellungen!$A$6)) | G20: =IF(Einstellungen!$A$6="","",COUNTIF(G6:G17,Einstellungen!$A$6)) | H20: =IF(Einstellungen!$A$6="","",COUNTIF(H6:H17,Einstellungen!$A$6)) | I20: =IF(Einstellungen!$A$6="","",COUNTIF(I6:I17,Einstellungen!$A$6)) | J20: =IF(Einstellungen!$A$6="","",COUNTIF(J6:J17,Einstellungen!$A$6)) | ... AG20: =IF(Einstellungen!$A$6="","",COUNTIF(AG6:AG17,Einstellungen!$A$6))
B21: =IF(Einstellungen!A7="","",Einstellungen!B7&" ("&Einstellungen!A7&")") | C21: =IF(Einstellungen!$A$7="","",COUNTIF(C6:C17,Einstellungen!$A$7)) | D21: =IF(Einstellungen!$A$7="","",COUNTIF(D6:D17,Einstellungen!$A$7)) | E21: =IF(Einstellungen!$A$7="","",COUNTIF(E6:E17,Einstellungen!$A$7)) | F21: =IF(Einstellungen!$A$7="","",COUNTIF(F6:F17,Einstellungen!$A$7)) | G21: =IF(Einstellungen!$A$7="","",COUNTIF(G6:G17,Einstellungen!$A$7)) | H21: =IF(Einstellungen!$A$7="","",COUNTIF(H6:H17,Einstellungen!$A$7)) | I21: =IF(Einstellungen!$A$7="","",COUNTIF(I6:I17,Einstellungen!$A$7)) | J21: =IF(Einstellungen!$A$7="","",COUNTIF(J6:J17,Einstellungen!$A$7)) | ... AG21: =IF(Einstellungen!$A$7="","",COUNTIF(AG6:AG17,Einstellungen!$A$7))
B22: =IF(Einstellungen!A8="","",Einstellungen!B8&" ("&Einstellungen!A8&")") | C22: =IF(Einstellungen!$A$8="","",COUNTIF(C6:C17,Einstellungen!$A$8)) | D22: =IF(Einstellungen!$A$8="","",COUNTIF(D6:D17,Einstellungen!$A$8)) | E22: =IF(Einstellungen!$A$8="","",COUNTIF(E6:E17,Einstellungen!$A$8)) | F22: =IF(Einstellungen!$A$8="","",COUNTIF(F6:F17,Einstellungen!$A$8)) | G22: =IF(Einstellungen!$A$8="","",COUNTIF(G6:G17,Einstellungen!$A$8)) | H22: =IF(Einstellungen!$A$8="","",COUNTIF(H6:H17,Einstellungen!$A$8)) | I22: =IF(Einstellungen!$A$8="","",COUNTIF(I6:I17,Einstellungen!$A$8)) | J22: =IF(Einstellungen!$A$8="","",COUNTIF(J6:J17,Einstellungen!$A$8)) | ... AG22: =IF(Einstellungen!$A$8="","",COUNTIF(AG6:AG17,Einstellungen!$A$8))
B24: Feiertage: keine

Sheet September
A1: Dienstplan September 2027
A2: Je Tag ein Kürzel wählen (Liste in der Zelle). Kürzel und Stunden stehen im Blatt „Einstellungen“.
C4: Mi | D4: Do | E4: Fr | F4: Sa | G4: So | H4: Mo | I4: Di | J4: Mi | K4: Do | L4: Fr | M4: Sa | N4: So | O4: Mo | P4: Di | Q4: Mi | R4: Do | S4: Fr | T4: Sa | U4: So | V4: Mo | W4: Di | X4: Mi | Y4: Do | Z4: Fr | AA4: Sa | AB4: So | AC4: Mo | AD4: Di | AE4: Mi | AF4: Do
A5: Nr. | B5: Name | C5: 1 | D5: 2 | E5: 3 | F5: 4 | G5: 5 | H5: 6 | I5: 7 | J5: 8 | K5: 9 | L5: 10 | M5: 11 | N5: 12 | O5: 13 | P5: 14 | Q5: 15 | R5: 16 | S5: 17 | T5: 18 | U5: 19 | V5: 20 | W5: 21 | X5: 22 | Y5: 23 | Z5: 24 | AA5: 25 | AB5: 26 | AC5: 27 | AD5: 28 | AE5: 29 | AF5: 30 | AH5: Stunden | AI5: Soll | AJ5: + / −
A6: 1 | B6: =IF(Einstellungen!B19="","",Einstellungen!B19) | AH6: =SUMPRODUCT(SUMIF(Einstellungen!$A$5:$A$14,C6:AF6,Einstellungen!$C$5:$C$14)) | AI6: =IF(Einstellungen!C19="","",Einstellungen!C19) | AJ6: =IF(AI6="","",AH6-AI6)
A7: 2 | B7: =IF(Einstellungen!B20="","",Einstellungen!B20) | AH7: =SUMPRODUCT(SUMIF(Einstellungen!$A$5:$A$14,C7:AF7,Einstellungen!$C$5:$C$14)) | AI7: =IF(Einstellungen!C20="","",Einstellungen!C20) | AJ7: =IF(AI7="","",AH7-AI7)
A8: 3 | B8: =IF(Einstellungen!B21="","",Einstellungen!B21) | AH8: =SUMPRODUCT(SUMIF(Einstellungen!$A$5:$A$14,C8:AF8,Einstellungen!$C$5:$C$14)) | AI8: =IF(Einstellungen!C21="","",Einstellungen!C21) | AJ8: =IF(AI8="","",AH8-AI8)
A9: 4 | B9: =IF(Einstellungen!B22="","",Einstellungen!B22) | AH9: =SUMPRODUCT(SUMIF(Einstellungen!$A$5:$A$14,C9:AF9,Einstellungen!$C$5:$C$14)) | AI9: =IF(Einstellungen!C22="","",Einstellungen!C22) | AJ9: =IF(AI9="","",AH9-AI9)
A10: 5 | B10: =IF(Einstellungen!B23="","",Einstellungen!B23) | AH10: =SUMPRODUCT(SUMIF(Einstellungen!$A$5:$A$14,C10:AF10,Einstellungen!$C$5:$C$14)) | AI10: =IF(Einstellungen!C23="","",Einstellungen!C23) | AJ10: =IF(AI10="","",AH10-AI10)
A11: 6 | B11: =IF(Einstellungen!B24="","",Einstellungen!B24) | AH11: =SUMPRODUCT(SUMIF(Einstellungen!$A$5:$A$14,C11:AF11,Einstellungen!$C$5:$C$14)) | AI11: =IF(Einstellungen!C24="","",Einstellungen!C24) | AJ11: =IF(AI11="","",AH11-AI11)
A12: 7 | B12: =IF(Einstellungen!B25="","",Einstellungen!B25) | AH12: =SUMPRODUCT(SUMIF(Einstellungen!$A$5:$A$14,C12:AF12,Einstellungen!$C$5:$C$14)) | AI12: =IF(Einstellungen!C25="","",Einstellungen!C25) | AJ12: =IF(AI12="","",AH12-AI12)
A13: 8 | B13: =IF(Einstellungen!B26="","",Einstellungen!B26) | AH13: =SUMPRODUCT(SUMIF(Einstellungen!$A$5:$A$14,C13:AF13,Einstellungen!$C$5:$C$14)) | AI13: =IF(Einstellungen!C26="","",Einstellungen!C26) | AJ13: =IF(AI13="","",AH13-AI13)
A14: 9 | B14: =IF(Einstellungen!B27="","",Einstellungen!B27) | AH14: =SUMPRODUCT(SUMIF(Einstellungen!$A$5:$A$14,C14:AF14,Einstellungen!$C$5:$C$14)) | AI14: =IF(Einstellungen!C27="","",Einstellungen!C27) | AJ14: =IF(AI14="","",AH14-AI14)
A15: 10 | B15: =IF(Einstellungen!B28="","",Einstellungen!B28) | AH15: =SUMPRODUCT(SUMIF(Einstellungen!$A$5:$A$14,C15:AF15,Einstellungen!$C$5:$C$14)) | AI15: =IF(Einstellungen!C28="","",Einstellungen!C28) | AJ15: =IF(AI15="","",AH15-AI15)
A16: 11 | B16: =IF(Einstellungen!B29="","",Einstellungen!B29) | AH16: =SUMPRODUCT(SUMIF(Einstellungen!$A$5:$A$14,C16:AF16,Einstellungen!$C$5:$C$14)) | AI16: =IF(Einstellungen!C29="","",Einstellungen!C29) | AJ16: =IF(AI16="","",AH16-AI16)
A17: 12 | B17: =IF(Einstellungen!B30="","",Einstellungen!B30) | AH17: =SUMPRODUCT(SUMIF(Einstellungen!$A$5:$A$14,C17:AF17,Einstellungen!$C$5:$C$14)) | AI17: =IF(Einstellungen!C30="","",Einstellungen!C30) | AJ17: =IF(AI17="","",AH17-AI17)
B18: Besetzung je Tag
B19: =IF(Einstellungen!A5="","",Einstellungen!B5&" ("&Einstellungen!A5&")") | C19: =IF(Einstellungen!$A$5="","",COUNTIF(C6:C17,Einstellungen!$A$5)) | D19: =IF(Einstellungen!$A$5="","",COUNTIF(D6:D17,Einstellungen!$A$5)) | E19: =IF(Einstellungen!$A$5="","",COUNTIF(E6:E17,Einstellungen!$A$5)) | F19: =IF(Einstellungen!$A$5="","",COUNTIF(F6:F17,Einstellungen!$A$5)) | G19: =IF(Einstellungen!$A$5="","",COUNTIF(G6:G17,Einstellungen!$A$5)) | H19: =IF(Einstellungen!$A$5="","",COUNTIF(H6:H17,Einstellungen!$A$5)) | I19: =IF(Einstellungen!$A$5="","",COUNTIF(I6:I17,Einstellungen!$A$5)) | J19: =IF(Einstellungen!$A$5="","",COUNTIF(J6:J17,Einstellungen!$A$5)) | ... AF19: =IF(Einstellungen!$A$5="","",COUNTIF(AF6:AF17,Einstellungen!$A$5))
B20: =IF(Einstellungen!A6="","",Einstellungen!B6&" ("&Einstellungen!A6&")") | C20: =IF(Einstellungen!$A$6="","",COUNTIF(C6:C17,Einstellungen!$A$6)) | D20: =IF(Einstellungen!$A$6="","",COUNTIF(D6:D17,Einstellungen!$A$6)) | E20: =IF(Einstellungen!$A$6="","",COUNTIF(E6:E17,Einstellungen!$A$6)) | F20: =IF(Einstellungen!$A$6="","",COUNTIF(F6:F17,Einstellungen!$A$6)) | G20: =IF(Einstellungen!$A$6="","",COUNTIF(G6:G17,Einstellungen!$A$6)) | H20: =IF(Einstellungen!$A$6="","",COUNTIF(H6:H17,Einstellungen!$A$6)) | I20: =IF(Einstellungen!$A$6="","",COUNTIF(I6:I17,Einstellungen!$A$6)) | J20: =IF(Einstellungen!$A$6="","",COUNTIF(J6:J17,Einstellungen!$A$6)) | ... AF20: =IF(Einstellungen!$A$6="","",COUNTIF(AF6:AF17,Einstellungen!$A$6))
B21: =IF(Einstellungen!A7="","",Einstellungen!B7&" ("&Einstellungen!A7&")") | C21: =IF(Einstellungen!$A$7="","",COUNTIF(C6:C17,Einstellungen!$A$7)) | D21: =IF(Einstellungen!$A$7="","",COUNTIF(D6:D17,Einstellungen!$A$7)) | E21: =IF(Einstellungen!$A$7="","",COUNTIF(E6:E17,Einstellungen!$A$7)) | F21: =IF(Einstellungen!$A$7="","",COUNTIF(F6:F17,Einstellungen!$A$7)) | G21: =IF(Einstellungen!$A$7="","",COUNTIF(G6:G17,Einstellungen!$A$7)) | H21: =IF(Einstellungen!$A$7="","",COUNTIF(H6:H17,Einstellungen!$A$7)) | I21: =IF(Einstellungen!$A$7="","",COUNTIF(I6:I17,Einstellungen!$A$7)) | J21: =IF(Einstellungen!$A$7="","",COUNTIF(J6:J17,Einstellungen!$A$7)) | ... AF21: =IF(Einstellungen!$A$7="","",COUNTIF(AF6:AF17,Einstellungen!$A$7))
B22: =IF(Einstellungen!A8="","",Einstellungen!B8&" ("&Einstellungen!A8&")") | C22: =IF(Einstellungen!$A$8="","",COUNTIF(C6:C17,Einstellungen!$A$8)) | D22: =IF(Einstellungen!$A$8="","",COUNTIF(D6:D17,Einstellungen!$A$8)) | E22: =IF(Einstellungen!$A$8="","",COUNTIF(E6:E17,Einstellungen!$A$8)) | F22: =IF(Einstellungen!$A$8="","",COUNTIF(F6:F17,Einstellungen!$A$8)) | G22: =IF(Einstellungen!$A$8="","",COUNTIF(G6:G17,Einstellungen!$A$8)) | H22: =IF(Einstellungen!$A$8="","",COUNTIF(H6:H17,Einstellungen!$A$8)) | I22: =IF(Einstellungen!$A$8="","",COUNTIF(I6:I17,Einstellungen!$A$8)) | J22: =IF(Einstellungen!$A$8="","",COUNTIF(J6:J17,Einstellungen!$A$8)) | ... AF22: =IF(Einstellungen!$A$8="","",COUNTIF(AF6:AF17,Einstellungen!$A$8))
B24: Feiertage: keine

Sheet Oktober
A1: Dienstplan Oktober 2027
A2: Je Tag ein Kürzel wählen (Liste in der Zelle). Kürzel und Stunden stehen im Blatt „Einstellungen“.
