Workbook

Sheet Einstellungen
A1: Arbeitszeiterfassung 2027 · Hessen
A2: Zuerst die hellen Felder ausfüllen, dann in den Monatsblättern Beginn, Ende und Pause eintragen.
A4: Name | B4: Vorname Nachname
A6: Sollstunden je Wochentag
A7: Montag | B7: 8
A8: Dienstag | B8: 8
A9: Mittwoch | B9: 8
A10: Donnerstag | B10: 8
A11: Freitag | B11: 8
A12: Samstag | B12: 0
A13: Sonntag | B13: 0
A14: Wochenstunden | B14: =SUM(B7:B13)
A16: Überstunden aus dem Vorjahr (Std.) | B16: 0
A17: Urlaubsanspruch (Tage) | B17: 30
A19: So trägst du ein:
A20: • Beginn und Ende als Uhrzeit (z. B. 8:00 und 16:30), Pause als Dauer (z. B. 0:30).
A21: • Spalte „Art“: U = Urlaub, K = krank (beides zählt wie ein normaler Arbeitstag), G = Gleittag (baut Überstunden ab).
A22: • Feiertage deines Bundeslands sind eingetragen und haben 0 Sollstunden.
A23: • Spalte „Prüfung“ weist auf zu kurze Pausen hin (mehr als 6 Std. Arbeit: 30 Min., mehr als 9 Std.: 45 Min., § 4 ArbZG)
A24: und auf mehr als 10 Stunden Arbeitszeit am Tag (§ 3 ArbZG).
A25: • Das Blatt „Jahr“ zeigt Überstunden-Saldo, Urlaub und Kranktage je Monat. Der Saldo zählt nur Tage mit Eintrag.
A27: Kostenlos von kniffwerk.de – darf im eigenen Betrieb frei genutzt und weitergegeben werden.
A28: Keine Makros, keine Verbindung ins Internet. Alle Angaben ohne Gewähr, keine Rechtsberatung.

Sheet Jahr
A1: Jahresübersicht 2027 · Hessen
A2: =Einstellungen!B4
A4: Monat | B4: Soll (Std.) | C4: Ist (Std.) | D4: Differenz | E4: Überstunden-Saldo | F4: Urlaubstage | G4: Kranktage
A5: Januar | B5: ='Januar'!D37 | C5: ='Januar'!D36 | D5: ='Januar'!D38 | E5: =Einstellungen!B16+D5 | F5: ='Januar'!D39 | G5: ='Januar'!D40
A6: Februar | B6: ='Februar'!D34 | C6: ='Februar'!D33 | D6: ='Februar'!D35 | E6: =E5+D6 | F6: ='Februar'!D36 | G6: ='Februar'!D37
A7: März | B7: ='März'!D37 | C7: ='März'!D36 | D7: ='März'!D38 | E7: =E6+D7 | F7: ='März'!D39 | G7: ='März'!D40
A8: April | B8: ='April'!D36 | C8: ='April'!D35 | D8: ='April'!D37 | E8: =E7+D8 | F8: ='April'!D38 | G8: ='April'!D39
A9: Mai | B9: ='Mai'!D37 | C9: ='Mai'!D36 | D9: ='Mai'!D38 | E9: =E8+D9 | F9: ='Mai'!D39 | G9: ='Mai'!D40
A10: Juni | B10: ='Juni'!D36 | C10: ='Juni'!D35 | D10: ='Juni'!D37 | E10: =E9+D10 | F10: ='Juni'!D38 | G10: ='Juni'!D39
A11: Juli | B11: ='Juli'!D37 | C11: ='Juli'!D36 | D11: ='Juli'!D38 | E11: =E10+D11 | F11: ='Juli'!D39 | G11: ='Juli'!D40
A12: August | B12: ='August'!D37 | C12: ='August'!D36 | D12: ='August'!D38 | E12: =E11+D12 | F12: ='August'!D39 | G12: ='August'!D40
A13: September | B13: ='September'!D36 | C13: ='September'!D35 | D13: ='September'!D37 | E13: =E12+D13 | F13: ='September'!D38 | G13: ='September'!D39
A14: Oktober | B14: ='Oktober'!D37 | C14: ='Oktober'!D36 | D14: ='Oktober'!D38 | E14: =E13+D14 | F14: ='Oktober'!D39 | G14: ='Oktober'!D40
A15: November | B15: ='November'!D36 | C15: ='November'!D35 | D15: ='November'!D37 | E15: =E14+D15 | F15: ='November'!D38 | G15: ='November'!D39
A16: Dezember | B16: ='Dezember'!D37 | C16: ='Dezember'!D36 | D16: ='Dezember'!D38 | E16: =E15+D16 | F16: ='Dezember'!D39 | G16: ='Dezember'!D40
A17: Gesamt | B17: =SUM(B5:B16) | C17: =SUM(C5:C16) | D17: =SUM(D5:D16) | E17: =E16 | F17: =SUM(F5:F16) | G17: =SUM(G5:G16)
A19: Resturlaub (Tage) | B19: =Einstellungen!B17-F17
A20: Der Saldo enthält die Überstunden aus dem Vorjahr (Blatt Einstellungen).

Sheet Januar
A1: Januar 2027 | D1: =Einstellungen!B4
A3: Datum | B3: Tag | C3: Art | D3: Beginn | E3: Ende | F3: Pause | G3: Ist (Std.) | H3: Soll (Std.) | I3: Differenz | J3: Bemerkung | K3: Prüfung
A4: 46388 | B4: Fr | G4: =IF(OR(UPPER(C4)="U",UPPER(C4)="K"),H4,IF(AND(ISNUMBER(D4),ISNUMBER(E4)),ROUND((MOD(E4-D4,1)-N(F4))*24,2),0)) | H4: 0 | I4: =IF(OR(ISNUMBER(D4),C4<>""),G4-H4,0) | J4: Neujahr | K4: =IF(AND(ISNUMBER(D4),ISNUMBER(E4)),IF((MOD(E4-D4,1)-N(F4))*24>10,"über 10 Std.",IF(AND((MOD(E4-D4,1)-N(F4))*24>9,N(F4)*1440<45),"Pause unter 45 Min.",IF(AND((MOD(E4-D4,1)-N(F4))*24>6,N(F4)*1440<30),"Pause unter 30 Min.",""))),"")
A5: 46389 | B5: Sa | G5: =IF(OR(UPPER(C5)="U",UPPER(C5)="K"),H5,IF(AND(ISNUMBER(D5),ISNUMBER(E5)),ROUND((MOD(E5-D5,1)-N(F5))*24,2),0)) | H5: =INDEX(Einstellungen!$B$7:$B$13,6) | I5: =IF(OR(ISNUMBER(D5),C5<>""),G5-H5,0) | K5: =IF(AND(ISNUMBER(D5),ISNUMBER(E5)),IF((MOD(E5-D5,1)-N(F5))*24>10,"über 10 Std.",IF(AND((MOD(E5-D5,1)-N(F5))*24>9,N(F5)*1440<45),"Pause unter 45 Min.",IF(AND((MOD(E5-D5,1)-N(F5))*24>6,N(F5)*1440<30),"Pause unter 30 Min.",""))),"")
A6: 46390 | B6: So | G6: =IF(OR(UPPER(C6)="U",UPPER(C6)="K"),H6,IF(AND(ISNUMBER(D6),ISNUMBER(E6)),ROUND((MOD(E6-D6,1)-N(F6))*24,2),0)) | H6: =INDEX(Einstellungen!$B$7:$B$13,7) | I6: =IF(OR(ISNUMBER(D6),C6<>""),G6-H6,0) | K6: =IF(AND(ISNUMBER(D6),ISNUMBER(E6)),IF((MOD(E6-D6,1)-N(F6))*24>10,"über 10 Std.",IF(AND((MOD(E6-D6,1)-N(F6))*24>9,N(F6)*1440<45),"Pause unter 45 Min.",IF(AND((MOD(E6-D6,1)-N(F6))*24>6,N(F6)*1440<30),"Pause unter 30 Min.",""))),"")
A7: 46391 | B7: Mo | G7: =IF(OR(UPPER(C7)="U",UPPER(C7)="K"),H7,IF(AND(ISNUMBER(D7),ISNUMBER(E7)),ROUND((MOD(E7-D7,1)-N(F7))*24,2),0)) | H7: =INDEX(Einstellungen!$B$7:$B$13,1) | I7: =IF(OR(ISNUMBER(D7),C7<>""),G7-H7,0) | K7: =IF(AND(ISNUMBER(D7),ISNUMBER(E7)),IF((MOD(E7-D7,1)-N(F7))*24>10,"über 10 Std.",IF(AND((MOD(E7-D7,1)-N(F7))*24>9,N(F7)*1440<45),"Pause unter 45 Min.",IF(AND((MOD(E7-D7,1)-N(F7))*24>6,N(F7)*1440<30),"Pause unter 30 Min.",""))),"")
A8: 46392 | B8: Di | G8: =IF(OR(UPPER(C8)="U",UPPER(C8)="K"),H8,IF(AND(ISNUMBER(D8),ISNUMBER(E8)),ROUND((MOD(E8-D8,1)-N(F8))*24,2),0)) | H8: =INDEX(Einstellungen!$B$7:$B$13,2) | I8: =IF(OR(ISNUMBER(D8),C8<>""),G8-H8,0) | K8: =IF(AND(ISNUMBER(D8),ISNUMBER(E8)),IF((MOD(E8-D8,1)-N(F8))*24>10,"über 10 Std.",IF(AND((MOD(E8-D8,1)-N(F8))*24>9,N(F8)*1440<45),"Pause unter 45 Min.",IF(AND((MOD(E8-D8,1)-N(F8))*24>6,N(F8)*1440<30),"Pause unter 30 Min.",""))),"")
A9: 46393 | B9: Mi | G9: =IF(OR(UPPER(C9)="U",UPPER(C9)="K"),H9,IF(AND(ISNUMBER(D9),ISNUMBER(E9)),ROUND((MOD(E9-D9,1)-N(F9))*24,2),0)) | H9: =INDEX(Einstellungen!$B$7:$B$13,3) | I9: =IF(OR(ISNUMBER(D9),C9<>""),G9-H9,0) | K9: =IF(AND(ISNUMBER(D9),ISNUMBER(E9)),IF((MOD(E9-D9,1)-N(F9))*24>10,"über 10 Std.",IF(AND((MOD(E9-D9,1)-N(F9))*24>9,N(F9)*1440<45),"Pause unter 45 Min.",IF(AND((MOD(E9-D9,1)-N(F9))*24>6,N(F9)*1440<30),"Pause unter 30 Min.",""))),"")
A10: 46394 | B10: Do | G10: =IF(OR(UPPER(C10)="U",UPPER(C10)="K"),H10,IF(AND(ISNUMBER(D10),ISNUMBER(E10)),ROUND((MOD(E10-D10,1)-N(F10))*24,2),0)) | H10: =INDEX(Einstellungen!$B$7:$B$13,4) | I10: =IF(OR(ISNUMBER(D10),C10<>""),G10-H10,0) | K10: =IF(AND(ISNUMBER(D10),ISNUMBER(E10)),IF((MOD(E10-D10,1)-N(F10))*24>10,"über 10 Std.",IF(AND((MOD(E10-D10,1)-N(F10))*24>9,N(F10)*1440<45),"Pause unter 45 Min.",IF(AND((MOD(E10-D10,1)-N(F10))*24>6,N(F10)*1440<30),"Pause unter 30 Min.",""))),"")
A11: 46395 | B11: Fr | G11: =IF(OR(UPPER(C11)="U",UPPER(C11)="K"),H11,IF(AND(ISNUMBER(D11),ISNUMBER(E11)),ROUND((MOD(E11-D11,1)-N(F11))*24,2),0)) | H11: =INDEX(Einstellungen!$B$7:$B$13,5) | I11: =IF(OR(ISNUMBER(D11),C11<>""),G11-H11,0) | K11: =IF(AND(ISNUMBER(D11),ISNUMBER(E11)),IF((MOD(E11-D11,1)-N(F11))*24>10,"über 10 Std.",IF(AND((MOD(E11-D11,1)-N(F11))*24>9,N(F11)*1440<45),"Pause unter 45 Min.",IF(AND((MOD(E11-D11,1)-N(F11))*24>6,N(F11)*1440<30),"Pause unter 30 Min.",""))),"")
A12: 46396 | B12: Sa | G12: =IF(OR(UPPER(C12)="U",UPPER(C12)="K"),H12,IF(AND(ISNUMBER(D12),ISNUMBER(E12)),ROUND((MOD(E12-D12,1)-N(F12))*24,2),0)) | H12: =INDEX(Einstellungen!$B$7:$B$13,6) | I12: =IF(OR(ISNUMBER(D12),C12<>""),G12-H12,0) | K12: =IF(AND(ISNUMBER(D12),ISNUMBER(E12)),IF((MOD(E12-D12,1)-N(F12))*24>10,"über 10 Std.",IF(AND((MOD(E12-D12,1)-N(F12))*24>9,N(F12)*1440<45),"Pause unter 45 Min.",IF(AND((MOD(E12-D12,1)-N(F12))*24>6,N(F12)*1440<30),"Pause unter 30 Min.",""))),"")
A13: 46397 | B13: So | G13: =IF(OR(UPPER(C13)="U",UPPER(C13)="K"),H13,IF(AND(ISNUMBER(D13),ISNUMBER(E13)),ROUND((MOD(E13-D13,1)-N(F13))*24,2),0)) | H13: =INDEX(Einstellungen!$B$7:$B$13,7) | I13: =IF(OR(ISNUMBER(D13),C13<>""),G13-H13,0) | K13: =IF(AND(ISNUMBER(D13),ISNUMBER(E13)),IF((MOD(E13-D13,1)-N(F13))*24>10,"über 10 Std.",IF(AND((MOD(E13-D13,1)-N(F13))*24>9,N(F13)*1440<45),"Pause unter 45 Min.",IF(AND((MOD(E13-D13,1)-N(F13))*24>6,N(F13)*1440<30),"Pause unter 30 Min.",""))),"")
A14: 46398 | B14: Mo | G14: =IF(OR(UPPER(C14)="U",UPPER(C14)="K"),H14,IF(AND(ISNUMBER(D14),ISNUMBER(E14)),ROUND((MOD(E14-D14,1)-N(F14))*24,2),0)) | H14: =INDEX(Einstellungen!$B$7:$B$13,1) | I14: =IF(OR(ISNUMBER(D14),C14<>""),G14-H14,0) | K14: =IF(AND(ISNUMBER(D14),ISNUMBER(E14)),IF((MOD(E14-D14,1)-N(F14))*24>10,"über 10 Std.",IF(AND((MOD(E14-D14,1)-N(F14))*24>9,N(F14)*1440<45),"Pause unter 45 Min.",IF(AND((MOD(E14-D14,1)-N(F14))*24>6,N(F14)*1440<30),"Pause unter 30 Min.",""))),"")
A15: 46399 | B15: Di | G15: =IF(OR(UPPER(C15)="U",UPPER(C15)="K"),H15,IF(AND(ISNUMBER(D15),ISNUMBER(E15)),ROUND((MOD(E15-D15,1)-N(F15))*24,2),0)) | H15: =INDEX(Einstellungen!$B$7:$B$13,2) | I15: =IF(OR(ISNUMBER(D15),C15<>""),G15-H15,0) | K15: =IF(AND(ISNUMBER(D15),ISNUMBER(E15)),IF((MOD(E15-D15,1)-N(F15))*24>10,"über 10 Std.",IF(AND((MOD(E15-D15,1)-N(F15))*24>9,N(F15)*1440<45),"Pause unter 45 Min.",IF(AND((MOD(E15-D15,1)-N(F15))*24>6,N(F15)*1440<30),"Pause unter 30 Min.",""))),"")
A16: 46400 | B16: Mi | G16: =IF(OR(UPPER(C16)="U",UPPER(C16)="K"),H16,IF(AND(ISNUMBER(D16),ISNUMBER(E16)),ROUND((MOD(E16-D16,1)-N(F16))*24,2),0)) | H16: =INDEX(Einstellungen!$B$7:$B$13,3) | I16: =IF(OR(ISNUMBER(D16),C16<>""),G16-H16,0) | K16: =IF(AND(ISNUMBER(D16),ISNUMBER(E16)),IF((MOD(E16-D16,1)-N(F16))*24>10,"über 10 Std.",IF(AND((MOD(E16-D16,1)-N(F16))*24>9,N(F16)*1440<45),"Pause unter 45 Min.",IF(AND((MOD(E16-D16,1)-N(F16))*24>6,N(F16)*1440<30),"Pause unter 30 Min.",""))),"")
A17: 46401 | B17: Do | G17: =IF(OR(UPPER(C17)="U",UPPER(C17)="K"),H17,IF(AND(ISNUMBER(D17),ISNUMBER(E17)),ROUND((MOD(E17-D17,1)-N(F17))*24,2),0)) | H17: =INDEX(Einstellungen!$B$7:$B$13,4) | I17: =IF(OR(ISNUMBER(D17),C17<>""),G17-H17,0) | K17: =IF(AND(ISNUMBER(D17),ISNUMBER(E17)),IF((MOD(E17-D17,1)-N(F17))*24>10,"über 10 Std.",IF(AND((MOD(E17-D17,1)-N(F17))*24>9,N(F17)*1440<45),"Pause unter 45 Min.",IF(AND((MOD(E17-D17,1)-N(F17))*24>6,N(F17)*1440<30),"Pause unter 30 Min.",""))),"")
A18: 46402 | B18: Fr | G18: =IF(OR(UPPER(C18)="U",UPPER(C18)="K"),H18,IF(AND(ISNUMBER(D18),ISNUMBER(E18)),ROUND((MOD(E18-D18,1)-N(F18))*24,2),0)) | H18: =INDEX(Einstellungen!$B$7:$B$13,5) | I18: =IF(OR(ISNUMBER(D18),C18<>""),G18-H18,0) | K18: =IF(AND(ISNUMBER(D18),ISNUMBER(E18)),IF((MOD(E18-D18,1)-N(F18))*24>10,"über 10 Std.",IF(AND((MOD(E18-D18,1)-N(F18))*24>9,N(F18)*1440<45),"Pause unter 45 Min.",IF(AND((MOD(E18-D18,1)-N(F18))*24>6,N(F18)*1440<30),"Pause unter 30 Min.",""))),"")
A19: 46403 | B19: Sa | G19: =IF(OR(UPPER(C19)="U",UPPER(C19)="K"),H19,IF(AND(ISNUMBER(D19),ISNUMBER(E19)),ROUND((MOD(E19-D19,1)-N(F19))*24,2),0)) | H19: =INDEX(Einstellungen!$B$7:$B$13,6) | I19: =IF(OR(ISNUMBER(D19),C19<>""),G19-H19,0) | K19: =IF(AND(ISNUMBER(D19),ISNUMBER(E19)),IF((MOD(E19-D19,1)-N(F19))*24>10,"über 10 Std.",IF(AND((MOD(E19-D19,1)-N(F19))*24>9,N(F19)*1440<45),"Pause unter 45 Min.",IF(AND((MOD(E19-D19,1)-N(F19))*24>6,N(F19)*1440<30),"Pause unter 30 Min.",""))),"")
A20: 46404 | B20: So | G20: =IF(OR(UPPER(C20)="U",UPPER(C20)="K"),H20,IF(AND(ISNUMBER(D20),ISNUMBER(E20)),ROUND((MOD(E20-D20,1)-N(F20))*24,2),0)) | H20: =INDEX(Einstellungen!$B$7:$B$13,7) | I20: =IF(OR(ISNUMBER(D20),C20<>""),G20-H20,0) | K20: =IF(AND(ISNUMBER(D20),ISNUMBER(E20)),IF((MOD(E20-D20,1)-N(F20))*24>10,"über 10 Std.",IF(AND((MOD(E20-D20,1)-N(F20))*24>9,N(F20)*1440<45),"Pause unter 45 Min.",IF(AND((MOD(E20-D20,1)-N(F20))*24>6,N(F20)*1440<30),"Pause unter 30 Min.",""))),"")
A21: 46405 | B21: Mo | G21: =IF(OR(UPPER(C21)="U",UPPER(C21)="K"),H21,IF(AND(ISNUMBER(D21),ISNUMBER(E21)),ROUND((MOD(E21-D21,1)-N(F21))*24,2),0)) | H21: =INDEX(Einstellungen!$B$7:$B$13,1) | I21: =IF(OR(ISNUMBER(D21),C21<>""),G21-H21,0) | K21: =IF(AND(ISNUMBER(D21),ISNUMBER(E21)),IF((MOD(E21-D21,1)-N(F21))*24>10,"über 10 Std.",IF(AND((MOD(E21-D21,1)-N(F21))*24>9,N(F21)*1440<45),"Pause unter 45 Min.",IF(AND((MOD(E21-D21,1)-N(F21))*24>6,N(F21)*1440<30),"Pause unter 30 Min.",""))),"")
A22: 46406 | B22: Di | G22: =IF(OR(UPPER(C22)="U",UPPER(C22)="K"),H22,IF(AND(ISNUMBER(D22),ISNUMBER(E22)),ROUND((MOD(E22-D22,1)-N(F22))*24,2),0)) | H22: =INDEX(Einstellungen!$B$7:$B$13,2) | I22: =IF(OR(ISNUMBER(D22),C22<>""),G22-H22,0) | K22: =IF(AND(ISNUMBER(D22),ISNUMBER(E22)),IF((MOD(E22-D22,1)-N(F22))*24>10,"über 10 Std.",IF(AND((MOD(E22-D22,1)-N(F22))*24>9,N(F22)*1440<45),"Pause unter 45 Min.",IF(AND((MOD(E22-D22,1)-N(F22))*24>6,N(F22)*1440<30),"Pause unter 30 Min.",""))),"")
A23: 46407 | B23: Mi | G23: =IF(OR(UPPER(C23)="U",UPPER(C23)="K"),H23,IF(AND(ISNUMBER(D23),ISNUMBER(E23)),ROUND((MOD(E23-D23,1)-N(F23))*24,2),0)) | H23: =INDEX(Einstellungen!$B$7:$B$13,3) | I23: =IF(OR(ISNUMBER(D23),C23<>""),G23-H23,0) | K23: =IF(AND(ISNUMBER(D23),ISNUMBER(E23)),IF((MOD(E23-D23,1)-N(F23))*24>10,"über 10 Std.",IF(AND((MOD(E23-D23,1)-N(F23))*24>9,N(F23)*1440<45),"Pause unter 45 Min.",IF(AND((MOD(E23-D23,1)-N(F23))*24>6,N(F23)*1440<30),"Pause unter 30 Min.",""))),"")
A24: 46408 | B24: Do | G24: =IF(OR(UPPER(C24)="U",UPPER(C24)="K"),H24,IF(AND(ISNUMBER(D24),ISNUMBER(E24)),ROUND((MOD(E24-D24,1)-N(F24))*24,2),0)) | H24: =INDEX(Einstellungen!$B$7:$B$13,4) | I24: =IF(OR(ISNUMBER(D24),C24<>""),G24-H24,0) | K24: =IF(AND(ISNUMBER(D24),ISNUMBER(E24)),IF((MOD(E24-D24,1)-N(F24))*24>10,"über 10 Std.",IF(AND((MOD(E24-D24,1)-N(F24))*24>9,N(F24)*1440<45),"Pause unter 45 Min.",IF(AND((MOD(E24-D24,1)-N(F24))*24>6,N(F24)*1440<30),"Pause unter 30 Min.",""))),"")
A25: 46409 | B25: Fr | G25: =IF(OR(UPPER(C25)="U",UPPER(C25)="K"),H25,IF(AND(ISNUMBER(D25),ISNUMBER(E25)),ROUND((MOD(E25-D25,1)-N(F25))*24,2),0)) | H25: =INDEX(Einstellungen!$B$7:$B$13,5) | I25: =IF(OR(ISNUMBER(D25),C25<>""),G25-H25,0) | K25: =IF(AND(ISNUMBER(D25),ISNUMBER(E25)),IF((MOD(E25-D25,1)-N(F25))*24>10,"über 10 Std.",IF(AND((MOD(E25-D25,1)-N(F25))*24>9,N(F25)*1440<45),"Pause unter 45 Min.",IF(AND((MOD(E25-D25,1)-N(F25))*24>6,N(F25)*1440<30),"Pause unter 30 Min.",""))),"")
A26: 46410 | B26: Sa | G26: =IF(OR(UPPER(C26)="U",UPPER(C26)="K"),H26,IF(AND(ISNUMBER(D26),ISNUMBER(E26)),ROUND((MOD(E26-D26,1)-N(F26))*24,2),0)) | H26: =INDEX(Einstellungen!$B$7:$B$13,6) | I26: =IF(OR(ISNUMBER(D26),C26<>""),G26-H26,0) | K26: =IF(AND(ISNUMBER(D26),ISNUMBER(E26)),IF((MOD(E26-D26,1)-N(F26))*24>10,"über 10 Std.",IF(AND((MOD(E26-D26,1)-N(F26))*24>9,N(F26)*1440<45),"Pause unter 45 Min.",IF(AND((MOD(E26-D26,1)-N(F26))*24>6,N(F26)*1440<30),"Pause unter 30 Min.",""))),"")
A27: 46411 | B27: So | G27: =IF(OR(UPPER(C27)="U",UPPER(C27)="K"),H27,IF(AND(ISNUMBER(D27),ISNUMBER(E27)),ROUND((MOD(E27-D27,1)-N(F27))*24,2),0)) | H27: =INDEX(Einstellungen!$B$7:$B$13,7) | I27: =IF(OR(ISNUMBER(D27),C27<>""),G27-H27,0) | K27: =IF(AND(ISNUMBER(D27),ISNUMBER(E27)),IF((MOD(E27-D27,1)-N(F27))*24>10,"über 10 Std.",IF(AND((MOD(E27-D27,1)-N(F27))*24>9,N(F27)*1440<45),"Pause unter 45 Min.",IF(AND((MOD(E27-D27,1)-N(F27))*24>6,N(F27)*1440<30),"Pause unter 30 Min.",""))),"")
A28: 46412 | B28: Mo | G28: =IF(OR(UPPER(C28)="U",UPPER(C28)="K"),H28,IF(AND(ISNUMBER(D28),ISNUMBER(E28)),ROUND((MOD(E28-D28,1)-N(F28))*24,2),0)) | H28: =INDEX(Einstellungen!$B$7:$B$13,1) | I28: =IF(OR(ISNUMBER(D28),C28<>""),G28-H28,0) | K28: =IF(AND(ISNUMBER(D28),ISNUMBER(E28)),IF((MOD(E28-D28,1)-N(F28))*24>10,"über 10 Std.",IF(AND((MOD(E28-D28,1)-N(F28))*24>9,N(F28)*1440<45),"Pause unter 45 Min.",IF(AND((MOD(E28-D28,1)-N(F28))*24>6,N(F28)*1440<30),"Pause unter 30 Min.",""))),"")
A29: 46413 | B29: Di | G29: =IF(OR(UPPER(C29)="U",UPPER(C29)="K"),H29,IF(AND(ISNUMBER(D29),ISNUMBER(E29)),ROUND((MOD(E29-D29,1)-N(F29))*24,2),0)) | H29: =INDEX(Einstellungen!$B$7:$B$13,2) | I29: =IF(OR(ISNUMBER(D29),C29<>""),G29-H29,0) | K29: =IF(AND(ISNUMBER(D29),ISNUMBER(E29)),IF((MOD(E29-D29,1)-N(F29))*24>10,"über 10 Std.",IF(AND((MOD(E29-D29,1)-N(F29))*24>9,N(F29)*1440<45),"Pause unter 45 Min.",IF(AND((MOD(E29-D29,1)-N(F29))*24>6,N(F29)*1440<30),"Pause unter 30 Min.",""))),"")
A30: 46414 | B30: Mi | G30: =IF(OR(UPPER(C30)="U",UPPER(C30)="K"),H30,IF(AND(ISNUMBER(D30),ISNUMBER(E30)),ROUND((MOD(E30-D30,1)-N(F30))*24,2),0)) | H30: =INDEX(Einstellungen!$B$7:$B$13,3) | I30: =IF(OR(ISNUMBER(D30),C30<>""),G30-H30,0) | K30: =IF(AND(ISNUMBER(D30),ISNUMBER(E30)),IF((MOD(E30-D30,1)-N(F30))*24>10,"über 10 Std.",IF(AND((MOD(E30-D30,1)-N(F30))*24>9,N(F30)*1440<45),"Pause unter 45 Min.",IF(AND((MOD(E30-D30,1)-N(F30))*24>6,N(F30)*1440<30),"Pause unter 30 Min.",""))),"")
A31: 46415 | B31: Do | G31: =IF(OR(UPPER(C31)="U",UPPER(C31)="K"),H31,IF(AND(ISNUMBER(D31),ISNUMBER(E31)),ROUND((MOD(E31-D31,1)-N(F31))*24,2),0)) | H31: =INDEX(Einstellungen!$B$7:$B$13,4) | I31: =IF(OR(ISNUMBER(D31),C31<>""),G31-H31,0) | K31: =IF(AND(ISNUMBER(D31),ISNUMBER(E31)),IF((MOD(E31-D31,1)-N(F31))*24>10,"über 10 Std.",IF(AND((MOD(E31-D31,1)-N(F31))*24>9,N(F31)*1440<45),"Pause unter 45 Min.",IF(AND((MOD(E31-D31,1)-N(F31))*24>6,N(F31)*1440<30),"Pause unter 30 Min.",""))),"")
A32: 46416 | B32: Fr | G32: =IF(OR(UPPER(C32)="U",UPPER(C32)="K"),H32,IF(AND(ISNUMBER(D32),ISNUMBER(E32)),ROUND((MOD(E32-D32,1)-N(F32))*24,2),0)) | H32: =INDEX(Einstellungen!$B$7:$B$13,5) | I32: =IF(OR(ISNUMBER(D32),C32<>""),G32-H32,0) | K32: =IF(AND(ISNUMBER(D32),ISNUMBER(E32)),IF((MOD(E32-D32,1)-N(F32))*24>10,"über 10 Std.",IF(AND((MOD(E32-D32,1)-N(F32))*24>9,N(F32)*1440<45),"Pause unter 45 Min.",IF(AND((MOD(E32-D32,1)-N(F32))*24>6,N(F32)*1440<30),"Pause unter 30 Min.",""))),"")
A33: 46417 | B33: Sa | G33: =IF(OR(UPPER(C33)="U",UPPER(C33)="K"),H33,IF(AND(ISNUMBER(D33),ISNUMBER(E33)),ROUND((MOD(E33-D33,1)-N(F33))*24,2),0)) | H33: =INDEX(Einstellungen!$B$7:$B$13,6) | I33: =IF(OR(ISNUMBER(D33),C33<>""),G33-H33,0) | K33: =IF(AND(ISNUMBER(D33),ISNUMBER(E33)),IF((MOD(E33-D33,1)-N(F33))*24>10,"über 10 Std.",IF(AND((MOD(E33-D33,1)-N(F33))*24>9,N(F33)*1440<45),"Pause unter 45 Min.",IF(AND((MOD(E33-D33,1)-N(F33))*24>6,N(F33)*1440<30),"Pause unter 30 Min.",""))),"")
A34: 46418 | B34: So | G34: =IF(OR(UPPER(C34)="U",UPPER(C34)="K"),H34,IF(AND(ISNUMBER(D34),ISNUMBER(E34)),ROUND((MOD(E34-D34,1)-N(F34))*24,2),0)) | H34: =INDEX(Einstellungen!$B$7:$B$13,7) | I34: =IF(OR(ISNUMBER(D34),C34<>""),G34-H34,0) | K34: =IF(AND(ISNUMBER(D34),ISNUMBER(E34)),IF((MOD(E34-D34,1)-N(F34))*24>10,"über 10 Std.",IF(AND((MOD(E34-D34,1)-N(F34))*24>9,N(F34)*1440<45),"Pause unter 45 Min.",IF(AND((MOD(E34-D34,1)-N(F34))*24>6,N(F34)*1440<30),"Pause unter 30 Min.",""))),"")
A36: Ist-Stunden | D36: =SUM(G4:G34)
A37: Soll (ganzer Monat) | D37: =SUM(H4:H34)
A38: Differenz (erfasste Tage) | D38: =SUM(I4:I34)
A39: Urlaubstage | D39: =COUNTIF(C4:C34,"U")
A40: Kranktage | D40: =COUNTIF(C4:C34,"K")

Sheet Februar
A1: Februar 2027 | D1: =Einstellungen!B4
A3: Datum | B3: Tag | C3: Art | D3: Beginn | E3: Ende | F3: Pause | G3: Ist (Std.) | H3: Soll (Std.) | I3: Differenz | J3: Bemerkung | K3: Prüfung
A4: 46419 | B4: Mo | G4: =IF(OR(UPPER(C4)="U",UPPER(C4)="K"),H4,IF(AND(ISNUMBER(D4),ISNUMBER(E4)),ROUND((MOD(E4-D4,1)-N(F4))*24,2),0)) | H4: =INDEX(Einstellungen!$B$7:$B$13,1) | I4: =IF(OR(ISNUMBER(D4),C4<>""),G4-H4,0) | K4: =IF(AND(ISNUMBER(D4),ISNUMBER(E4)),IF((MOD(E4-D4,1)-N(F4))*24>10,"über 10 Std.",IF(AND((MOD(E4-D4,1)-N(F4))*24>9,N(F4)*1440<45),"Pause unter 45 Min.",IF(AND((MOD(E4-D4,1)-N(F4))*24>6,N(F4)*1440<30),"Pause unter 30 Min.",""))),"")
A5: 46420 | B5: Di | G5: =IF(OR(UPPER(C5)="U",UPPER(C5)="K"),H5,IF(AND(ISNUMBER(D5),ISNUMBER(E5)),ROUND((MOD(E5-D5,1)-N(F5))*24,2),0)) | H5: =INDEX(Einstellungen!$B$7:$B$13,2) | I5: =IF(OR(ISNUMBER(D5),C5<>""),G5-H5,0) | K5: =IF(AND(ISNUMBER(D5),ISNUMBER(E5)),IF((MOD(E5-D5,1)-N(F5))*24>10,"über 10 Std.",IF(AND((MOD(E5-D5,1)-N(F5))*24>9,N(F5)*1440<45),"Pause unter 45 Min.",IF(AND((MOD(E5-D5,1)-N(F5))*24>6,N(F5)*1440<30),"Pause unter 30 Min.",""))),"")
A6: 46421 | B6: Mi | G6: =IF(OR(UPPER(C6)="U",UPPER(C6)="K"),H6,IF(AND(ISNUMBER(D6),ISNUMBER(E6)),ROUND((MOD(E6-D6,1)-N(F6))*24,2),0)) | H6: =INDEX(Einstellungen!$B$7:$B$13,3) | I6: =IF(OR(ISNUMBER(D6),C6<>""),G6-H6,0) | K6: =IF(AND(ISNUMBER(D6),ISNUMBER(E6)),IF((MOD(E6-D6,1)-N(F6))*24>10,"über 10 Std.",IF(AND((MOD(E6-D6,1)-N(F6))*24>9,N(F6)*1440<45),"Pause unter 45 Min.",IF(AND((MOD(E6-D6,1)-N(F6))*24>6,N(F6)*1440<30),"Pause unter 30 Min.",""))),"")
A7: 46422 | B7: Do | G7: =IF(OR(UPPER(C7)="U",UPPER(C7)="K"),H7,IF(AND(ISNUMBER(D7),ISNUMBER(E7)),ROUND((MOD(E7-D7,1)-N(F7))*24,2),0)) | H7: =INDEX(Einstellungen!$B$7:$B$13,4) | I7: =IF(OR(ISNUMBER(D7),C7<>""),G7-H7,0) | K7: =IF(AND(ISNUMBER(D7),ISNUMBER(E7)),IF((MOD(E7-D7,1)-N(F7))*24>10,"über 10 Std.",IF(AND((MOD(E7-D7,1)-N(F7))*24>9,N(F7)*1440<45),"Pause unter 45 Min.",IF(AND((MOD(E7-D7,1)-N(F7))*24>6,N(F7)*1440<30),"Pause unter 30 Min.",""))),"")
A8: 46423 | B8: Fr | G8: =IF(OR(UPPER(C8)="U",UPPER(C8)="K"),H8,IF(AND(ISNUMBER(D8),ISNUMBER(E8)),ROUND((MOD(E8-D8,1)-N(F8))*24,2),0)) | H8: =INDEX(Einstellungen!$B$7:$B$13,5) | I8: =IF(OR(ISNUMBER(D8),C8<>""),G8-H8,0) | K8: =IF(AND(ISNUMBER(D8),ISNUMBER(E8)),IF((MOD(E8-D8,1)-N(F8))*24>10,"über 10 Std.",IF(AND((MOD(E8-D8,1)-N(F8))*24>9,N(F8)*1440<45),"Pause unter 45 Min.",IF(AND((MOD(E8-D8,1)-N(F8))*24>6,N(F8)*1440<30),"Pause unter 30 Min.",""))),"")
A9: 46424 | B9: Sa | G9: =IF(OR(UPPER(C9)="U",UPPER(C9)="K"),H9,IF(AND(ISNUMBER(D9),ISNUMBER(E9)),ROUND((MOD(E9-D9,1)-N(F9))*24,2),0)) | H9: =INDEX(Einstellungen!$B$7:$B$13,6) | I9: =IF(OR(ISNUMBER(D9),C9<>""),G9-H9,0) | K9: =IF(AND(ISNUMBER(D9),ISNUMBER(E9)),IF((MOD(E9-D9,1)-N(F9))*24>10,"über 10 Std.",IF(AND((MOD(E9-D9,1)-N(F9))*24>9,N(F9)*1440<45),"Pause unter 45 Min.",IF(AND((MOD(E9-D9,1)-N(F9))*24>6,N(F9)*1440<30),"Pause unter 30 Min.",""))),"")
A10: 46425 | B10: So | G10: =IF(OR(UPPER(C10)="U",UPPER(C10)="K"),H10,IF(AND(ISNUMBER(D10),ISNUMBER(E10)),ROUND((MOD(E10-D10,1)-N(F10))*24,2),0)) | H10: =INDEX(Einstellungen!$B$7:$B$13,7) | I10: =IF(OR(ISNUMBER(D10),C10<>""),G10-H10,0) | K10: =IF(AND(ISNUMBER(D10),ISNUMBER(E10)),IF((MOD(E10-D10,1)-N(F10))*24>10,"über 10 Std.",IF(AND((MOD(E10-D10,1)-N(F10))*24>9,N(F10)*1440<45),"Pause unter 45 Min.",IF(AND((MOD(E10-D10,1)-N(F10))*24>6,N(F10)*1440<30),"Pause unter 30 Min.",""))),"")
A11: 46426 | B11: Mo | G11: =IF(OR(UPPER(C11)="U",UPPER(C11)="K"),H11,IF(AND(ISNUMBER(D11),ISNUMBER(E11)),ROUND((MOD(E11-D11,1)-N(F11))*24,2),0)) | H11: =INDEX(Einstellungen!$B$7:$B$13,1) | I11: =IF(OR(ISNUMBER(D11),C11<>""),G11-H11,0) | K11: =IF(AND(ISNUMBER(D11),ISNUMBER(E11)),IF((MOD(E11-D11,1)-N(F11))*24>10,"über 10 Std.",IF(AND((MOD(E11-D11,1)-N(F11))*24>9,N(F11)*1440<45),"Pause unter 45 Min.",IF(AND((MOD(E11-D11,1)-N(F11))*24>6,N(F11)*1440<30),"Pause unter 30 Min.",""))),"")
A12: 46427 | B12: Di | G12: =IF(OR(UPPER(C12)="U",UPPER(C12)="K"),H12,IF(AND(ISNUMBER(D12),ISNUMBER(E12)),ROUND((MOD(E12-D12,1)-N(F12))*24,2),0)) | H12: =INDEX(Einstellungen!$B$7:$B$13,2) | I12: =IF(OR(ISNUMBER(D12),C12<>""),G12-H12,0) | K12: =IF(AND(ISNUMBER(D12),ISNUMBER(E12)),IF((MOD(E12-D12,1)-N(F12))*24>10,"über 10 Std.",IF(AND((MOD(E12-D12,1)-N(F12))*24>9,N(F12)*1440<45),"Pause unter 45 Min.",IF(AND((MOD(E12-D12,1)-N(F12))*24>6,N(F12)*1440<30),"Pause unter 30 Min.",""))),"")
A13: 46428 | B13: Mi | G13: =IF(OR(UPPER(C13)="U",UPPER(C13)="K"),H13,IF(AND(ISNUMBER(D13),ISNUMBER(E13)),ROUND((MOD(E13-D13,1)-N(F13))*24,2),0)) | H13: =INDEX(Einstellungen!$B$7:$B$13,3) | I13: =IF(OR(ISNUMBER(D13),C13<>""),G13-H13,0) | K13: =IF(AND(ISNUMBER(D13),ISNUMBER(E13)),IF((MOD(E13-D13,1)-N(F13))*24>10,"über 10 Std.",IF(AND((MOD(E13-D13,1)-N(F13))*24>9,N(F13)*1440<45),"Pause unter 45 Min.",IF(AND((MOD(E13-D13,1)-N(F13))*24>6,N(F13)*1440<30),"Pause unter 30 Min.",""))),"")
A14: 46429 | B14: Do | G14: =IF(OR(UPPER(C14)="U",UPPER(C14)="K"),H14,IF(AND(ISNUMBER(D14),ISNUMBER(E14)),ROUND((MOD(E14-D14,1)-N(F14))*24,2),0)) | H14: =INDEX(Einstellungen!$B$7:$B$13,4) | I14: =IF(OR(ISNUMBER(D14),C14<>""),G14-H14,0) | K14: =IF(AND(ISNUMBER(D14),ISNUMBER(E14)),IF((MOD(E14-D14,1)-N(F14))*24>10,"über 10 Std.",IF(AND((MOD(E14-D14,1)-N(F14))*24>9,N(F14)*1440<45),"Pause unter 45 Min.",IF(AND((MOD(E14-D14,1)-N(F14))*24>6,N(F14)*1440<30),"Pause unter 30 Min.",""))),"")
A15: 46430 | B15: Fr | G15: =IF(OR(UPPER(C15)="U",UPPER(C15)="K"),H15,IF(AND(ISNUMBER(D15),ISNUMBER(E15)),ROUND((MOD(E15-D15,1)-N(F15))*24,2),0)) | H15: =INDEX(Einstellungen!$B$7:$B$13,5) | I15: =IF(OR(ISNUMBER(D15),C15<>""),G15-H15,0) | K15: =IF(AND(ISNUMBER(D15),ISNUMBER(E15)),IF((MOD(E15-D15,1)-N(F15))*24>10,"über 10 Std.",IF(AND((MOD(E15-D15,1)-N(F15))*24>9,N(F15)*1440<45),"Pause unter 45 Min.",IF(AND((MOD(E15-D15,1)-N(F15))*24>6,N(F15)*1440<30),"Pause unter 30 Min.",""))),"")
A16: 46431 | B16: Sa | G16: =IF(OR(UPPER(C16)="U",UPPER(C16)="K"),H16,IF(AND(ISNUMBER(D16),ISNUMBER(E16)),ROUND((MOD(E16-D16,1)-N(F16))*24,2),0)) | H16: =INDEX(Einstellungen!$B$7:$B$13,6) | I16: =IF(OR(ISNUMBER(D16),C16<>""),G16-H16,0) | K16: =IF(AND(ISNUMBER(D16),ISNUMBER(E16)),IF((MOD(E16-D16,1)-N(F16))*24>10,"über 10 Std.",IF(AND((MOD(E16-D16,1)-N(F16))*24>9,N(F16)*1440<45),"Pause unter 45 Min.",IF(AND((MOD(E16-D16,1)-N(F16))*24>6,N(F16)*1440<30),"Pause unter 30 Min.",""))),"")
A17: 46432 | B17: So | G17: =IF(OR(UPPER(C17)="U",UPPER(C17)="K"),H17,IF(AND(ISNUMBER(D17),ISNUMBER(E17)),ROUND((MOD(E17-D17,1)-N(F17))*24,2),0)) | H17: =INDEX(Einstellungen!$B$7:$B$13,7) | I17: =IF(OR(ISNUMBER(D17),C17<>""),G17-H17,0) | K17: =IF(AND(ISNUMBER(D17),ISNUMBER(E17)),IF((MOD(E17-D17,1)-N(F17))*24>10,"über 10 Std.",IF(AND((MOD(E17-D17,1)-N(F17))*24>9,N(F17)*1440<45),"Pause unter 45 Min.",IF(AND((MOD(E17-D17,1)-N(F17))*24>6,N(F17)*1440<30),"Pause unter 30 Min.",""))),"")
A18: 46433 | B18: Mo | G18: =IF(OR(UPPER(C18)="U",UPPER(C18)="K"),H18,IF(AND(ISNUMBER(D18),ISNUMBER(E18)),ROUND((MOD(E18-D18,1)-N(F18))*24,2),0)) | H18: =INDEX(Einstellungen!$B$7:$B$13,1) | I18: =IF(OR(ISNUMBER(D18),C18<>""),G18-H18,0) | K18: =IF(AND(ISNUMBER(D18),ISNUMBER(E18)),IF((MOD(E18-D18,1)-N(F18))*24>10,"über 10 Std.",IF(AND((MOD(E18-D18,1)-N(F18))*24>9,N(F18)*1440<45),"Pause unter 45 Min.",IF(AND((MOD(E18-D18,1)-N(F18))*24>6,N(F18)*1440<30),"Pause unter 30 Min.",""))),"")
A19: 46434 | B19: Di | G19: =IF(OR(UPPER(C19)="U",UPPER(C19)="K"),H19,IF(AND(ISNUMBER(D19),ISNUMBER(E19)),ROUND((MOD(E19-D19,1)-N(F19))*24,2),0)) | H19: =INDEX(Einstellungen!$B$7:$B$13,2) | I19: =IF(OR(ISNUMBER(D19),C19<>""),G19-H19,0) | K19: =IF(AND(ISNUMBER(D19),ISNUMBER(E19)),IF((MOD(E19-D19,1)-N(F19))*24>10,"über 10 Std.",IF(AND((MOD(E19-D19,1)-N(F19))*24>9,N(F19)*1440<45),"Pause unter 45 Min.",IF(AND((MOD(E19-D19,1)-N(F19))*24>6,N(F19)*1440<30),"Pause unter 30 Min.",""))),"")
A20: 46435 | B20: Mi | G20: =IF(OR(UPPER(C20)="U",UPPER(C20)="K"),H20,IF(AND(ISNUMBER(D20),ISNUMBER(E20)),ROUND((MOD(E20-D20,1)-N(F20))*24,2),0)) | H20: =INDEX(Einstellungen!$B$7:$B$13,3) | I20: =IF(OR(ISNUMBER(D20),C20<>""),G20-H20,0) | K20: =IF(AND(ISNUMBER(D20),ISNUMBER(E20)),IF((MOD(E20-D20,1)-N(F20))*24>10,"über 10 Std.",IF(AND((MOD(E20-D20,1)-N(F20))*24>9,N(F20)*1440<45),"Pause unter 45 Min.",IF(AND((MOD(E20-D20,1)-N(F20))*24>6,N(F20)*1440<30),"Pause unter 30 Min.",""))),"")
A21: 46436 | B21: Do | G21: =IF(OR(UPPER(C21)="U",UPPER(C21)="K"),H21,IF(AND(ISNUMBER(D21),ISNUMBER(E21)),ROUND((MOD(E21-D21,1)-N(F21))*24,2),0)) | H21: =INDEX(Einstellungen!$B$7:$B$13,4) | I21: =IF(OR(ISNUMBER(D21),C21<>""),G21-H21,0) | K21: =IF(AND(ISNUMBER(D21),ISNUMBER(E21)),IF((MOD(E21-D21,1)-N(F21))*24>10,"über 10 Std.",IF(AND((MOD(E21-D21,1)-N(F21))*24>9,N(F21)*1440<45),"Pause unter 45 Min.",IF(AND((MOD(E21-D21,1)-N(F21))*24>6,N(F21)*1440<30),"Pause unter 30 Min.",""))),"")
A22: 46437 | B22: Fr | G22: =IF(OR(UPPER(C22)="U",UPPER(C22)="K"),H22,IF(AND(ISNUMBER(D22),ISNUMBER(E22)),ROUND((MOD(E22-D22,1)-N(F22))*24,2),0)) | H22: =INDEX(Einstellungen!$B$7:$B$13,5) | I22: =IF(OR(ISNUMBER(D22),C22<>""),G22-H22,0) | K22: =IF(AND(ISNUMBER(D22),ISNUMBER(E22)),IF((MOD(E22-D22,1)-N(F22))*24>10,"über 10 Std.",IF(AND((MOD(E22-D22,1)-N(F22))*24>9,N(F22)*1440<45),"Pause unter 45 Min.",IF(AND((MOD(E22-D22,1)-N(F22))*24>6,N(F22)*1440<30),"Pause unter 30 Min.",""))),"")
A23: 46438 | B23: Sa | G23: =IF(OR(UPPER(C23)="U",UPPER(C23)="K"),H23,IF(AND(ISNUMBER(D23),ISNUMBER(E23)),ROUND((MOD(E23-D23,1)-N(F23))*24,2),0)) | H23: =INDEX(Einstellungen!$B$7:$B$13,6) | I23: =IF(OR(ISNUMBER(D23),C23<>""),G23-H23,0) | K23: =IF(AND(ISNUMBER(D23),ISNUMBER(E23)),IF((MOD(E23-D23,1)-N(F23))*24>10,"über 10 Std.",IF(AND((MOD(E23-D23,1)-N(F23))*24>9,N(F23)*1440<45),"Pause unter 45 Min.",IF(AND((MOD(E23-D23,1)-N(F23))*24>6,N(F23)*1440<30),"Pause unter 30 Min.",""))),"")
A24: 46439 | B24: So | G24: =IF(OR(UPPER(C24)="U",UPPER(C24)="K"),H24,IF(AND(ISNUMBER(D24),ISNUMBER(E24)),ROUND((MOD(E24-D24,1)-N(F24))*24,2),0)) | H24: =INDEX(Einstellungen!$B$7:$B$13,7) | I24: =IF(OR(ISNUMBER(D24),C24<>""),G24-H24,0) | K24: =IF(AND(ISNUMBER(D24),ISNUMBER(E24)),IF((MOD(E24-D24,1)-N(F24))*24>10,"über 10 Std.",IF(AND((MOD(E24-D24,1)-N(F24))*24>9,N(F24)*1440<45),"Pause unter 45 Min.",IF(AND((MOD(E24-D24,1)-N(F24))*24>6,N(F24)*1440<30),"Pause unter 30 Min.",""))),"")
A25: 46440 | B25: Mo | G25: =IF(OR(UPPER(C25)="U",UPPER(C25)="K"),H25,IF(AND(ISNUMBER(D25),ISNUMBER(E25)),ROUND((MOD(E25-D25,1)-N(F25))*24,2),0)) | H25: =INDEX(Einstellungen!$B$7:$B$13,1) | I25: =IF(OR(ISNUMBER(D25),C25<>""),G25-H25,0) | K25: =IF(AND(ISNUMBER(D25),ISNUMBER(E25)),IF((MOD(E25-D25,1)-N(F25))*24>10,"über 10 Std.",IF(AND((MOD(E25-D25,1)-N(F25))*24>9,N(F25)*1440<45),"Pause unter 45 Min.",IF(AND((MOD(E25-D25,1)-N(F25))*24>6,N(F25)*1440<30),"Pause unter 30 Min.",""))),"")
A26: 46441 | B26: Di | G26: =IF(OR(UPPER(C26)="U",UPPER(C26)="K"),H26,IF(AND(ISNUMBER(D26),ISNUMBER(E26)),ROUND((MOD(E26-D26,1)-N(F26))*24,2),0)) | H26: =INDEX(Einstellungen!$B$7:$B$13,2) | I26: =IF(OR(ISNUMBER(D26),C26<>""),G26-H26,0) | K26: =IF(AND(ISNUMBER(D26),ISNUMBER(E26)),IF((MOD(E26-D26,1)-N(F26))*24>10,"über 10 Std.",IF(AND((MOD(E26-D26,1)-N(F26))*24>9,N(F26)*1440<45),"Pause unter 45 Min.",IF(AND((MOD(E26-D26,1)-N(F26))*24>6,N(F26)*1440<30),"Pause unter 30 Min.",""))),"")
A27: 46442 | B27: Mi | G27: =IF(OR(UPPER(C27)="U",UPPER(C27)="K"),H27,IF(AND(ISNUMBER(D27),ISNUMBER(E27)),ROUND((MOD(E27-D27,1)-N(F27))*24,2),0)) | H27: =INDEX(Einstellungen!$B$7:$B$13,3) | I27: =IF(OR(ISNUMBER(D27),C27<>""),G27-H27,0) | K27: =IF(AND(ISNUMBER(D27),ISNUMBER(E27)),IF((MOD(E27-D27,1)-N(F27))*24>10,"über 10 Std.",IF(AND((MOD(E27-D27,1)-N(F27))*24>9,N(F27)*1440<45),"Pause unter 45 Min.",IF(AND((MOD(E27-D27,1)-N(F27))*24>6,N(F27)*1440<30),"Pause unter 30 Min.",""))),"")
A28: 46443 | B28: Do | G28: =IF(OR(UPPER(C28)="U",UPPER(C28)="K"),H28,IF(AND(ISNUMBER(D28),ISNUMBER(E28)),ROUND((MOD(E28-D28,1)-N(F28))*24,2),0)) | H28: =INDEX(Einstellungen!$B$7:$B$13,4) | I28: =IF(OR(ISNUMBER(D28),C28<>""),G28-H28,0) | K28: =IF(AND(ISNUMBER(D28),ISNUMBER(E28)),IF((MOD(E28-D28,1)-N(F28))*24>10,"über 10 Std.",IF(AND((MOD(E28-D28,1)-N(F28))*24>9,N(F28)*1440<45),"Pause unter 45 Min.",IF(AND((MOD(E28-D28,1)-N(F28))*24>6,N(F28)*1440<30),"Pause unter 30 Min.",""))),"")
A29: 46444 | B29: Fr | G29: =IF(OR(UPPER(C29)="U",UPPER(C29)="K"),H29,IF(AND(ISNUMBER(D29),ISNUMBER(E29)),ROUND((MOD(E29-D29,1)-N(F29))*24,2),0)) | H29: =INDEX(Einstellungen!$B$7:$B$13,5) | I29: =IF(OR(ISNUMBER(D29),C29<>""),G29-H29,0) | K29: =IF(AND(ISNUMBER(D29),ISNUMBER(E29)),IF((MOD(E29-D29,1)-N(F29))*24>10,"über 10 Std.",IF(AND((MOD(E29-D29,1)-N(F29))*24>9,N(F29)*1440<45),"Pause unter 45 Min.",IF(AND((MOD(E29-D29,1)-N(F29))*24>6,N(F29)*1440<30),"Pause unter 30 Min.",""))),"")
A30: 46445 | B30: Sa | G30: =IF(OR(UPPER(C30)="U",UPPER(C30)="K"),H30,IF(AND(ISNUMBER(D30),ISNUMBER(E30)),ROUND((MOD(E30-D30,1)-N(F30))*24,2),0)) | H30: =INDEX(Einstellungen!$B$7:$B$13,6) | I30: =IF(OR(ISNUMBER(D30),C30<>""),G30-H30,0) | K30: =IF(AND(ISNUMBER(D30),ISNUMBER(E30)),IF((MOD(E30-D30,1)-N(F30))*24>10,"über 10 Std.",IF(AND((MOD(E30-D30,1)-N(F30))*24>9,N(F30)*1440<45),"Pause unter 45 Min.",IF(AND((MOD(E30-D30,1)-N(F30))*24>6,N(F30)*1440<30),"Pause unter 30 Min.",""))),"")
A31: 46446 | B31: So | G31: =IF(OR(UPPER(C31)="U",UPPER(C31)="K"),H31,IF(AND(ISNUMBER(D31),ISNUMBER(E31)),ROUND((MOD(E31-D31,1)-N(F31))*24,2),0)) | H31: =INDEX(Einstellungen!$B$7:$B$13,7) | I31: =IF(OR(ISNUMBER(D31),C31<>""),G31-H31,0) | K31: =IF(AND(ISNUMBER(D31),ISNUMBER(E31)),IF((MOD(E31-D31,1)-N(F31))*24>10,"über 10 Std.",IF(AND((MOD(E31-D31,1)-N(F31))*24>9,N(F31)*1440<45),"Pause unter 45 Min.",IF(AND((MOD(E31-D31,1)-N(F31))*24>6,N(F31)*1440<30),"Pause unter 30 Min.",""))),"")
A33: Ist-Stunden | D33: =SUM(G4:G31)
A34: Soll (ganzer Monat) | D34: =SUM(H4:H31)
A35: Differenz (erfasste Tage) | D35: =SUM(I4:I31)
A36: Urlaubstage | D36: =COUNTIF(C4:C31,"U")
A37: Kranktage | D37: =COUNTIF(C4:C31,"K")

Sheet März
A1: März 2027 | D1: =Einstellungen!B4
A3: Datum | B3: Tag | C3: Art | D3: Beginn | E3: Ende | F3: Pause | G3: Ist (Std.) | H3: Soll (Std.) | I3: Differenz | J3: Bemerkung | K3: Prüfung
A4: 46447 | B4: Mo | G4: =IF(OR(UPPER(C4)="U",UPPER(C4)="K"),H4,IF(AND(ISNUMBER(D4),ISNUMBER(E4)),ROUND((MOD(E4-D4,1)-N(F4))*24,2),0)) | H4: =INDEX(Einstellungen!$B$7:$B$13,1) | I4: =IF(OR(ISNUMBER(D4),C4<>""),G4-H4,0) | K4: =IF(AND(ISNUMBER(D4),ISNUMBER(E4)),IF((MOD(E4-D4,1)-N(F4))*24>10,"über 10 Std.",IF(AND((MOD(E4-D4,1)-N(F4))*24>9,N(F4)*1440<45),"Pause unter 45 Min.",IF(AND((MOD(E4-D4,1)-N(F4))*24>6,N(F4)*1440<30),"Pause unter 30 Min.",""))),"")
A5: 46448 | B5: Di | G5: =IF(OR(UPPER(C5)="U",UPPER(C5)="K"),H5,IF(AND(ISNUMBER(D5),ISNUMBER(E5)),ROUND((MOD(E5-D5,1)-N(F5))*24,2),0)) | H5: =INDEX(Einstellungen!$B$7:$B$13,2) | I5: =IF(OR(ISNUMBER(D5),C5<>""),G5-H5,0) | K5: =IF(AND(ISNUMBER(D5),ISNUMBER(E5)),IF((MOD(E5-D5,1)-N(F5))*24>10,"über 10 Std.",IF(AND((MOD(E5-D5,1)-N(F5))*24>9,N(F5)*1440<45),"Pause unter 45 Min.",IF(AND((MOD(E5-D5,1)-N(F5))*24>6,N(F5)*1440<30),"Pause unter 30 Min.",""))),"")
A6: 46449 | B6: Mi | G6: =IF(OR(UPPER(C6)="U",UPPER(C6)="K"),H6,IF(AND(ISNUMBER(D6),ISNUMBER(E6)),ROUND((MOD(E6-D6,1)-N(F6))*24,2),0)) | H6: =INDEX(Einstellungen!$B$7:$B$13,3) | I6: =IF(OR(ISNUMBER(D6),C6<>""),G6-H6,0) | K6: =IF(AND(ISNUMBER(D6),ISNUMBER(E6)),IF((MOD(E6-D6,1)-N(F6))*24>10,"über 10 Std.",IF(AND((MOD(E6-D6,1)-N(F6))*24>9,N(F6)*1440<45),"Pause unter 45 Min.",IF(AND((MOD(E6-D6,1)-N(F6))*24>6,N(F6)*1440<30),"Pause unter 30 Min.",""))),"")
A7: 46450 | B7: Do | G7: =IF(OR(UPPER(C7)="U",UPPER(C7)="K"),H7,IF(AND(ISNUMBER(D7),ISNUMBER(E7)),ROUND((MOD(E7-D7,1)-N(F7))*24,2),0)) | H7: =INDEX(Einstellungen!$B$7:$B$13,4) | I7: =IF(OR(ISNUMBER(D7),C7<>""),G7-H7,0) | K7: =IF(AND(ISNUMBER(D7),ISNUMBER(E7)),IF((MOD(E7-D7,1)-N(F7))*24>10,"über 10 Std.",IF(AND((MOD(E7-D7,1)-N(F7))*24>9,N(F7)*1440<45),"Pause unter 45 Min.",IF(AND((MOD(E7-D7,1)-N(F7))*24>6,N(F7)*1440<30),"Pause unter 30 Min.",""))),"")
A8: 46451 | B8: Fr | G8: =IF(OR(UPPER(C8)="U",UPPER(C8)="K"),H8,IF(AND(ISNUMBER(D8),ISNUMBER(E8)),ROUND((MOD(E8-D8,1)-N(F8))*24,2),0)) | H8: =INDEX(Einstellungen!$B$7:$B$13,5) | I8: =IF(OR(ISNUMBER(D8),C8<>""),G8-H8,0) | K8: =IF(AND(ISNUMBER(D8),ISNUMBER(E8)),IF((MOD(E8-D8,1)-N(F8))*24>10,"über 10 Std.",IF(AND((MOD(E8-D8,1)-N(F8))*24>9,N(F8)*1440<45),"Pause unter 45 Min.",IF(AND((MOD(E8-D8,1)-N(F8))*24>6,N(F8)*1440<30),"Pause unter 30 Min.",""))),"")
A9: 46452 | B9: Sa | G9: =IF(OR(UPPER(C9)="U",UPPER(C9)="K"),H9,IF(AND(ISNUMBER(D9),ISNUMBER(E9)),ROUND((MOD(E9-D9,1)-N(F9))*24,2),0)) | H9: =INDEX(Einstellungen!$B$7:$B$13,6) | I9: =IF(OR(ISNUMBER(D9),C9<>""),G9-H9,0) | K9: =IF(AND(ISNUMBER(D9),ISNUMBER(E9)),IF((MOD(E9-D9,1)-N(F9))*24>10,"über 10 Std.",IF(AND((MOD(E9-D9,1)-N(F9))*24>9,N(F9)*1440<45),"Pause unter 45 Min.",IF(AND((MOD(E9-D9,1)-N(F9))*24>6,N(F9)*1440<30),"Pause unter 30 Min.",""))),"")
A10: 46453 | B10: So | G10: =IF(OR(UPPER(C10)="U",UPPER(C10)="K"),H10,IF(AND(ISNUMBER(D10),ISNUMBER(E10)),ROUND((MOD(E10-D10,1)-N(F10))*24,2),0)) | H10: =INDEX(Einstellungen!$B$7:$B$13,7) | I10: =IF(OR(ISNUMBER(D10),C10<>""),G10-H10,0) | K10: =IF(AND(ISNUMBER(D10),ISNUMBER(E10)),IF((MOD(E10-D10,1)-N(F10))*24>10,"über 10 Std.",IF(AND((MOD(E10-D10,1)-N(F10))*24>9,N(F10)*1440<45),"Pause unter 45 Min.",IF(AND((MOD(E10-D10,1)-N(F10))*24>6,N(F10)*1440<30),"Pause unter 30 Min.",""))),"")
A11: 46454 | B11: Mo | G11: =IF(OR(UPPER(C11)="U",UPPER(C11)="K"),H11,IF(AND(ISNUMBER(D11),ISNUMBER(E11)),ROUND((MOD(E11-D11,1)-N(F11))*24,2),0)) | H11: =INDEX(Einstellungen!$B$7:$B$13,1) | I11: =IF(OR(ISNUMBER(D11),C11<>""),G11-H11,0) | K11: =IF(AND(ISNUMBER(D11),ISNUMBER(E11)),IF((MOD(E11-D11,1)-N(F11))*24>10,"über 10 Std.",IF(AND((MOD(E11-D11,1)-N(F11))*24>9,N(F11)*1440<45),"Pause unter 45 Min.",IF(AND((MOD(E11-D11,1)-N(F11))*24>6,N(F11)*1440<30),"Pause unter 30 Min.",""))),"")
A12: 46455 | B12: Di | G12: =IF(OR(UPPER(C12)="U",UPPER(C12)="K"),H12,IF(AND(ISNUMBER(D12),ISNUMBER(E12)),ROUND((MOD(E12-D12,1)-N(F12))*24,2),0)) | H12: =INDEX(Einstellungen!$B$7:$B$13,2) | I12: =IF(OR(ISNUMBER(D12),C12<>""),G12-H12,0) | K12: =IF(AND(ISNUMBER(D12),ISNUMBER(E12)),IF((MOD(E12-D12,1)-N(F12))*24>10,"über 10 Std.",IF(AND((MOD(E12-D12,1)-N(F12))*24>9,N(F12)*1440<45),"Pause unter 45 Min.",IF(AND((MOD(E12-D12,1)-N(F12))*24>6,N(F12)*1440<30),"Pause unter 30 Min.",""))),"")
A13: 46456 | B13: Mi | G13: =IF(OR(UPPER(C13)="U",UPPER(C13)="K"),H13,IF(AND(ISNUMBER(D13),ISNUMBER(E13)),ROUND((MOD(E13-D13,1)-N(F13))*24,2),0)) | H13: =INDEX(Einstellungen!$B$7:$B$13,3) | I13: =IF(OR(ISNUMBER(D13),C13<>""),G13-H13,0) | K13: =IF(AND(ISNUMBER(D13),ISNUMBER(E13)),IF((MOD(E13-D13,1)-N(F13))*24>10,"über 10 Std.",IF(AND((MOD(E13-D13,1)-N(F13))*24>9,N(F13)*1440<45),"Pause unter 45 Min.",IF(AND((MOD(E13-D13,1)-N(F13))*24>6,N(F13)*1440<30),"Pause unter 30 Min.",""))),"")
A14: 46457 | B14: Do | G14: =IF(OR(UPPER(C14)="U",UPPER(C14)="K"),H14,IF(AND(ISNUMBER(D14),ISNUMBER(E14)),ROUND((MOD(E14-D14,1)-N(F14))*24,2),0)) | H14: =INDEX(Einstellungen!$B$7:$B$13,4) | I14: =IF(OR(ISNUMBER(D14),C14<>""),G14-H14,0) | K14: =IF(AND(ISNUMBER(D14),ISNUMBER(E14)),IF((MOD(E14-D14,1)-N(F14))*24>10,"über 10 Std.",IF(AND((MOD(E14-D14,1)-N(F14))*24>9,N(F14)*1440<45),"Pause unter 45 Min.",IF(AND((MOD(E14-D14,1)-N(F14))*24>6,N(F14)*1440<30),"Pause unter 30 Min.",""))),"")
A15: 46458 | B15: Fr | G15: =IF(OR(UPPER(C15)="U",UPPER(C15)="K"),H15,IF(AND(ISNUMBER(D15),ISNUMBER(E15)),ROUND((MOD(E15-D15,1)-N(F15))*24,2),0)) | H15: =INDEX(Einstellungen!$B$7:$B$13,5) | I15: =IF(OR(ISNUMBER(D15),C15<>""),G15-H15,0) | K15: =IF(AND(ISNUMBER(D15),ISNUMBER(E15)),IF((MOD(E15-D15,1)-N(F15))*24>10,"über 10 Std.",IF(AND((MOD(E15-D15,1)-N(F15))*24>9,N(F15)*1440<45),"Pause unter 45 Min.",IF(AND((MOD(E15-D15,1)-N(F15))*24>6,N(F15)*1440<30),"Pause unter 30 Min.",""))),"")
A16: 46459 | B16: Sa | G16: =IF(OR(UPPER(C16)="U",UPPER(C16)="K"),H16,IF(AND(ISNUMBER(D16),ISNUMBER(E16)),ROUND((MOD(E16-D16,1)-N(F16))*24,2),0)) | H16: =INDEX(Einstellungen!$B$7:$B$13,6) | I16: =IF(OR(ISNUMBER(D16),C16<>""),G16-H16,0) | K16: =IF(AND(ISNUMBER(D16),ISNUMBER(E16)),IF((MOD(E16-D16,1)-N(F16))*24>10,"über 10 Std.",IF(AND((MOD(E16-D16,1)-N(F16))*24>9,N(F16)*1440<45),"Pause unter 45 Min.",IF(AND((MOD(E16-D16,1)-N(F16))*24>6,N(F16)*1440<30),"Pause unter 30 Min.",""))),"")
A17: 46460 | B17: So | G17: =IF(OR(UPPER(C17)="U",UPPER(C17)="K"),H17,IF(AND(ISNUMBER(D17),ISNUMBER(E17)),ROUND((MOD(E17-D17,1)-N(F17))*24,2),0)) | H17: =INDEX(Einstellungen!$B$7:$B$13,7) | I17: =IF(OR(ISNUMBER(D17),C17<>""),G17-H17,0) | K17: =IF(AND(ISNUMBER(D17),ISNUMBER(E17)),IF((MOD(E17-D17,1)-N(F17))*24>10,"über 10 Std.",IF(AND((MOD(E17-D17,1)-N(F17))*24>9,N(F17)*1440<45),"Pause unter 45 Min.",IF(AND((MOD(E17-D17,1)-N(F17))*24>6,N(F17)*1440<30),"Pause unter 30 Min.",""))),"")
A18: 46461 | B18: Mo | G18: =IF(OR(UPPER(C18)="U",UPPER(C18)="K"),H18,IF(AND(ISNUMBER(D18),ISNUMBER(E18)),ROUND((MOD(E18-D18,1)-N(F18))*24,2),0)) | H18: =INDEX(Einstellungen!$B$7:$B$13,1) | I18: =IF(OR(ISNUMBER(D18),C18<>""),G18-H18,0) | K18: =IF(AND(ISNUMBER(D18),ISNUMBER(E18)),IF((MOD(E18-D18,1)-N(F18))*24>10,"über 10 Std.",IF(AND((MOD(E18-D18,1)-N(F18))*24>9,N(F18)*1440<45),"Pause unter 45 Min.",IF(AND((MOD(E18-D18,1)-N(F18))*24>6,N(F18)*1440<30),"Pause unter 30 Min.",""))),"")
A19: 46462 | B19: Di | G19: =IF(OR(UPPER(C19)="U",UPPER(C19)="K"),H19,IF(AND(ISNUMBER(D19),ISNUMBER(E19)),ROUND((MOD(E19-D19,1)-N(F19))*24,2),0)) | H19: =INDEX(Einstellungen!$B$7:$B$13,2) | I19: =IF(OR(ISNUMBER(D19),C19<>""),G19-H19,0) | K19: =IF(AND(ISNUMBER(D19),ISNUMBER(E19)),IF((MOD(E19-D19,1)-N(F19))*24>10,"über 10 Std.",IF(AND((MOD(E19-D19,1)-N(F19))*24>9,N(F19)*1440<45),"Pause unter 45 Min.",IF(AND((MOD(E19-D19,1)-N(F19))*24>6,N(F19)*1440<30),"Pause unter 30 Min.",""))),"")
A20: 46463 | B20: Mi | G20: =IF(OR(UPPER(C20)="U",UPPER(C20)="K"),H20,IF(AND(ISNUMBER(D20),ISNUMBER(E20)),ROUND((MOD(E20-D20,1)-N(F20))*24,2),0)) | H20: =INDEX(Einstellungen!$B$7:$B$13,3) | I20: =IF(OR(ISNUMBER(D20),C20<>""),G20-H20,0) | K20: =IF(AND(ISNUMBER(D20),ISNUMBER(E20)),IF((MOD(E20-D20,1)-N(F20))*24>10,"über 10 Std.",IF(AND((MOD(E20-D20,1)-N(F20))*24>9,N(F20)*1440<45),"Pause unter 45 Min.",IF(AND((MOD(E20-D20,1)-N(F20))*24>6,N(F20)*1440<30),"Pause unter 30 Min.",""))),"")
A21: 46464 | B21: Do | G21: =IF(OR(UPPER(C21)="U",UPPER(C21)="K"),H21,IF(AND(ISNUMBER(D21),ISNUMBER(E21)),ROUND((MOD(E21-D21,1)-N(F21))*24,2),0)) | H21: =INDEX(Einstellungen!$B$7:$B$13,4) | I21: =IF(OR(ISNUMBER(D21),C21<>""),G21-H21,0) | K21: =IF(AND(ISNUMBER(D21),ISNUMBER(E21)),IF((MOD(E21-D21,1)-N(F21))*24>10,"über 10 Std.",IF(AND((MOD(E21-D21,1)-N(F21))*24>9,N(F21)*1440<45),"Pause unter 45 Min.",IF(AND((MOD(E21-D21,1)-N(F21))*24>6,N(F21)*1440<30),"Pause unter 30 Min.",""))),"")
A22: 46465 | B22: Fr | G22: =IF(OR(UPPER(C22)="U",UPPER(C22)="K"),H22,IF(AND(ISNUMBER(D22),ISNUMBER(E22)),ROUND((MOD(E22-D22,1)-N(F22))*24,2),0)) | H22: =INDEX(Einstellungen!$B$7:$B$13,5) | I22: =IF(OR(ISNUMBER(D22),C22<>""),G22-H22,0) | K22: =IF(AND(ISNUMBER(D22),ISNUMBER(E22)),IF((MOD(E22-D22,1)-N(F22))*24>10,"über 10 Std.",IF(AND((MOD(E22-D22,1)-N(F22))*24>9,N(F22)*1440<45),"Pause unter 45 Min.",IF(AND((MOD(E22-D22,1)-N(F22))*24>6,N(F22)*1440<30),"Pause unter 30 Min.",""))),"")
A23: 46466 | B23: Sa | G23: =IF(OR(UPPER(C23)="U",UPPER(C23)="K"),H23,IF(AND(ISNUMBER(D23),ISNUMBER(E23)),ROUND((MOD(E23-D23,1)-N(F23))*24,2),0)) | H23: =INDEX(Einstellungen!$B$7:$B$13,6) | I23: =IF(OR(ISNUMBER(D23),C23<>""),G23-H23,0) | K23: =IF(AND(ISNUMBER(D23),ISNUMBER(E23)),IF((MOD(E23-D23,1)-N(F23))*24>10,"über 10 Std.",IF(AND((MOD(E23-D23,1)-N(F23))*24>9,N(F23)*1440<45),"Pause unter 45 Min.",IF(AND((MOD(E23-D23,1)-N(F23))*24>6,N(F23)*1440<30),"Pause unter 30 Min.",""))),"")
A24: 46467 | B24: So | G24: =IF(OR(UPPER(C24)="U",UPPER(C24)="K"),H24,IF(AND(ISNUMBER(D24),ISNUMBER(E24)),ROUND((MOD(E24-D24,1)-N(F24))*24,2),0)) | H24: =INDEX(Einstellungen!$B$7:$B$13,7) | I24: =IF(OR(ISNUMBER(D24),C24<>""),G24-H24,0) | K24: =IF(AND(ISNUMBER(D24),ISNUMBER(E24)),IF((MOD(E24-D24,1)-N(F24))*24>10,"über 10 Std.",IF(AND((MOD(E24-D24,1)-N(F24))*24>9,N(F24)*1440<45),"Pause unter 45 Min.",IF(AND((MOD(E24-D24,1)-N(F24))*24>6,N(F24)*1440<30),"Pause unter 30 Min.",""))),"")
A25: 46468 | B25: Mo | G25: =IF(OR(UPPER(C25)="U",UPPER(C25)="K"),H25,IF(AND(ISNUMBER(D25),ISNUMBER(E25)),ROUND((MOD(E25-D25,1)-N(F25))*24,2),0)) | H25: =INDEX(Einstellungen!$B$7:$B$13,1) | I25: =IF(OR(ISNUMBER(D25),C25<>""),G25-H25,0) | K25: =IF(AND(ISNUMBER(D25),ISNUMBER(E25)),IF((MOD(E25-D25,1)-N(F25))*24>10,"über 10 Std.",IF(AND((MOD(E25-D25,1)-N(F25))*24>9,N(F25)*1440<45),"Pause unter 45 Min.",IF(AND((MOD(E25-D25,1)-N(F25))*24>6,N(F25)*1440<30),"Pause unter 30 Min.",""))),"")
A26: 46469 | B26: Di | G26: =IF(OR(UPPER(C26)="U",UPPER(C26)="K"),H26,IF(AND(ISNUMBER(D26),ISNUMBER(E26)),ROUND((MOD(E26-D26,1)-N(F26))*24,2),0)) | H26: =INDEX(Einstellungen!$B$7:$B$13,2) | I26: =IF(OR(ISNUMBER(D26),C26<>""),G26-H26,0) | K26: =IF(AND(ISNUMBER(D26),ISNUMBER(E26)),IF((MOD(E26-D26,1)-N(F26))*24>10,"über 10 Std.",IF(AND((MOD(E26-D26,1)-N(F26))*24>9,N(F26)*1440<45),"Pause unter 45 Min.",IF(AND((MOD(E26-D26,1)-N(F26))*24>6,N(F26)*1440<30),"Pause unter 30 Min.",""))),"")
A27: 46470 | B27: Mi | G27: =IF(OR(UPPER(C27)="U",UPPER(C27)="K"),H27,IF(AND(ISNUMBER(D27),ISNUMBER(E27)),ROUND((MOD(E27-D27,1)-N(F27))*24,2),0)) | H27: =INDEX(Einstellungen!$B$7:$B$13,3) | I27: =IF(OR(ISNUMBER(D27),C27<>""),G27-H27,0) | K27: =IF(AND(ISNUMBER(D27),ISNUMBER(E27)),IF((MOD(E27-D27,1)-N(F27))*24>10,"über 10 Std.",IF(AND((MOD(E27-D27,1)-N(F27))*24>9,N(F27)*1440<45),"Pause unter 45 Min.",IF(AND((MOD(E27-D27,1)-N(F27))*24>6,N(F27)*1440<30),"Pause unter 30 Min.",""))),"")
A28: 46471 | B28: Do | G28: =IF(OR(UPPER(C28)="U",UPPER(C28)="K"),H28,IF(AND(ISNUMBER(D28),ISNUMBER(E28)),ROUND((MOD(E28-D28,1)-N(F28))*24,2),0)) | H28: =INDEX(Einstellungen!$B$7:$B$13,4) | I28: =IF(OR(ISNUMBER(D28),C28<>""),G28-H28,0) | K28: =IF(AND(ISNUMBER(D28),ISNUMBER(E28)),IF((MOD(E28-D28,1)-N(F28))*24>10,"über 10 Std.",IF(AND((MOD(E28-D28,1)-N(F28))*24>9,N(F28)*1440<45),"Pause unter 45 Min.",IF(AND((MOD(E28-D28,1)-N(F28))*24>6,N(F28)*1440<30),"Pause unter 30 Min.",""))),"")
A29: 46472 | B29: Fr | G29: =IF(OR(UPPER(C29)="U",UPPER(C29)="K"),H29,IF(AND(ISNUMBER(D29),ISNUMBER(E29)),ROUND((MOD(E29-D29,1)-N(F29))*24,2),0)) | H29: 0 | I29: =IF(OR(ISNUMBER(D29),C29<>""),G29-H29,0) | J29: Karfreitag | K29: =IF(AND(ISNUMBER(D29),ISNUMBER(E29)),IF((MOD(E29-D29,1)-N(F29))*24>10,"über 10 Std.",IF(AND((MOD(E29-D29,1)-N(F29))*24>9,N(F29)*1440<45),"Pause unter 45 Min.",IF(AND((MOD(E29-D29,1)-N(F29))*24>6,N(F29)*1440<30),"Pause unter 30 Min.",""))),"")
A30: 46473 | B30: Sa | G30: =IF(OR(UPPER(C30)="U",UPPER(C30)="K"),H30,IF(AND(ISNUMBER(D30),ISNUMBER(E30)),ROUND((MOD(E30-D30,1)-N(F30))*24,2),0)) | H30: =INDEX(Einstellungen!$B$7:$B$13,6) | I30: =IF(OR(ISNUMBER(D30),C30<>""),G30-H30,0) | K30: =IF(AND(ISNUMBER(D30),ISNUMBER(E30)),IF((MOD(E30-D30,1)-N(F30))*24>10,"über 10 Std.",IF(AND((MOD(E30-D30,1)-N(F30))*24>9,N(F30)*1440<45),"Pause unter 45 Min.",IF(AND((MOD(E30-D30,1)-N(F30))*24>6,N(F30)*1440<30),"Pause unter 30 Min.",""))),"")
A31: 46474 | B31: So | G31: =IF(OR(UPPER(C31)="U",UPPER(C31)="K"),H31,IF(AND(ISNUMBER(D31),ISNUMBER(E31)),ROUND((MOD(E31-D31,1)-N(F31))*24,2),0)) | H31: =INDEX(Einstellungen!$B$7:$B$13,7) | I31: =IF(OR(ISNUMBER(D31),C31<>""),G31-H31,0) | K31: =IF(AND(ISNUMBER(D31),ISNUMBER(E31)),IF((MOD(E31-D31,1)-N(F31))*24>10,"über 10 Std.",IF(AND((MOD(E31-D31,1)-N(F31))*24>9,N(F31)*1440<45),"Pause unter 45 Min.",IF(AND((MOD(E31-D31,1)-N(F31))*24>6,N(F31)*1440<30),"Pause unter 30 Min.",""))),"")
A32: 46475 | B32: Mo | G32: =IF(OR(UPPER(C32)="U",UPPER(C32)="K"),H32,IF(AND(ISNUMBER(D32),ISNUMBER(E32)),ROUND((MOD(E32-D32,1)-N(F32))*24,2),0)) | H32: 0 | I32: =IF(OR(ISNUMBER(D32),C32<>""),G32-H32,0) | J32: Ostermontag | K32: =IF(AND(ISNUMBER(D32),ISNUMBER(E32)),IF((MOD(E32-D32,1)-N(F32))*24>10,"über 10 Std.",IF(AND((MOD(E32-D32,1)-N(F32))*24>9,N(F32)*1440<45),"Pause unter 45 Min.",IF(AND((MOD(E32-D32,1)-N(F32))*24>6,N(F32)*1440<30),"Pause unter 30 Min.",""))),"")
A33: 46476 | B33: Di | G33: =IF(OR(UPPER(C33)="U",UPPER(C33)="K"),H33,IF(AND(ISNUMBER(D33),ISNUMBER(E33)),ROUND((MOD(E33-D33,1)-N(F33))*24,2),0)) | H33: =INDEX(Einstellungen!$B$7:$B$13,2) | I33: =IF(OR(ISNUMBER(D33),C33<>""),G33-H33,0) | K33: =IF(AND(ISNUMBER(D33),ISNUMBER(E33)),IF((MOD(E33-D33,1)-N(F33))*24>10,"über 10 Std.",IF(AND((MOD(E33-D33,1)-N(F33))*24>9,N(F33)*1440<45),"Pause unter 45 Min.",IF(AND((MOD(E33-D33,1)-N(F33))*24>6,N(F33)*1440<30),"Pause unter 30 Min.",""))),"")
A34: 46477 | B34: Mi | G34: =IF(OR(UPPER(C34)="U",UPPER(C34)="K"),H34,IF(AND(ISNUMBER(D34),ISNUMBER(E34)),ROUND((MOD(E34-D34,1)-N(F34))*24,2),0)) | H34: =INDEX(Einstellungen!$B$7:$B$13,3) | I34: =IF(OR(ISNUMBER(D34),C34<>""),G34-H34,0) | K34: =IF(AND(ISNUMBER(D34),ISNUMBER(E34)),IF((MOD(E34-D34,1)-N(F34))*24>10,"über 10 Std.",IF(AND((MOD(E34-D34,1)-N(F34))*24>9,N(F34)*1440<45),"Pause unter 45 Min.",IF(AND((MOD(E34-D34,1)-N(F34))*24>6,N(F34)*1440<30),"Pause unter 30 Min.",""))),"")
A36: Ist-Stunden | D36: =SUM(G4:G34)
A37: Soll (ganzer Monat) | D37: =SUM(H4:H34)
A38: Differenz (erfasste Tage) | D38: =SUM(I4:I34)
A39: Urlaubstage | D39: =COUNTIF(C4:C34,"U")
A40: Kranktage | D40: =COUNTIF(C4:C34,"K")

Sheet April
A1: April 2027 | D1: =Einstellungen!B4
A3: Datum | B3: Tag | C3: Art | D3: Beginn | E3: Ende | F3: Pause | G3: Ist (Std.) | H3: Soll (Std.) | I3: Differenz | J3: Bemerkung | K3: Prüfung
A4: 46478 | B4: Do | G4: =IF(OR(UPPER(C4)="U",UPPER(C4)="K"),H4,IF(AND(ISNUMBER(D4),ISNUMBER(E4)),ROUND((MOD(E4-D4,1)-N(F4))*24,2),0)) | H4: =INDEX(Einstellungen!$B$7:$B$13,4) | I4: =IF(OR(ISNUMBER(D4),C4<>""),G4-H4,0) | K4: =IF(AND(ISNUMBER(D4),ISNUMBER(E4)),IF((MOD(E4-D4,1)-N(F4))*24>10,"über 10 Std.",IF(AND((MOD(E4-D4,1)-N(F4))*24>9,N(F4)*1440<45),"Pause unter 45 Min.",IF(AND((MOD(E4-D4,1)-N(F4))*24>6,N(F4)*1440<30),"Pause unter 30 Min.",""))),"")
A5: 46479 | B5: Fr | G5: =IF(OR(UPPER(C5)="U",UPPER(C5)="K"),H5,IF(AND(ISNUMBER(D5),ISNUMBER(E5)),ROUND((MOD(E5-D5,1)-N(F5))*24,2),0)) | H5: =INDEX(Einstellungen!$B$7:$B$13,5) | I5: =IF(OR(ISNUMBER(D5),C5<>""),G5-H5,0) | K5: =IF(AND(ISNUMBER(D5),ISNUMBER(E5)),IF((MOD(E5-D5,1)-N(F5))*24>10,"über 10 Std.",IF(AND((MOD(E5-D5,1)-N(F5))*24>9,N(F5)*1440<45),"Pause unter 45 Min.",IF(AND((MOD(E5-D5,1)-N(F5))*24>6,N(F5)*1440<30),"Pause unter 30 Min.",""))),"")
A6: 46480 | B6: Sa | G6: =IF(OR(UPPER(C6)="U",UPPER(C6)="K"),H6,IF(AND(ISNUMBER(D6),ISNUMBER(E6)),ROUND((MOD(E6-D6,1)-N(F6))*24,2),0)) | H6: =INDEX(Einstellungen!$B$7:$B$13,6) | I6: =IF(OR(ISNUMBER(D6),C6<>""),G6-H6,0) | K6: =IF(AND(ISNUMBER(D6),ISNUMBER(E6)),IF((MOD(E6-D6,1)-N(F6))*24>10,"über 10 Std.",IF(AND((MOD(E6-D6,1)-N(F6))*24>9,N(F6)*1440<45),"Pause unter 45 Min.",IF(AND((MOD(E6-D6,1)-N(F6))*24>6,N(F6)*1440<30),"Pause unter 30 Min.",""))),"")
A7: 46481 | B7: So | G7: =IF(OR(UPPER(C7)="U",UPPER(C7)="K"),H7,IF(AND(ISNUMBER(D7),ISNUMBER(E7)),ROUND((MOD(E7-D7,1)-N(F7))*24,2),0)) | H7: =INDEX(Einstellungen!$B$7:$B$13,7) | I7: =IF(OR(ISNUMBER(D7),C7<>""),G7-H7,0) | K7: =IF(AND(ISNUMBER(D7),ISNUMBER(E7)),IF((MOD(E7-D7,1)-N(F7))*24>10,"über 10 Std.",IF(AND((MOD(E7-D7,1)-N(F7))*24>9,N(F7)*1440<45),"Pause unter 45 Min.",IF(AND((MOD(E7-D7,1)-N(F7))*24>6,N(F7)*1440<30),"Pause unter 30 Min.",""))),"")
A8: 46482 | B8: Mo | G8: =IF(OR(UPPER(C8)="U",UPPER(C8)="K"),H8,IF(AND(ISNUMBER(D8),ISNUMBER(E8)),ROUND((MOD(E8-D8,1)-N(F8))*24,2),0)) | H8: =INDEX(Einstellungen!$B$7:$B$13,1) | I8: =IF(OR(ISNUMBER(D8),C8<>""),G8-H8,0) | K8: =IF(AND(ISNUMBER(D8),ISNUMBER(E8)),IF((MOD(E8-D8,1)-N(F8))*24>10,"über 10 Std.",IF(AND((MOD(E8-D8,1)-N(F8))*24>9,N(F8)*1440<45),"Pause unter 45 Min.",IF(AND((MOD(E8-D8,1)-N(F8))*24>6,N(F8)*1440<30),"Pause unter 30 Min.",""))),"")
A9: 46483 | B9: Di | G9: =IF(OR(UPPER(C9)="U",UPPER(C9)="K"),H9,IF(AND(ISNUMBER(D9),ISNUMBER(E9)),ROUND((MOD(E9-D9,1)-N(F9))*24,2),0)) | H9: =INDEX(Einstellungen!$B$7:$B$13,2) | I9: =IF(OR(ISNUMBER(D9),C9<>""),G9-H9,0) | K9: =IF(AND(ISNUMBER(D9),ISNUMBER(E9)),IF((MOD(E9-D9,1)-N(F9))*24>10,"über 10 Std.",IF(AND((MOD(E9-D9,1)-N(F9))*24>9,N(F9)*1440<45),"Pause unter 45 Min.",IF(AND((MOD(E9-D9,1)-N(F9))*24>6,N(F9)*1440<30),"Pause unter 30 Min.",""))),"")
A10: 46484 | B10: Mi | G10: =IF(OR(UPPER(C10)="U",UPPER(C10)="K"),H10,IF(AND(ISNUMBER(D10),ISNUMBER(E10)),ROUND((MOD(E10-D10,1)-N(F10))*24,2),0)) | H10: =INDEX(Einstellungen!$B$7:$B$13,3) | I10: =IF(OR(ISNUMBER(D10),C10<>""),G10-H10,0) | K10: =IF(AND(ISNUMBER(D10),ISNUMBER(E10)),IF((MOD(E10-D10,1)-N(F10))*24>10,"über 10 Std.",IF(AND((MOD(E10-D10,1)-N(F10))*24>9,N(F10)*1440<45),"Pause unter 45 Min.",IF(AND((MOD(E10-D10,1)-N(F10))*24>6,N(F10)*1440<30),"Pause unter 30 Min.",""))),"")
A11: 46485 | B11: Do | G11: =IF(OR(UPPER(C11)="U",UPPER(C11)="K"),H11,IF(AND(ISNUMBER(D11),ISNUMBER(E11)),ROUND((MOD(E11-D11,1)-N(F11))*24,2),0)) | H11: =INDEX(Einstellungen!$B$7:$B$13,4) | I11: =IF(OR(ISNUMBER(D11),C11<>""),G11-H11,0) | K11: =IF(AND(ISNUMBER(D11),ISNUMBER(E11)),IF((MOD(E11-D11,1)-N(F11))*24>10,"über 10 Std.",IF(AND((MOD(E11-D11,1)-N(F11))*24>9,N(F11)*1440<45),"Pause unter 45 Min.",IF(AND((MOD(E11-D11,1)-N(F11))*24>6,N(F11)*1440<30),"Pause unter 30 Min.",""))),"")
A12: 46486 | B12: Fr | G12: =IF(OR(UPPER(C12)="U",UPPER(C12)="K"),H12,IF(AND(ISNUMBER(D12),ISNUMBER(E12)),ROUND((MOD(E12-D12,1)-N(F12))*24,2),0)) | H12: =INDEX(Einstellungen!$B$7:$B$13,5) | I12: =IF(OR(ISNUMBER(D12),C12<>""),G12-H12,0) | K12: =IF(AND(ISNUMBER(D12),ISNUMBER(E12)),IF((MOD(E12-D12,1)-N(F12))*24>10,"über 10 Std.",IF(AND((MOD(E12-D12,1)-N(F12))*24>9,N(F12)*1440<45),"Pause unter 45 Min.",IF(AND((MOD(E12-D12,1)-N(F12))*24>6,N(F12)*1440<30),"Pause unter 30 Min.",""))),"")
A13: 46487 | B13: Sa | G13: =IF(OR(UPPER(C13)="U",UPPER(C13)="K"),H13,IF(AND(ISNUMBER(D13),ISNUMBER(E13)),ROUND((MOD(E13-D13,1)-N(F13))*24,2),0)) | H13: =INDEX(Einstellungen!$B$7:$B$13,6) | I13: =IF(OR(ISNUMBER(D13),C13<>""),G13-H13,0) | K13: =IF(AND(ISNUMBER(D13),ISNUMBER(E13)),IF((MOD(E13-D13,1)-N(F13))*24>10,"über 10 Std.",IF(AND((MOD(E13-D13,1)-N(F13))*24>9,N(F13)*1440<45),"Pause unter 45 Min.",IF(AND((MOD(E13-D13,1)-N(F13))*24>6,N(F13)*1440<30),"Pause unter 30 Min.",""))),"")
A14: 46488 | B14: So | G14: =IF(OR(UPPER(C14)="U",UPPER(C14)="K"),H14,IF(AND(ISNUMBER(D14),ISNUMBER(E14)),ROUND((MOD(E14-D14,1)-N(F14))*24,2),0)) | H14: =INDEX(Einstellungen!$B$7:$B$13,7) | I14: =IF(OR(ISNUMBER(D14),C14<>""),G14-H14,0) | K14: =IF(AND(ISNUMBER(D14),ISNUMBER(E14)),IF((MOD(E14-D14,1)-N(F14))*24>10,"über 10 Std.",IF(AND((MOD(E14-D14,1)-N(F14))*24>9,N(F14)*1440<45),"Pause unter 45 Min.",IF(AND((MOD(E14-D14,1)-N(F14))*24>6,N(F14)*1440<30),"Pause unter 30 Min.",""))),"")
A15: 46489 | B15: Mo | G15: =IF(OR(UPPER(C15)="U",UPPER(C15)="K"),H15,IF(AND(ISNUMBER(D15),ISNUMBER(E15)),ROUND((MOD(E15-D15,1)-N(F15))*24,2),0)) | H15: =INDEX(Einstellungen!$B$7:$B$13,1) | I15: =IF(OR(ISNUMBER(D15),C15<>""),G15-H15,0) | K15: =IF(AND(ISNUMBER(D15),ISNUMBER(E15)),IF((MOD(E15-D15,1)-N(F15))*24>10,"über 10 Std.",IF(AND((MOD(E15-D15,1)-N(F15))*24>9,N(F15)*1440<45),"Pause unter 45 Min.",IF(AND((MOD(E15-D15,1)-N(F15))*24>6,N(F15)*1440<30),"Pause unter 30 Min.",""))),"")
A16: 46490 | B16: Di | G16: =IF(OR(UPPER(C16)="U",UPPER(C16)="K"),H16,IF(AND(ISNUMBER(D16),ISNUMBER(E16)),ROUND((MOD(E16-D16,1)-N(F16))*24,2),0)) | H16: =INDEX(Einstellungen!$B$7:$B$13,2) | I16: =IF(OR(ISNUMBER(D16),C16<>""),G16-H16,0) | K16: =IF(AND(ISNUMBER(D16),ISNUMBER(E16)),IF((MOD(E16-D16,1)-N(F16))*24>10,"über 10 Std.",IF(AND((MOD(E16-D16,1)-N(F16))*24>9,N(F16)*1440<45),"Pause unter 45 Min.",IF(AND((MOD(E16-D16,1)-N(F16))*24>6,N(F16)*1440<30),"Pause unter 30 Min.",""))),"")
A17: 46491 | B17: Mi | G17: =IF(OR(UPPER(C17)="U",UPPER(C17)="K"),H17,IF(AND(ISNUMBER(D17),ISNUMBER(E17)),ROUND((MOD(E17-D17,1)-N(F17))*24,2),0)) | H17: =INDEX(Einstellungen!$B$7:$B$13,3) | I17: =IF(OR(ISNUMBER(D17),C17<>""),G17-H17,0) | K17: =IF(AND(ISNUMBER(D17),ISNUMBER(E17)),IF((MOD(E17-D17,1)-N(F17))*24>10,"über 10 Std.",IF(AND((MOD(E17-D17,1)-N(F17))*24>9,N(F17)*1440<45),"Pause unter 45 Min.",IF(AND((MOD(E17-D17,1)-N(F17))*24>6,N(F17)*1440<30),"Pause unter 30 Min.",""))),"")
A18: 46492 | B18: Do | G18: =IF(OR(UPPER(C18)="U",UPPER(C18)="K"),H18,IF(AND(ISNUMBER(D18),ISNUMBER(E18)),ROUND((MOD(E18-D18,1)-N(F18))*24,2),0)) | H18: =INDEX(Einstellungen!$B$7:$B$13,4) | I18: =IF(OR(ISNUMBER(D18),C18<>""),G18-H18,0) | K18: =IF(AND(ISNUMBER(D18),ISNUMBER(E18)),IF((MOD(E18-D18,1)-N(F18))*24>10,"über 10 Std.",IF(AND((MOD(E18-D18,1)-N(F18))*24>9,N(F18)*1440<45),"Pause unter 45 Min.",IF(AND((MOD(E18-D18,1)-N(F18))*24>6,N(F18)*1440<30),"Pause unter 30 Min.",""))),"")
A19: 46493 | B19: Fr | G19: =IF(OR(UPPER(C19)="U",UPPER(C19)="K"),H19,IF(AND(ISNUMBER(D19),ISNUMBER(E19)),ROUND((MOD(E19-D19,1)-N(F19))*24,2),0)) | H19: =INDEX(Einstellungen!$B$7:$B$13,5) | I19: =IF(OR(ISNUMBER(D19),C19<>""),G19-H19,0) | K19: =IF(AND(ISNUMBER(D19),ISNUMBER(E19)),IF((MOD(E19-D19,1)-N(F19))*24>10,"über 10 Std.",IF(AND((MOD(E19-D19,1)-N(F19))*24>9,N(F19)*1440<45),"Pause unter 45 Min.",IF(AND((MOD(E19-D19,1)-N(F19))*24>6,N(F19)*1440<30),"Pause unter 30 Min.",""))),"")
A20: 46494 | B20: Sa | G20: =IF(OR(UPPER(C20)="U",UPPER(C20)="K"),H20,IF(AND(ISNUMBER(D20),ISNUMBER(E20)),ROUND((MOD(E20-D20,1)-N(F20))*24,2),0)) | H20: =INDEX(Einstellungen!$B$7:$B$13,6) | I20: =IF(OR(ISNUMBER(D20),C20<>""),G20-H20,0) | K20: =IF(AND(ISNUMBER(D20),ISNUMBER(E20)),IF((MOD(E20-D20,1)-N(F20))*24>10,"über 10 Std.",IF(AND((MOD(E20-D20,1)-N(F20))*24>9,N(F20)*1440<45),"Pause unter 45 Min.",IF(AND((MOD(E20-D20,1)-N(F20))*24>6,N(F20)*1440<30),"Pause unter 30 Min.",""))),"")
A21: 46495 | B21: So | G21: =IF(OR(UPPER(C21)="U",UPPER(C21)="K"),H21,IF(AND(ISNUMBER(D21),ISNUMBER(E21)),ROUND((MOD(E21-D21,1)-N(F21))*24,2),0)) | H21: =INDEX(Einstellungen!$B$7:$B$13,7) | I21: =IF(OR(ISNUMBER(D21),C21<>""),G21-H21,0) | K21: =IF(AND(ISNUMBER(D21),ISNUMBER(E21)),IF((MOD(E21-D21,1)-N(F21))*24>10,"über 10 Std.",IF(AND((MOD(E21-D21,1)-N(F21))*24>9,N(F21)*1440<45),"Pause unter 45 Min.",IF(AND((MOD(E21-D21,1)-N(F21))*24>6,N(F21)*1440<30),"Pause unter 30 Min.",""))),"")
A22: 46496 | B22: Mo | G22: =IF(OR(UPPER(C22)="U",UPPER(C22)="K"),H22,IF(AND(ISNUMBER(D22),ISNUMBER(E22)),ROUND((MOD(E22-D22,1)-N(F22))*24,2),0)) | H22: =INDEX(Einstellungen!$B$7:$B$13,1) | I22: =IF(OR(ISNUMBER(D22),C22<>""),G22-H22,0) | K22: =IF(AND(ISNUMBER(D22),ISNUMBER(E22)),IF((MOD(E22-D22,1)-N(F22))*24>10,"über 10 Std.",IF(AND((MOD(E22-D22,1)-N(F22))*24>9,N(F22)*1440<45),"Pause unter 45 Min.",IF(AND((MOD(E22-D22,1)-N(F22))*24>6,N(F22)*1440<30),"Pause unter 30 Min.",""))),"")
A23: 46497 | B23: Di | G23: =IF(OR(UPPER(C23)="U",UPPER(C23)="K"),H23,IF(AND(ISNUMBER(D23),ISNUMBER(E23)),ROUND((MOD(E23-D23,1)-N(F23))*24,2),0)) | H23: =INDEX(Einstellungen!$B$7:$B$13,2) | I23: =IF(OR(ISNUMBER(D23),C23<>""),G23-H23,0) | K23: =IF(AND(ISNUMBER(D23),ISNUMBER(E23)),IF((MOD(E23-D23,1)-N(F23))*24>10,"über 10 Std.",IF(AND((MOD(E23-D23,1)-N(F23))*24>9,N(F23)*1440<45),"Pause unter 45 Min.",IF(AND((MOD(E23-D23,1)-N(F23))*24>6,N(F23)*1440<30),"Pause unter 30 Min.",""))),"")
A24: 46498 | B24: Mi | G24: =IF(OR(UPPER(C24)="U",UPPER(C24)="K"),H24,IF(AND(ISNUMBER(D24),ISNUMBER(E24)),ROUND((MOD(E24-D24,1)-N(F24))*24,2),0)) | H24: =INDEX(Einstellungen!$B$7:$B$13,3) | I24: =IF(OR(ISNUMBER(D24),C24<>""),G24-H24,0) | K24: =IF(AND(ISNUMBER(D24),ISNUMBER(E24)),IF((MOD(E24-D24,1)-N(F24))*24>10,"über 10 Std.",IF(AND((MOD(E24-D24,1)-N(F24))*24>9,N(F24)*1440<45),"Pause unter 45 Min.",IF(AND((MOD(E24-D24,1)-N(F24))*24>6,N(F24)*1440<30),"Pause unter 30 Min.",""))),"")
A25: 46499 | B25: Do | G25: =IF(OR(UPPER(C25)="U",UPPER(C25)="K"),H25,IF(AND(ISNUMBER(D25),ISNUMBER(E25)),ROUND((MOD(E25-D25,1)-N(F25))*24,2),0)) | H25: =INDEX(Einstellungen!$B$7:$B$13,4) | I25: =IF(OR(ISNUMBER(D25),C25<>""),G25-H25,0) | K25: =IF(AND(ISNUMBER(D25),ISNUMBER(E25)),IF((MOD(E25-D25,1)-N(F25))*24>10,"über 10 Std.",IF(AND((MOD(E25-D25,1)-N(F25))*24>9,N(F25)*1440<45),"Pause unter 45 Min.",IF(AND((MOD(E25-D25,1)-N(F25))*24>6,N(F25)*1440<30),"Pause unter 30 Min.",""))),"")
A26: 46500 | B26: Fr | G26: =IF(OR(UPPER(C26)="U",UPPER(C26)="K"),H26,IF(AND(ISNUMBER(D26),ISNUMBER(E26)),ROUND((MOD(E26-D26,1)-N(F26))*24,2),0)) | H26: =INDEX(Einstellungen!$B$7:$B$13,5) | I26: =IF(OR(ISNUMBER(D26),C26<>""),G26-H26,0) | K26: =IF(AND(ISNUMBER(D26),ISNUMBER(E26)),IF((MOD(E26-D26,1)-N(F26))*24>10,"über 10 Std.",IF(AND((MOD(E26-D26,1)-N(F26))*24>9,N(F26)*1440<45),"Pause unter 45 Min.",IF(AND((MOD(E26-D26,1)-N(F26))*24>6,N(F26)*1440<30),"Pause unter 30 Min.",""))),"")
A27: 46501 | B27: Sa | G27: =IF(OR(UPPER(C27)="U",UPPER(C27)="K"),H27,IF(AND(ISNUMBER(D27),ISNUMBER(E27)),ROUND((MOD(E27-D27,1)-N(F27))*24,2),0)) | H27: =INDEX(Einstellungen!$B$7:$B$13,6) | I27: =IF(OR(ISNUMBER(D27),C27<>""),G27-H27,0) | K27: =IF(AND(ISNUMBER(D27),ISNUMBER(E27)),IF((MOD(E27-D27,1)-N(F27))*24>10,"über 10 Std.",IF(AND((MOD(E27-D27,1)-N(F27))*24>9,N(F27)*1440<45),"Pause unter 45 Min.",IF(AND((MOD(E27-D27,1)-N(F27))*24>6,N(F27)*1440<30),"Pause unter 30 Min.",""))),"")
A28: 46502 | B28: So | G28: =IF(OR(UPPER(C28)="U",UPPER(C28)="K"),H28,IF(AND(ISNUMBER(D28),ISNUMBER(E28)),ROUND((MOD(E28-D28,1)-N(F28))*24,2),0)) | H28: =INDEX(Einstellungen!$B$7:$B$13,7) | I28: =IF(OR(ISNUMBER(D28),C28<>""),G28-H28,0) | K28: =IF(AND(ISNUMBER(D28),ISNUMBER(E28)),IF((MOD(E28-D28,1)-N(F28))*24>10,"über 10 Std.",IF(AND((MOD(E28-D28,1)-N(F28))*24>9,N(F28)*1440<45),"Pause unter 45 Min.",IF(AND((MOD(E28-D28,1)-N(F28))*24>6,N(F28)*1440<30),"Pause unter 30 Min.",""))),"")
A29: 46503 | B29: Mo | G29: =IF(OR(UPPER(C29)="U",UPPER(C29)="K"),H29,IF(AND(ISNUMBER(D29),ISNUMBER(E29)),ROUND((MOD(E29-D29,1)-N(F29))*24,2),0)) | H29: =INDEX(Einstellungen!$B$7:$B$13,1) | I29: =IF(OR(ISNUMBER(D29),C29<>""),G29-H29,0) | K29: =IF(AND(ISNUMBER(D29),ISNUMBER(E29)),IF((MOD(E29-D29,1)-N(F29))*24>10,"über 10 Std.",IF(AND((MOD(E29-D29,1)-N(F29))*24>9,N(F29)*1440<45),"Pause unter 45 Min.",IF(AND((MOD(E29-D29,1)-N(F29))*24>6,N(F29)*1440<30),"Pause unter 30 Min.",""))),"")
A30: 46504 | B30: Di | G30: =IF(OR(UPPER(C30)="U",UPPER(C30)="K"),H30,IF(AND(ISNUMBER(D30),ISNUMBER(E30)),ROUND((MOD(E30-D30,1)-N(F30))*24,2),0)) | H30: =INDEX(Einstellungen!$B$7:$B$13,2) | I30: =IF(OR(ISNUMBER(D30),C30<>""),G30-H30,0) | K30: =IF(AND(ISNUMBER(D30),ISNUMBER(E30)),IF((MOD(E30-D30,1)-N(F30))*24>10,"über 10 Std.",IF(AND((MOD(E30-D30,1)-N(F30))*24>9,N(F30)*1440<45),"Pause unter 45 Min.",IF(AND((MOD(E30-D30,1)-N(F30))*24>6,N(F30)*1440<30),"Pause unter 30 Min.",""))),"")
A31: 46505 | B31: Mi | G31: =IF(OR(UPPER(C31)="U",UPPER(C31)="K"),H31,IF(AND(ISNUMBER(D31),ISNUMBER(E31)),ROUND((MOD(E31-D31,1)-N(F31))*24,2),0)) | H31: =INDEX(Einstellungen!$B$7:$B$13,3) | I31: =IF(OR(ISNUMBER(D31),C31<>""),G31-H31,0) | K31: =IF(AND(ISNUMBER(D31),ISNUMBER(E31)),IF((MOD(E31-D31,1)-N(F31))*24>10,"über 10 Std.",IF(AND((MOD(E31-D31,1)-N(F31))*24>9,N(F31)*1440<45),"Pause unter 45 Min.",IF(AND((MOD(E31-D31,1)-N(F31))*24>6,N(F31)*1440<30),"Pause unter 30 Min.",""))),"")
A32: 46506 | B32: Do | G32: =IF(OR(UPPER(C32)="U",UPPER(C32)="K"),H32,IF(AND(ISNUMBER(D32),ISNUMBER(E32)),ROUND((MOD(E32-D32,1)-N(F32))*24,2),0)) | H32: =INDEX(Einstellungen!$B$7:$B$13,4) | I32: =IF(OR(ISNUMBER(D32),C32<>""),G32-H32,0) | K32: =IF(AND(ISNUMBER(D32),ISNUMBER(E32)),IF((MOD(E32-D32,1)-N(F32))*24>10,"über 10 Std.",IF(AND((MOD(E32-D32,1)-N(F32))*24>9,N(F32)*1440<45),"Pause unter 45 Min.",IF(AND((MOD(E32-D32,1)-N(F32))*24>6,N(F32)*1440<30),"Pause unter 30 Min.",""))),"")
A33: 46507 | B33: Fr | G33: =IF(OR(UPPER(C33)="U",UPPER(C33)="K"),H33,IF(AND(ISNUMBER(D33),ISNUMBER(E33)),ROUND((MOD(E33-D33,1)-N(F33))*24,2),0)) | H33: =INDEX(Einstellungen!$B$7:$B$13,5) | I33: =IF(OR(ISNUMBER(D33),C33<>""),G33-H33,0) | K33: =IF(AND(ISNUMBER(D33),ISNUMBER(E33)),IF((MOD(E33-D33,1)-N(F33))*24>10,"über 10 Std.",IF(AND((MOD(E33-D33,1)-N(F33))*24>9,N(F33)*1440<45),"Pause unter 45 Min.",IF(AND((MOD(E33-D33,1)-N(F33))*24>6,N(F33)*1440<30),"Pause unter 30 Min.",""))),"")
A35: Ist-Stunden | D35: =SUM(G4:G33)
A36: Soll (ganzer Monat) | D36: =SUM(H4:H33)
A37: Differenz (erfasste Tage) | D37: =SUM(I4:I33)
A38: Urlaubstage | D38: =COUNTIF(C4:C33,"U")
A39: Kranktage | D39: =COUNTIF(C4:C33,"K")

Sheet Mai
A1: Mai 2027 | D1: =Einstellungen!B4
A3: Datum | B3: Tag | C3: Art | D3: Beginn | E3: Ende | F3: Pause | G3: Ist (Std.) | H3: Soll (Std.) | I3: Differenz | J3: Bemerkung | K3: Prüfung
A4: 46508 | B4: Sa | G4: =IF(OR(UPPER(C4)="U",UPPER(C4)="K"),H4,IF(AND(ISNUMBER(D4),ISNUMBER(E4)),ROUND((MOD(E4-D4,1)-N(F4))*24,2),0)) | H4: 0 | I4: =IF(OR(ISNUMBER(D4),C4<>""),G4-H4,0) | J4: Tag der Arbeit | K4: =IF(AND(ISNUMBER(D4),ISNUMBER(E4)),IF((MOD(E4-D4,1)-N(F4))*24>10,"über 10 Std.",IF(AND((MOD(E4-D4,1)-N(F4))*24>9,N(F4)*1440<45),"Pause unter 45 Min.",IF(AND((MOD(E4-D4,1)-N(F4))*24>6,N(F4)*1440<30),"Pause unter 30 Min.",""))),"")
A5: 46509 | B5: So | G5: =IF(OR(UPPER(C5)="U",UPPER(C5)="K"),H5,IF(AND(ISNUMBER(D5),ISNUMBER(E5)),ROUND((MOD(E5-D5,1)-N(F5))*24,2),0)) | H5: =INDEX(Einstellungen!$B$7:$B$13,7) | I5: =IF(OR(ISNUMBER(D5),C5<>""),G5-H5,0) | K5: =IF(AND(ISNUMBER(D5),ISNUMBER(E5)),IF((MOD(E5-D5,1)-N(F5))*24>10,"über 10 Std.",IF(AND((MOD(E5-D5,1)-N(F5))*24>9,N(F5)*1440<45),"Pause unter 45 Min.",IF(AND((MOD(E5-D5,1)-N(F5))*24>6,N(F5)*1440<30),"Pause unter 30 Min.",""))),"")
A6: 46510 | B6: Mo | G6: =IF(OR(UPPER(C6)="U",UPPER(C6)="K"),H6,IF(AND(ISNUMBER(D6),ISNUMBER(E6)),ROUND((MOD(E6-D6,1)-N(F6))*24,2),0)) | H6: =INDEX(Einstellungen!$B$7:$B$13,1) | I6: =IF(OR(ISNUMBER(D6),C6<>""),G6-H6,0) | K6: =IF(AND(ISNUMBER(D6),ISNUMBER(E6)),IF((MOD(E6-D6,1)-N(F6))*24>10,"über 10 Std.",IF(AND((MOD(E6-D6,1)-N(F6))*24>9,N(F6)*1440<45),"Pause unter 45 Min.",IF(AND((MOD(E6-D6,1)-N(F6))*24>6,N(F6)*1440<30),"Pause unter 30 Min.",""))),"")
A7: 46511 | B7: Di | G7: =IF(OR(UPPER(C7)="U",UPPER(C7)="K"),H7,IF(AND(ISNUMBER(D7),ISNUMBER(E7)),ROUND((MOD(E7-D7,1)-N(F7))*24,2),0)) | H7: =INDEX(Einstellungen!$B$7:$B$13,2) | I7: =IF(OR(ISNUMBER(D7),C7<>""),G7-H7,0) | K7: =IF(AND(ISNUMBER(D7),ISNUMBER(E7)),IF((MOD(E7-D7,1)-N(F7))*24>10,"über 10 Std.",IF(AND((MOD(E7-D7,1)-N(F7))*24>9,N(F7)*1440<45),"Pause unter 45 Min.",IF(AND((MOD(E7-D7,1)-N(F7))*24>6,N(F7)*1440<30),"Pause unter 30 Min.",""))),"")
A8: 46512 | B8: Mi | G8: =IF(OR(UPPER(C8)="U",UPPER(C8)="K"),H8,IF(AND(ISNUMBER(D8),ISNUMBER(E8)),ROUND((MOD(E8-D8,1)-N(F8))*24,2),0)) | H8: =INDEX(Einstellungen!$B$7:$B$13,3) | I8: =IF(OR(ISNUMBER(D8),C8<>""),G8-H8,0) | K8: =IF(AND(ISNUMBER(D8),ISNUMBER(E8)),IF((MOD(E8-D8,1)-N(F8))*24>10,"über 10 Std.",IF(AND((MOD(E8-D8,1)-N(F8))*24>9,N(F8)*1440<45),"Pause unter 45 Min.",IF(AND((MOD(E8-D8,1)-N(F8))*24>6,N(F8)*1440<30),"Pause unter 30 Min.",""))),"")
A9: 46513 | B9: Do | G9: =IF(OR(UPPER(C9)="U",UPPER(C9)="K"),H9,IF(AND(ISNUMBER(D9),ISNUMBER(E9)),ROUND((MOD(E9-D9,1)-N(F9))*24,2),0)) | H9: 0 | I9: =IF(OR(ISNUMBER(D9),C9<>""),G9-H9,0) | J9: Christi Himmelfahrt | K9: =IF(AND(ISNUMBER(D9),ISNUMBER(E9)),IF((MOD(E9-D9,1)-N(F9))*24>10,"über 10 Std.",IF(AND((MOD(E9-D9,1)-N(F9))*24>9,N(F9)*1440<45),"Pause unter 45 Min.",IF(AND((MOD(E9-D9,1)-N(F9))*24>6,N(F9)*1440<30),"Pause unter 30 Min.",""))),"")
A10: 46514 | B10: Fr | G10: =IF(OR(UPPER(C10)="U",UPPER(C10)="K"),H10,IF(AND(ISNUMBER(D10),ISNUMBER(E10)),ROUND((MOD(E10-D10,1)-N(F10))*24,2),0)) | H10: =INDEX(Einstellungen!$B$7:$B$13,5) | I10: =IF(OR(ISNUMBER(D10),C10<>""),G10-H10,0) | K10: =IF(AND(ISNUMBER(D10),ISNUMBER(E10)),IF((MOD(E10-D10,1)-N(F10))*24>10,"über 10 Std.",IF(AND((MOD(E10-D10,1)-N(F10))*24>9,N(F10)*1440<45),"Pause unter 45 Min.",IF(AND((MOD(E10-D10,1)-N(F10))*24>6,N(F10)*1440<30),"Pause unter 30 Min.",""))),"")
A11: 46515 | B11: Sa | G11: =IF(OR(UPPER(C11)="U",UPPER(C11)="K"),H11,IF(AND(ISNUMBER(D11),ISNUMBER(E11)),ROUND((MOD(E11-D11,1)-N(F11))*24,2),0)) | H11: =INDEX(Einstellungen!$B$7:$B$13,6) | I11: =IF(OR(ISNUMBER(D11),C11<>""),G11-H11,0) | K11: =IF(AND(ISNUMBER(D11),ISNUMBER(E11)),IF((MOD(E11-D11,1)-N(F11))*24>10,"über 10 Std.",IF(AND((MOD(E11-D11,1)-N(F11))*24>9,N(F11)*1440<45),"Pause unter 45 Min.",IF(AND((MOD(E11-D11,1)-N(F11))*24>6,N(F11)*1440<30),"Pause unter 30 Min.",""))),"")
A12: 46516 | B12: So | G12: =IF(OR(UPPER(C12)="U",UPPER(C12)="K"),H12,IF(AND(ISNUMBER(D12),ISNUMBER(E12)),ROUND((MOD(E12-D12,1)-N(F12))*24,2),0)) | H12: =INDEX(Einstellungen!$B$7:$B$13,7) | I12: =IF(OR(ISNUMBER(D12),C12<>""),G12-H12,0) | K12: =IF(AND(ISNUMBER(D12),ISNUMBER(E12)),IF((MOD(E12-D12,1)-N(F12))*24>10,"über 10 Std.",IF(AND((MOD(E12-D12,1)-N(F12))*24>9,N(F12)*1440<45),"Pause unter 45 Min.",IF(AND((MOD(E12-D12,1)-N(F12))*24>6,N(F12)*1440<30),"Pause unter 30 Min.",""))),"")
A13: 46517 | B13: Mo | G13: =IF(OR(UPPER(C13)="U",UPPER(C13)="K"),H13,IF(AND(ISNUMBER(D13),ISNUMBER(E13)),ROUND((MOD(E13-D13,1)-N(F13))*24,2),0)) | H13: =INDEX(Einstellungen!$B$7:$B$13,1) | I13: =IF(OR(ISNUMBER(D13),C13<>""),G13-H13,0) | K13: =IF(AND(ISNUMBER(D13),ISNUMBER(E13)),IF((MOD(E13-D13,1)-N(F13))*24>10,"über 10 Std.",IF(AND((MOD(E13-D13,1)-N(F13))*24>9,N(F13)*1440<45),"Pause unter 45 Min.",IF(AND((MOD(E13-D13,1)-N(F13))*24>6,N(F13)*1440<30),"Pause unter 30 Min.",""))),"")
A14: 46518 | B14: Di | G14: =IF(OR(UPPER(C14)="U",UPPER(C14)="K"),H14,IF(AND(ISNUMBER(D14),ISNUMBER(E14)),ROUND((MOD(E14-D14,1)-N(F14))*24,2),0)) | H14: =INDEX(Einstellungen!$B$7:$B$13,2) | I14: =IF(OR(ISNUMBER(D14),C14<>""),G14-H14,0) | K14: =IF(AND(ISNUMBER(D14),ISNUMBER(E14)),IF((MOD(E14-D14,1)-N(F14))*24>10,"über 10 Std.",IF(AND((MOD(E14-D14,1)-N(F14))*24>9,N(F14)*1440<45),"Pause unter 45 Min.",IF(AND((MOD(E14-D14,1)-N(F14))*24>6,N(F14)*1440<30),"Pause unter 30 Min.",""))),"")
A15: 46519 | B15: Mi | G15: =IF(OR(UPPER(C15)="U",UPPER(C15)="K"),H15,IF(AND(ISNUMBER(D15),ISNUMBER(E15)),ROUND((MOD(E15-D15,1)-N(F15))*24,2),0)) | H15: =INDEX(Einstellungen!$B$7:$B$13,3) | I15: =IF(OR(ISNUMBER(D15),C15<>""),G15-H15,0) | K15: =IF(AND(ISNUMBER(D15),ISNUMBER(E15)),IF((MOD(E15-D15,1)-N(F15))*24>10,"über 10 Std.",IF(AND((MOD(E15-D15,1)-N(F15))*24>9,N(F15)*1440<45),"Pause unter 45 Min.",IF(AND((MOD(E15-D15,1)-N(F15))*24>6,N(F15)*1440<30),"Pause unter 30 Min.",""))),"")
A16: 46520 | B16: Do | G16: =IF(OR(UPPER(C16)="U",UPPER(C16)="K"),H16,IF(AND(ISNUMBER(D16),ISNUMBER(E16)),ROUND((MOD(E16-D16,1)-N(F16))*24,2),0)) | H16: =INDEX(Einstellungen!$B$7:$B$13,4) | I16: =IF(OR(ISNUMBER(D16),C16<>""),G16-H16,0) | K16: =IF(AND(ISNUMBER(D16),ISNUMBER(E16)),IF((MOD(E16-D16,1)-N(F16))*24>10,"über 10 Std.",IF(AND((MOD(E16-D16,1)-N(F16))*24>9,N(F16)*1440<45),"Pause unter 45 Min.",IF(AND((MOD(E16-D16,1)-N(F16))*24>6,N(F16)*1440<30),"Pause unter 30 Min.",""))),"")
A17: 46521 | B17: Fr | G17: =IF(OR(UPPER(C17)="U",UPPER(C17)="K"),H17,IF(AND(ISNUMBER(D17),ISNUMBER(E17)),ROUND((MOD(E17-D17,1)-N(F17))*24,2),0)) | H17: =INDEX(Einstellungen!$B$7:$B$13,5) | I17: =IF(OR(ISNUMBER(D17),C17<>""),G17-H17,0) | K17: =IF(AND(ISNUMBER(D17),ISNUMBER(E17)),IF((MOD(E17-D17,1)-N(F17))*24>10,"über 10 Std.",IF(AND((MOD(E17-D17,1)-N(F17))*24>9,N(F17)*1440<45),"Pause unter 45 Min.",IF(AND((MOD(E17-D17,1)-N(F17))*24>6,N(F17)*1440<30),"Pause unter 30 Min.",""))),"")
A18: 46522 | B18: Sa | G18: =IF(OR(UPPER(C18)="U",UPPER(C18)="K"),H18,IF(AND(ISNUMBER(D18),ISNUMBER(E18)),ROUND((MOD(E18-D18,1)-N(F18))*24,2),0)) | H18: =INDEX(Einstellungen!$B$7:$B$13,6) | I18: =IF(OR(ISNUMBER(D18),C18<>""),G18-H18,0) | K18: =IF(AND(ISNUMBER(D18),ISNUMBER(E18)),IF((MOD(E18-D18,1)-N(F18))*24>10,"über 10 Std.",IF(AND((MOD(E18-D18,1)-N(F18))*24>9,N(F18)*1440<45),"Pause unter 45 Min.",IF(AND((MOD(E18-D18,1)-N(F18))*24>6,N(F18)*1440<30),"Pause unter 30 Min.",""))),"")
A19: 46523 | B19: So | G19: =IF(OR(UPPER(C19)="U",UPPER(C19)="K"),H19,IF(AND(ISNUMBER(D19),ISNUMBER(E19)),ROUND((MOD(E19-D19,1)-N(F19))*24,2),0)) | H19: =INDEX(Einstellungen!$B$7:$B$13,7) | I19: =IF(OR(ISNUMBER(D19),C19<>""),G19-H19,0) | K19: =IF(AND(ISNUMBER(D19),ISNUMBER(E19)),IF((MOD(E19-D19,1)-N(F19))*24>10,"über 10 Std.",IF(AND((MOD(E19-D19,1)-N(F19))*24>9,N(F19)*1440<45),"Pause unter 45 Min.",IF(AND((MOD(E19-D19,1)-N(F19))*24>6,N(F19)*1440<30),"Pause unter 30 Min.",""))),"")
A20: 46524 | B20: Mo | G20: =IF(OR(UPPER(C20)="U",UPPER(C20)="K"),H20,IF(AND(ISNUMBER(D20),ISNUMBER(E20)),ROUND((MOD(E20-D20,1)-N(F20))*24,2),0)) | H20: 0 | I20: =IF(OR(ISNUMBER(D20),C20<>""),G20-H20,0) | J20: Pfingstmontag | K20: =IF(AND(ISNUMBER(D20),ISNUMBER(E20)),IF((MOD(E20-D20,1)-N(F20))*24>10,"über 10 Std.",IF(AND((MOD(E20-D20,1)-N(F20))*24>9,N(F20)*1440<45),"Pause unter 45 Min.",IF(AND((MOD(E20-D20,1)-N(F20))*24>6,N(F20)*1440<30),"Pause unter 30 Min.",""))),"")
A21: 46525 | B21: Di | G21: =IF(OR(UPPER(C21)="U",UPPER(C21)="K"),H21,IF(AND(ISNUMBER(D21),ISNUMBER(E21)),ROUND((MOD(E21-D21,1)-N(F21))*24,2),0)) | H21: =INDEX(Einstellungen!$B$7:$B$13,2) | I21: =IF(OR(ISNUMBER(D21),C21<>""),G21-H21,0) | K21: =IF(AND(ISNUMBER(D21),ISNUMBER(E21)),IF((MOD(E21-D21,1)-N(F21))*24>10,"über 10 Std.",IF(AND((MOD(E21-D21,1)-N(F21))*24>9,N(F21)*1440<45),"Pause unter 45 Min.",IF(AND((MOD(E21-D21,1)-N(F21))*24>6,N(F21)*1440<30),"Pause unter 30 Min.",""))),"")
A22: 46526 | B22: Mi | G22: =IF(OR(UPPER(C22)="U",UPPER(C22)="K"),H22,IF(AND(ISNUMBER(D22),ISNUMBER(E22)),ROUND((MOD(E22-D22,1)-N(F22))*24,2),0)) | H22: =INDEX(Einstellungen!$B$7:$B$13,3) | I22: =IF(OR(ISNUMBER(D22),C22<>""),G22-H22,0) | K22: =IF(AND(ISNUMBER(D22),ISNUMBER(E22)),IF((MOD(E22-D22,1)-N(F22))*24>10,"über 10 Std.",IF(AND((MOD(E22-D22,1)-N(F22))*24>9,N(F22)*1440<45),"Pause unter 45 Min.",IF(AND((MOD(E22-D22,1)-N(F22))*24>6,N(F22)*1440<30),"Pause unter 30 Min.",""))),"")
A23: 46527 | B23: Do | G23: =IF(OR(UPPER(C23)="U",UPPER(C23)="K"),H23,IF(AND(ISNUMBER(D23),ISNUMBER(E23)),ROUND((MOD(E23-D23,1)-N(F23))*24,2),0)) | H23: =INDEX(Einstellungen!$B$7:$B$13,4) | I23: =IF(OR(ISNUMBER(D23),C23<>""),G23-H23,0) | K23: =IF(AND(ISNUMBER(D23),ISNUMBER(E23)),IF((MOD(E23-D23,1)-N(F23))*24>10,"über 10 Std.",IF(AND((MOD(E23-D23,1)-N(F23))*24>9,N(F23)*1440<45),"Pause unter 45 Min.",IF(AND((MOD(E23-D23,1)-N(F23))*24>6,N(F23)*1440<30),"Pause unter 30 Min.",""))),"")
A24: 46528 | B24: Fr | G24: =IF(OR(UPPER(C24)="U",UPPER(C24)="K"),H24,IF(AND(ISNUMBER(D24),ISNUMBER(E24)),ROUND((MOD(E24-D24,1)-N(F24))*24,2),0)) | H24: =INDEX(Einstellungen!$B$7:$B$13,5) | I24: =IF(OR(ISNUMBER(D24),C24<>""),G24-H24,0) | K24: =IF(AND(ISNUMBER(D24),ISNUMBER(E24)),IF((MOD(E24-D24,1)-N(F24))*24>10,"über 10 Std.",IF(AND((MOD(E24-D24,1)-N(F24))*24>9,N(F24)*1440<45),"Pause unter 45 Min.",IF(AND((MOD(E24-D24,1)-N(F24))*24>6,N(F24)*1440<30),"Pause unter 30 Min.",""))),"")
A25: 46529 | B25: Sa | G25: =IF(OR(UPPER(C25)="U",UPPER(C25)="K"),H25,IF(AND(ISNUMBER(D25),ISNUMBER(E25)),ROUND((MOD(E25-D25,1)-N(F25))*24,2),0)) | H25: =INDEX(Einstellungen!$B$7:$B$13,6) | I25: =IF(OR(ISNUMBER(D25),C25<>""),G25-H25,0) | K25: =IF(AND(ISNUMBER(D25),ISNUMBER(E25)),IF((MOD(E25-D25,1)-N(F25))*24>10,"über 10 Std.",IF(AND((MOD(E25-D25,1)-N(F25))*24>9,N(F25)*1440<45),"Pause unter 45 Min.",IF(AND((MOD(E25-D25,1)-N(F25))*24>6,N(F25)*1440<30),"Pause unter 30 Min.",""))),"")
A26: 46530 | B26: So | G26: =IF(OR(UPPER(C26)="U",UPPER(C26)="K"),H26,IF(AND(ISNUMBER(D26),ISNUMBER(E26)),ROUND((MOD(E26-D26,1)-N(F26))*24,2),0)) | H26: =INDEX(Einstellungen!$B$7:$B$13,7) | I26: =IF(OR(ISNUMBER(D26),C26<>""),G26-H26,0) | K26: =IF(AND(ISNUMBER(D26),ISNUMBER(E26)),IF((MOD(E26-D26,1)-N(F26))*24>10,"über 10 Std.",IF(AND((MOD(E26-D26,1)-N(F26))*24>9,N(F26)*1440<45),"Pause unter 45 Min.",IF(AND((MOD(E26-D26,1)-N(F26))*24>6,N(F26)*1440<30),"Pause unter 30 Min.",""))),"")
A27: 46531 | B27: Mo | G27: =IF(OR(UPPER(C27)="U",UPPER(C27)="K"),H27,IF(AND(ISNUMBER(D27),ISNUMBER(E27)),ROUND((MOD(E27-D27,1)-N(F27))*24,2),0)) | H27: =INDEX(Einstellungen!$B$7:$B$13,1) | I27: =IF(OR(ISNUMBER(D27),C27<>""),G27-H27,0) | K27: =IF(AND(ISNUMBER(D27),ISNUMBER(E27)),IF((MOD(E27-D27,1)-N(F27))*24>10,"über 10 Std.",IF(AND((MOD(E27-D27,1)-N(F27))*24>9,N(F27)*1440<45),"Pause unter 45 Min.",IF(AND((MOD(E27-D27,1)-N(F27))*24>6,N(F27)*1440<30),"Pause unter 30 Min.",""))),"")
A28: 46532 | B28: Di | G28: =IF(OR(UPPER(C28)="U",UPPER(C28)="K"),H28,IF(AND(ISNUMBER(D28),ISNUMBER(E28)),ROUND((MOD(E28-D28,1)-N(F28))*24,2),0)) | H28: =INDEX(Einstellungen!$B$7:$B$13,2) | I28: =IF(OR(ISNUMBER(D28),C28<>""),G28-H28,0) | K28: =IF(AND(ISNUMBER(D28),ISNUMBER(E28)),IF((MOD(E28-D28,1)-N(F28))*24>10,"über 10 Std.",IF(AND((MOD(E28-D28,1)-N(F28))*24>9,N(F28)*1440<45),"Pause unter 45 Min.",IF(AND((MOD(E28-D28,1)-N(F28))*24>6,N(F28)*1440<30),"Pause unter 30 Min.",""))),"")
A29: 46533 | B29: Mi | G29: =IF(OR(UPPER(C29)="U",UPPER(C29)="K"),H29,IF(AND(ISNUMBER(D29),ISNUMBER(E29)),ROUND((MOD(E29-D29,1)-N(F29))*24,2),0)) | H29: =INDEX(Einstellungen!$B$7:$B$13,3) | I29: =IF(OR(ISNUMBER(D29),C29<>""),G29-H29,0) | K29: =IF(AND(ISNUMBER(D29),ISNUMBER(E29)),IF((MOD(E29-D29,1)-N(F29))*24>10,"über 10 Std.",IF(AND((MOD(E29-D29,1)-N(F29))*24>9,N(F29)*1440<45),"Pause unter 45 Min.",IF(AND((MOD(E29-D29,1)-N(F29))*24>6,N(F29)*1440<30),"Pause unter 30 Min.",""))),"")
A30: 46534 | B30: Do | G30: =IF(OR(UPPER(C30)="U",UPPER(C30)="K"),H30,IF(AND(ISNUMBER(D30),ISNUMBER(E30)),ROUND((MOD(E30-D30,1)-N(F30))*24,2),0)) | H30: 0 | I30: =IF(OR(ISNUMBER(D30),C30<>""),G30-H30,0) | J30: Fronleichnam | K30: =IF(AND(ISNUMBER(D30),ISNUMBER(E30)),IF((MOD(E30-D30,1)-N(F30))*24>10,"über 10 Std.",IF(AND((MOD(E30-D30,1)-N(F30))*24>9,N(F30)*1440<45),"Pause unter 45 Min.",IF(AND((MOD(E30-D30,1)-N(F30))*24>6,N(F30)*1440<30),"Pause unter 30 Min.",""))),"")
A31: 46535 | B31: Fr | G31: =IF(OR(UPPER(C31)="U",UPPER(C31)="K"),H31,IF(AND(ISNUMBER(D31),ISNUMBER(E31)),ROUND((MOD(E31-D31,1)-N(F31))*24,2),0)) | H31: =INDEX(Einstellungen!$B$7:$B$13,5) | I31: =IF(OR(ISNUMBER(D31),C31<>""),G31-H31,0) | K31: =IF(AND(ISNUMBER(D31),ISNUMBER(E31)),IF((MOD(E31-D31,1)-N(F31))*24>10,"über 10 Std.",IF(AND((MOD(E31-D31,1)-N(F31))*24>9,N(F31)*1440<45),"Pause unter 45 Min.",IF(AND((MOD(E31-D31,1)-N(F31))*24>6,N(F31)*1440<30),"Pause unter 30 Min.",""))),"")
A32: 46536 | B32: Sa | G32: =IF(OR(UPPER(C32)="U",UPPER(C32)="K"),H32,IF(AND(ISNUMBER(D32),ISNUMBER(E32)),ROUND((MOD(E32-D32,1)-N(F32))*24,2),0)) | H32: =INDEX(Einstellungen!$B$7:$B$13,6) | I32: =IF(OR(ISNUMBER(D32),C32<>""),G32-H32,0) | K32: =IF(AND(ISNUMBER(D32),ISNUMBER(E32)),IF((MOD(E32-D32,1)-N(F32))*24>10,"über 10 Std.",IF(AND((MOD(E32-D32,1)-N(F32))*24>9,N(F32)*1440<45),"Pause unter 45 Min.",IF(AND((MOD(E32-D32,1)-N(F32))*24>6,N(F32)*1440<30),"Pause unter 30 Min.",""))),"")
A33: 46537 | B33: So | G33: =IF(OR(UPPER(C33)="U",UPPER(C33)="K"),H33,IF(AND(ISNUMBER(D33),ISNUMBER(E33)),ROUND((MOD(E33-D33,1)-N(F33))*24,2),0)) | H33: =INDEX(Einstellungen!$B$7:$B$13,7) | I33: =IF(OR(ISNUMBER(D33),C33<>""),G33-H33,0) | K33: =IF(AND(ISNUMBER(D33),ISNUMBER(E33)),IF((MOD(E33-D33,1)-N(F33))*24>10,"über 10 Std.",IF(AND((MOD(E33-D33,1)-N(F33))*24>9,N(F33)*1440<45),"Pause unter 45 Min.",IF(AND((MOD(E33-D33,1)-N(F33))*24>6,N(F33)*1440<30),"Pause unter 30 Min.",""))),"")
A34: 46538 | B34: Mo | G34: =IF(OR(UPPER(C34)="U",UPPER(C34)="K"),H34,IF(AND(ISNUMBER(D34),ISNUMBER(E34)),ROUND((MOD(E34-D34,1)-N(F34))*24,2),0)) | H34: =INDEX(Einstellungen!$B$7:$B$13,1) | I34: =IF(OR(ISNUMBER(D34),C34<>""),G34-H34,0) | K34: =IF(AND(ISNUMBER(D34),ISNUMBER(E34)),IF((MOD(E34-D34,1)-N(F34))*24>10,"über 10 Std.",IF(AND((MOD(E34-D34,1)-N(F34))*24>9,N(F34)*1440<45),"Pause unter 45 Min.",IF(AND((MOD(E34-D34,1)-N(F34))*24>6,N(F34)*1440<30),"Pause unter 30 Min.",""))),"")
A36: Ist-Stunden | D36: =SUM(G4:G34)
A37: Soll (ganzer Monat) | D37: =SUM(H4:H34)
A38: Differenz (erfasste Tage) | D38: =SUM(I4:I34)
A39: Urlaubstage | D39: =COUNTIF(C4:C34,"U")
A40: Kranktage | D40: =COUNTIF(C4:C34,"K")

Sheet Juni
A1: Juni 2027 | D1: =Einstellungen!B4
A3: Datum | B3: Tag | C3: Art | D3: Beginn | E3: Ende | F3: Pause | G3: Ist (Std.) | H3: Soll (Std.) | I3: Differenz | J3: Bemerkung | K3: Prüfung
A4: 46539 | B4: Di | G4: =IF(OR(UPPER(C4)="U",UPPER(C4)="K"),H4,IF(AND(ISNUMBER(D4),ISNUMBER(E4)),ROUND((MOD(E4-D4,1)-N(F4))*24,2),0)) | H4: =INDEX(Einstellungen!$B$7:$B$13,2) | I4: =IF(OR(ISNUMBER(D4),C4<>""),G4-H4,0) | K4: =IF(AND(ISNUMBER(D4),ISNUMBER(E4)),IF((MOD(E4-D4,1)-N(F4))*24>10,"über 10 Std.",IF(AND((MOD(E4-D4,1)-N(F4))*24>9,N(F4)*1440<45),"Pause unter 45 Min.",IF(AND((MOD(E4-D4,1)-N(F4))*24>6,N(F4)*1440<30),"Pause unter 30 Min.",""))),"")
A5: 46540 | B5: Mi | G5: =IF(OR(UPPER(C5)="U",UPPER(C5)="K"),H5,IF(AND(ISNUMBER(D5),ISNUMBER(E5)),ROUND((MOD(E5-D5,1)-N(F5))*24,2),0)) | H5: =INDEX(Einstellungen!$B$7:$B$13,3) | I5: =IF(OR(ISNUMBER(D5),C5<>""),G5-H5,0) | K5: =IF(AND(ISNUMBER(D5),ISNUMBER(E5)),IF((MOD(E5-D5,1)-N(F5))*24>10,"über 10 Std.",IF(AND((MOD(E5-D5,1)-N(F5))*24>9,N(F5)*1440<45),"Pause unter 45 Min.",IF(AND((MOD(E5-D5,1)-N(F5))*24>6,N(F5)*1440<30),"Pause unter 30 Min.",""))),"")
A6: 46541 | B6: Do | G6: =IF(OR(UPPER(C6)="U",UPPER(C6)="K"),H6,IF(AND(ISNUMBER(D6),ISNUMBER(E6)),ROUND((MOD(E6-D6,1)-N(F6))*24,2),0)) | H6: =INDEX(Einstellungen!$B$7:$B$13,4) | I6: =IF(OR(ISNUMBER(D6),C6<>""),G6-H6,0) | K6: =IF(AND(ISNUMBER(D6),ISNUMBER(E6)),IF((MOD(E6-D6,1)-N(F6))*24>10,"über 10 Std.",IF(AND((MOD(E6-D6,1)-N(F6))*24>9,N(F6)*1440<45),"Pause unter 45 Min.",IF(AND((MOD(E6-D6,1)-N(F6))*24>6,N(F6)*1440<30),"Pause unter 30 Min.",""))),"")
A7: 46542 | B7: Fr | G7: =IF(OR(UPPER(C7)="U",UPPER(C7)="K"),H7,IF(AND(ISNUMBER(D7),ISNUMBER(E7)),ROUND((MOD(E7-D7,1)-N(F7))*24,2),0)) | H7: =INDEX(Einstellungen!$B$7:$B$13,5) | I7: =IF(OR(ISNUMBER(D7),C7<>""),G7-H7,0) | K7: =IF(AND(ISNUMBER(D7),ISNUMBER(E7)),IF((MOD(E7-D7,1)-N(F7))*24>10,"über 10 Std.",IF(AND((MOD(E7-D7,1)-N(F7))*24>9,N(F7)*1440<45),"Pause unter 45 Min.",IF(AND((MOD(E7-D7,1)-N(F7))*24>6,N(F7)*1440<30),"Pause unter 30 Min.",""))),"")
A8: 46543 | B8: Sa | G8: =IF(OR(UPPER(C8)="U",UPPER(C8)="K"),H8,IF(AND(ISNUMBER(D8),ISNUMBER(E8)),ROUND((MOD(E8-D8,1)-N(F8))*24,2),0)) | H8: =INDEX(Einstellungen!$B$7:$B$13,6) | I8: =IF(OR(ISNUMBER(D8),C8<>""),G8-H8,0) | K8: =IF(AND(ISNUMBER(D8),ISNUMBER(E8)),IF((MOD(E8-D8,1)-N(F8))*24>10,"über 10 Std.",IF(AND((MOD(E8-D8,1)-N(F8))*24>9,N(F8)*1440<45),"Pause unter 45 Min.",IF(AND((MOD(E8-D8,1)-N(F8))*24>6,N(F8)*1440<30),"Pause unter 30 Min.",""))),"")
A9: 46544 | B9: So | G9: =IF(OR(UPPER(C9)="U",UPPER(C9)="K"),H9,IF(AND(ISNUMBER(D9),ISNUMBER(E9)),ROUND((MOD(E9-D9,1)-N(F9))*24,2),0)) | H9: =INDEX(Einstellungen!$B$7:$B$13,7) | I9: =IF(OR(ISNUMBER(D9),C9<>""),G9-H9,0) | K9: =IF(AND(ISNUMBER(D9),ISNUMBER(E9)),IF((MOD(E9-D9,1)-N(F9))*24>10,"über 10 Std.",IF(AND((MOD(E9-D9,1)-N(F9))*24>9,N(F9)*1440<45),"Pause unter 45 Min.",IF(AND((MOD(E9-D9,1)-N(F9))*24>6,N(F9)*1440<30),"Pause unter 30 Min.",""))),"")
A10: 46545 | B10: Mo | G10: =IF(OR(UPPER(C10)="U",UPPER(C10)="K"),H10,IF(AND(ISNUMBER(D10),ISNUMBER(E10)),ROUND((MOD(E10-D10,1)-N(F10))*24,2),0)) | H10: =INDEX(Einstellungen!$B$7:$B$13,1) | I10: =IF(OR(ISNUMBER(D10),C10<>""),G10-H10,0) | K10: =IF(AND(ISNUMBER(D10),ISNUMBER(E10)),IF((MOD(E10-D10,1)-N(F10))*24>10,"über 10 Std.",IF(AND((MOD(E10-D10,1)-N(F10))*24>9,N(F10)*1440<45),"Pause unter 45 Min.",IF(AND((MOD(E10-D10,1)-N(F10))*24>6,N(F10)*1440<30),"Pause unter 30 Min.",""))),"")
A11: 46546 | B11: Di | G11: =IF(OR(UPPER(C11)="U",UPPER(C11)="K"),H11,IF(AND(ISNUMBER(D11),ISNUMBER(E11)),ROUND((MOD(E11-D11,1)-N(F11))*24,2),0)) | H11: =INDEX(Einstellungen!$B$7:$B$13,2) | I11: =IF(OR(ISNUMBER(D11),C11<>""),G11-H11,0) | K11: =IF(AND(ISNUMBER(D11),ISNUMBER(E11)),IF((MOD(E11-D11,1)-N(F11))*24>10,"über 10 Std.",IF(AND((MOD(E11-D11,1)-N(F11))*24>9,N(F11)*1440<45),"Pause unter 45 Min.",IF(AND((MOD(E11-D11,1)-N(F11))*24>6,N(F11)*1440<30),"Pause unter 30 Min.",""))),"")
A12: 46547 | B12: Mi | G12: =IF(OR(UPPER(C12)="U",UPPER(C12)="K"),H12,IF(AND(ISNUMBER(D12),ISNUMBER(E12)),ROUND((MOD(E12-D12,1)-N(F12))*24,2),0)) | H12: =INDEX(Einstellungen!$B$7:$B$13,3) | I12: =IF(OR(ISNUMBER(D12),C12<>""),G12-H12,0) | K12: =IF(AND(ISNUMBER(D12),ISNUMBER(E12)),IF((MOD(E12-D12,1)-N(F12))*24>10,"über 10 Std.",IF(AND((MOD(E12-D12,1)-N(F12))*24>9,N(F12)*1440<45),"Pause unter 45 Min.",IF(AND((MOD(E12-D12,1)-N(F12))*24>6,N(F12)*1440<30),"Pause unter 30 Min.",""))),"")
A13: 46548 | B13: Do | G13: =IF(OR(UPPER(C13)="U",UPPER(C13)="K"),H13,IF(AND(ISNUMBER(D13),ISNUMBER(E13)),ROUND((MOD(E13-D13,1)-N(F13))*24,2),0)) | H13: =INDEX(Einstellungen!$B$7:$B$13,4) | I13: =IF(OR(ISNUMBER(D13),C13<>""),G13-H13,0) | K13: =IF(AND(ISNUMBER(D13),ISNUMBER(E13)),IF((MOD(E13-D13,1)-N(F13))*24>10,"über 10 Std.",IF(AND((MOD(E13-D13,1)-N(F13))*24>9,N(F13)*1440<45),"Pause unter 45 Min.",IF(AND((MOD(E13-D13,1)-N(F13))*24>6,N(F13)*1440<30),"Pause unter 30 Min.",""))),"")
A14: 46549 | B14: Fr | G14: =IF(OR(UPPER(C14)="U",UPPER(C14)="K"),H14,IF(AND(ISNUMBER(D14),ISNUMBER(E14)),ROUND((MOD(E14-D14,1)-N(F14))*24,2),0)) | H14: =INDEX(Einstellungen!$B$7:$B$13,5) | I14: =IF(OR(ISNUMBER(D14),C14<>""),G14-H14,0) | K14: =IF(AND(ISNUMBER(D14),ISNUMBER(E14)),IF((MOD(E14-D14,1)-N(F14))*24>10,"über 10 Std.",IF(AND((MOD(E14-D14,1)-N(F14))*24>9,N(F14)*1440<45),"Pause unter 45 Min.",IF(AND((MOD(E14-D14,1)-N(F14))*24>6,N(F14)*1440<30),"Pause unter 30 Min.",""))),"")
A15: 46550 | B15: Sa | G15: =IF(OR(UPPER(C15)="U",UPPER(C15)="K"),H15,IF(AND(ISNUMBER(D15),ISNUMBER(E15)),ROUND((MOD(E15-D15,1)-N(F15))*24,2),0)) | H15: =INDEX(Einstellungen!$B$7:$B$13,6) | I15: =IF(OR(ISNUMBER(D15),C15<>""),G15-H15,0) | K15: =IF(AND(ISNUMBER(D15),ISNUMBER(E15)),IF((MOD(E15-D15,1)-N(F15))*24>10,"über 10 Std.",IF(AND((MOD(E15-D15,1)-N(F15))*24>9,N(F15)*1440<45),"Pause unter 45 Min.",IF(AND((MOD(E15-D15,1)-N(F15))*24>6,N(F15)*1440<30),"Pause unter 30 Min.",""))),"")
A16: 46551 | B16: So | G16: =IF(OR(UPPER(C16)="U",UPPER(C16)="K"),H16,IF(AND(ISNUMBER(D16),ISNUMBER(E16)),ROUND((MOD(E16-D16,1)-N(F16))*24,2),0)) | H16: =INDEX(Einstellungen!$B$7:$B$13,7) | I16: =IF(OR(ISNUMBER(D16),C16<>""),G16-H16,0) | K16: =IF(AND(ISNUMBER(D16),ISNUMBER(E16)),IF((MOD(E16-D16,1)-N(F16))*24>10,"über 10 Std.",IF(AND((MOD(E16-D16,1)-N(F16))*24>9,N(F16)*1440<45),"Pause unter 45 Min.",IF(AND((MOD(E16-D16,1)-N(F16))*24>6,N(F16)*1440<30),"Pause unter 30 Min.",""))),"")
A17: 46552 | B17: Mo | G17: =IF(OR(UPPER(C17)="U",UPPER(C17)="K"),H17,IF(AND(ISNUMBER(D17),ISNUMBER(E17)),ROUND((MOD(E17-D17,1)-N(F17))*24,2),0)) | H17: =INDEX(Einstellungen!$B$7:$B$13,1) | I17: =IF(OR(ISNUMBER(D17),C17<>""),G17-H17,0) | K17: =IF(AND(ISNUMBER(D17),ISNUMBER(E17)),IF((MOD(E17-D17,1)-N(F17))*24>10,"über 10 Std.",IF(AND((MOD(E17-D17,1)-N(F17))*24>9,N(F17)*1440<45),"Pause unter 45 Min.",IF(AND((MOD(E17-D17,1)-N(F17))*24>6,N(F17)*1440<30),"Pause unter 30 Min.",""))),"")
A18: 46553 | B18: Di | G18: =IF(OR(UPPER(C18)="U",UPPER(C18)="K"),H18,IF(AND(ISNUMBER(D18),ISNUMBER(E18)),ROUND((MOD(E18-D18,1)-N(F18))*24,2),0)) | H18: =INDEX(Einstellungen!$B$7:$B$13,2) | I18: =IF(OR(ISNUMBER(D18),C18<>""),G18-H18,0) | K18: =IF(AND(ISNUMBER(D18),ISNUMBER(E18)),IF((MOD(E18-D18,1)-N(F18))*24>10,"über 10 Std.",IF(AND((MOD(E18-D18,1)-N(F18))*24>9,N(F18)*1440<45),"Pause unter 45 Min.",IF(AND((MOD(E18-D18,1)-N(F18))*24>6,N(F18)*1440<30),"Pause unter 30 Min.",""))),"")
A19: 46554 | B19: Mi | G19: =IF(OR(UPPER(C19)="U",UPPER(C19)="K"),H19,IF(AND(ISNUMBER(D19),ISNUMBER(E19)),ROUND((MOD(E19-D19,1)-N(F19))*24,2),0)) | H19: =INDEX(Einstellungen!$B$7:$B$13,3) | I19: =IF(OR(ISNUMBER(D19),C19<>""),G19-H19,0) | K19: =IF(AND(ISNUMBER(D19),ISNUMBER(E19)),IF((MOD(E19-D19,1)-N(F19))*24>10,"über 10 Std.",IF(AND((MOD(E19-D19,1)-N(F19))*24>9,N(F19)*1440<45),"Pause unter 45 Min.",IF(AND((MOD(E19-D19,1)-N(F19))*24>6,N(F19)*1440<30),"Pause unter 30 Min.",""))),"")
A20: 46555 | B20: Do | G20: =IF(OR(UPPER(C20)="U",UPPER(C20)="K"),H20,IF(AND(ISNUMBER(D20),ISNUMBER(E20)),ROUND((MOD(E20-D20,1)-N(F20))*24,2),0)) | H20: =INDEX(Einstellungen!$B$7:$B$13,4) | I20: =IF(OR(ISNUMBER(D20),C20<>""),G20-H20,0) | K20: =IF(AND(ISNUMBER(D20),ISNUMBER(E20)),IF((MOD(E20-D20,1)-N(F20))*24>10,"über 10 Std.",IF(AND((MOD(E20-D20,1)-N(F20))*24>9,N(F20)*1440<45),"Pause unter 45 Min.",IF(AND((MOD(E20-D20,1)-N(F20))*24>6,N(F20)*1440<30),"Pause unter 30 Min.",""))),"")
A21: 46556 | B21: Fr | G21: =IF(OR(UPPER(C21)="U",UPPER(C21)="K"),H21,IF(AND(ISNUMBER(D21),ISNUMBER(E21)),ROUND((MOD(E21-D21,1)-N(F21))*24,2),0)) | H21: =INDEX(Einstellungen!$B$7:$B$13,5) | I21: =IF(OR(ISNUMBER(D21),C21<>""),G21-H21,0) | K21: =IF(AND(ISNUMBER(D21),ISNUMBER(E21)),IF((MOD(E21-D21,1)-N(F21))*24>10,"über 10 Std.",IF(AND((MOD(E21-D21,1)-N(F21))*24>9,N(F21)*1440<45),"Pause unter 45 Min.",IF(AND((MOD(E21-D21,1)-N(F21))*24>6,N(F21)*1440<30),"Pause unter 30 Min.",""))),"")
A22: 46557 | B22: Sa | G22: =IF(OR(UPPER(C22)="U",UPPER(C22)="K"),H22,IF(AND(ISNUMBER(D22),ISNUMBER(E22)),ROUND((MOD(E22-D22,1)-N(F22))*24,2),0)) | H22: =INDEX(Einstellungen!$B$7:$B$13,6) | I22: =IF(OR(ISNUMBER(D22),C22<>""),G22-H22,0) | K22: =IF(AND(ISNUMBER(D22),ISNUMBER(E22)),IF((MOD(E22-D22,1)-N(F22))*24>10,"über 10 Std.",IF(AND((MOD(E22-D22,1)-N(F22))*24>9,N(F22)*1440<45),"Pause unter 45 Min.",IF(AND((MOD(E22-D22,1)-N(F22))*24>6,N(F22)*1440<30),"Pause unter 30 Min.",""))),"")
A23: 46558 | B23: So | G23: =IF(OR(UPPER(C23)="U",UPPER(C23)="K"),H23,IF(AND(ISNUMBER(D23),ISNUMBER(E23)),ROUND((MOD(E23-D23,1)-N(F23))*24,2),0)) | H23: =INDEX(Einstellungen!$B$7:$B$13,7) | I23: =IF(OR(ISNUMBER(D23),C23<>""),G23-H23,0) | K23: =IF(AND(ISNUMBER(D23),ISNUMBER(E23)),IF((MOD(E23-D23,1)-N(F23))*24>10,"über 10 Std.",IF(AND((MOD(E23-D23,1)-N(F23))*24>9,N(F23)*1440<45),"Pause unter 45 Min.",IF(AND((MOD(E23-D23,1)-N(F23))*24>6,N(F23)*1440<30),"Pause unter 30 Min.",""))),"")
A24: 46559 | B24: Mo | G24: =IF(OR(UPPER(C24)="U",UPPER(C24)="K"),H24,IF(AND(ISNUMBER(D24),ISNUMBER(E24)),ROUND((MOD(E24-D24,1)-N(F24))*24,2),0)) | H24: =INDEX(Einstellungen!$B$7:$B$13,1) | I24: =IF(OR(ISNUMBER(D24),C24<>""),G24-H24,0) | K24: =IF(AND(ISNUMBER(D24),ISNUMBER(E24)),IF((MOD(E24-D24,1)-N(F24))*24>10,"über 10 Std.",IF(AND((MOD(E24-D24,1)-N(F24))*24>9,N(F24)*1440<45),"Pause unter 45 Min.",IF(AND((MOD(E24-D24,1)-N(F24))*24>6,N(F24)*1440<30),"Pause unter 30 Min.",""))),"")
A25: 46560 | B25: Di | G25: =IF(OR(UPPER(C25)="U",UPPER(C25)="K"),H25,IF(AND(ISNUMBER(D25),ISNUMBER(E25)),ROUND((MOD(E25-D25,1)-N(F25))*24,2),0)) | H25: =INDEX(Einstellungen!$B$7:$B$13,2) | I25: =IF(OR(ISNUMBER(D25),C25<>""),G25-H25,0) | K25: =IF(AND(ISNUMBER(D25),ISNUMBER(E25)),IF((MOD(E25-D25,1)-N(F25))*24>10,"über 10 Std.",IF(AND((MOD(E25-D25,1)-N(F25))*24>9,N(F25)*1440<45),"Pause unter 45 Min.",IF(AND((MOD(E25-D25,1)-N(F25))*24>6,N(F25)*1440<30),"Pause unter 30 Min.",""))),"")
A26: 46561 | B26: Mi | G26: =IF(OR(UPPER(C26)="U",UPPER(C26)="K"),H26,IF(AND(ISNUMBER(D26),ISNUMBER(E26)),ROUND((MOD(E26-D26,1)-N(F26))*24,2),0)) | H26: =INDEX(Einstellungen!$B$7:$B$13,3) | I26: =IF(OR(ISNUMBER(D26),C26<>""),G26-H26,0) | K26: =IF(AND(ISNUMBER(D26),ISNUMBER(E26)),IF((MOD(E26-D26,1)-N(F26))*24>10,"über 10 Std.",IF(AND((MOD(E26-D26,1)-N(F26))*24>9,N(F26)*1440<45),"Pause unter 45 Min.",IF(AND((MOD(E26-D26,1)-N(F26))*24>6,N(F26)*1440<30),"Pause unter 30 Min.",""))),"")
A27: 46562 | B27: Do | G27: =IF(OR(UPPER(C27)="U",UPPER(C27)="K"),H27,IF(AND(ISNUMBER(D27),ISNUMBER(E27)),ROUND((MOD(E27-D27,1)-N(F27))*24,2),0)) | H27: =INDEX(Einstellungen!$B$7:$B$13,4) | I27: =IF(OR(ISNUMBER(D27),C27<>""),G27-H27,0) | K27: =IF(AND(ISNUMBER(D27),ISNUMBER(E27)),IF((MOD(E27-D27,1)-N(F27))*24>10,"über 10 Std.",IF(AND((MOD(E27-D27,1)-N(F27))*24>9,N(F27)*1440<45),"Pause unter 45 Min.",IF(AND((MOD(E27-D27,1)-N(F27))*24>6,N(F27)*1440<30),"Pause unter 30 Min.",""))),"")
A28: 46563 | B28: Fr | G28: =IF(OR(UPPER(C28)="U",UPPER(C28)="K"),H28,IF(AND(ISNUMBER(D28),ISNUMBER(E28)),ROUND((MOD(E28-D28,1)-N(F28))*24,2),0)) | H28: =INDEX(Einstellungen!$B$7:$B$13,5) | I28: =IF(OR(ISNUMBER(D28),C28<>""),G28-H28,0) | K28: =IF(AND(ISNUMBER(D28),ISNUMBER(E28)),IF((MOD(E28-D28,1)-N(F28))*24>10,"über 10 Std.",IF(AND((MOD(E28-D28,1)-N(F28))*24>9,N(F28)*1440<45),"Pause unter 45 Min.",IF(AND((MOD(E28-D28,1)-N(F28))*24>6,N(F28)*1440<30),"Pause unter 30 Min.",""))),"")
A29: 46564 | B29: Sa | G29: =IF(OR(UPPER(C29)="U",UPPER(C29)="K"),H29,IF(AND(ISNUMBER(D29),ISNUMBER(E29)),ROUND((MOD(E29-D29,1)-N(F29))*24,2),0)) | H29: =INDEX(Einstellungen!$B$7:$B$13,6) | I29: =IF(OR(ISNUMBER(D29),C29<>""),G29-H29,0) | K29: =IF(AND(ISNUMBER(D29),ISNUMBER(E29)),IF((MOD(E29-D29,1)-N(F29))*24>10,"über 10 Std.",IF(AND((MOD(E29-D29,1)-N(F29))*24>9,N(F29)*1440<45),"Pause unter 45 Min.",IF(AND((MOD(E29-D29,1)-N(F29))*24>6,N(F29)*1440<30),"Pause unter 30 Min.",""))),"")
A30: 46565 | B30: So | G30: =IF(OR(UPPER(C30)="U",UPPER(C30)="K"),H30,IF(AND(ISNUMBER(D30),ISNUMBER(E30)),ROUND((MOD(E30-D30,1)-N(F30))*24,2),0)) | H30: =INDEX(Einstellungen!$B$7:$B$13,7) | I30: =IF(OR(ISNUMBER(D30),C30<>""),G30-H30,0) | K30: =IF(AND(ISNUMBER(D30),ISNUMBER(E30)),IF((MOD(E30-D30,1)-N(F30))*24>10,"über 10 Std.",IF(AND((MOD(E30-D30,1)-N(F30))*24>9,N(F30)*1440<45),"Pause unter 45 Min.",IF(AND((MOD(E30-D30,1)-N(F30))*24>6,N(F30)*1440<30),"Pause unter 30 Min.",""))),"")
A31: 46566 | B31: Mo | G31: =IF(OR(UPPER(C31)="U",UPPER(C31)="K"),H31,IF(AND(ISNUMBER(D31),ISNUMBER(E31)),ROUND((MOD(E31-D31,1)-N(F31))*24,2),0)) | H31: =INDEX(Einstellungen!$B$7:$B$13,1) | I31: =IF(OR(ISNUMBER(D31),C31<>""),G31-H31,0) | K31: =IF(AND(ISNUMBER(D31),ISNUMBER(E31)),IF((MOD(E31-D31,1)-N(F31))*24>10,"über 10 Std.",IF(AND((MOD(E31-D31,1)-N(F31))*24>9,N(F31)*1440<45),"Pause unter 45 Min.",IF(AND((MOD(E31-D31,1)-N(F31))*24>6,N(F31)*1440<30),"Pause unter 30 Min.",""))),"")
A32: 46567 | B32: Di | G32: =IF(OR(UPPER(C32)="U",UPPER(C32)="K"),H32,IF(AND(ISNUMBER(D32),ISNUMBER(E32)),ROUND((MOD(E32-D32,1)-N(F32))*24,2),0)) | H32: =INDEX(Einstellungen!$B$7:$B$13,2) | I32: =IF(OR(ISNUMBER(D32),C32<>""),G32-H32,0) | K32: =IF(AND(ISNUMBER(D32),ISNUMBER(E32)),IF((MOD(E32-D32,1)-N(F32))*24>10,"über 10 Std.",IF(AND((MOD(E32-D32,1)-N(F32))*24>9,N(F32)*1440<45),"Pause unter 45 Min.",IF(AND((MOD(E32-D32,1)-N(F32))*24>6,N(F32)*1440<30),"Pause unter 30 Min.",""))),"")
A33: 46568 | B33: Mi | G33: =IF(OR(UPPER(C33)="U",UPPER(C33)="K"),H33,IF(AND(ISNUMBER(D33),ISNUMBER(E33)),ROUND((MOD(E33-D33,1)-N(F33))*24,2),0)) | H33: =INDEX(Einstellungen!$B$7:$B$13,3) | I33: =IF(OR(ISNUMBER(D33),C33<>""),G33-H33,0) | K33: =IF(AND(ISNUMBER(D33),ISNUMBER(E33)),IF((MOD(E33-D33,1)-N(F33))*24>10,"über 10 Std.",IF(AND((MOD(E33-D33,1)-N(F33))*24>9,N(F33)*1440<45),"Pause unter 45 Min.",IF(AND((MOD(E33-D33,1)-N(F33))*24>6,N(F33)*1440<30),"Pause unter 30 Min.",""))),"")
A35: Ist-Stunden | D35: =SUM(G4:G33)
A36: Soll (ganzer Monat) | D36: =SUM(H4:H33)
A37: Differenz (erfasste Tage) | D37: =SUM(I4:I33)
A38: Urlaubstage | D38: =COUNTIF(C4:C33,"U")
A39: Kranktage | D39: =COUNTIF(C4:C33,"K")

Sheet Juli
A1: Juli 2027 | D1: =Einstellungen!B4
A3: Datum | B3: Tag | C3: Art | D3: Beginn | E3: Ende | F3: Pause | G3: Ist (Std.) | H3: Soll (Std.) | I3: Differenz | J3: Bemerkung | K3: Prüfung
A4: 46569 | B4: Do | G4: =IF(OR(UPPER(C4)="U",UPPER(C4)="K"),H4,IF(AND(ISNUMBER(D4),ISNUMBER(E4)),ROUND((MOD(E4-D4,1)-N(F4))*24,2),0)) | H4: =INDEX(Einstellungen!$B$7:$B$13,4) | I4: =IF(OR(ISNUMBER(D4),C4<>""),G4-H4,0) | K4: =IF(AND(ISNUMBER(D4),ISNUMBER(E4)),IF((MOD(E4-D4,1)-N(F4))*24>10,"über 10 Std.",IF(AND((MOD(E4-D4,1)-N(F4))*24>9,N(F4)*1440<45),"Pause unter 45 Min.",IF(AND((MOD(E4-D4,1)-N(F4))*24>6,N(F4)*1440<30),"Pause unter 30 Min.",""))),"")
A5: 46570 | B5: Fr | G5: =IF(OR(UPPER(C5)="U",UPPER(C5)="K"),H5,IF(AND(ISNUMBER(D5),ISNUMBER(E5)),ROUND((MOD(E5-D5,1)-N(F5))*24,2),0)) | H5: =INDEX(Einstellungen!$B$7:$B$13,5) | I5: =IF(OR(ISNUMBER(D5),C5<>""),G5-H5,0) | K5: =IF(AND(ISNUMBER(D5),ISNUMBER(E5)),IF((MOD(E5-D5,1)-N(F5))*24>10,"über 10 Std.",IF(AND((MOD(E5-D5,1)-N(F5))*24>9,N(F5)*1440<45),"Pause unter 45 Min.",IF(AND((MOD(E5-D5,1)-N(F5))*24>6,N(F5)*1440<30),"Pause unter 30 Min.",""))),"")
A6: 46571 | B6: Sa | G6: =IF(OR(UPPER(C6)="U",UPPER(C6)="K"),H6,IF(AND(ISNUMBER(D6),ISNUMBER(E6)),ROUND((MOD(E6-D6,1)-N(F6))*24,2),0)) | H6: =INDEX(Einstellungen!$B$7:$B$13,6) | I6: =IF(OR(ISNUMBER(D6),C6<>""),G6-H6,0) | K6: =IF(AND(ISNUMBER(D6),ISNUMBER(E6)),IF((MOD(E6-D6,1)-N(F6))*24>10,"über 10 Std.",IF(AND((MOD(E6-D6,1)-N(F6))*24>9,N(F6)*1440<45),"Pause unter 45 Min.",IF(AND((MOD(E6-D6,1)-N(F6))*24>6,N(F6)*1440<30),"Pause unter 30 Min.",""))),"")
A7: 46572 | B7: So | G7: =IF(OR(UPPER(C7)="U",UPPER(C7)="K"),H7,IF(AND(ISNUMBER(D7),ISNUMBER(E7)),ROUND((MOD(E7-D7,1)-N(F7))*24,2),0)) | H7: =INDEX(Einstellungen!$B$7:$B$13,7) | I7: =IF(OR(ISNUMBER(D7),C7<>""),G7-H7,0) | K7: =IF(AND(ISNUMBER(D7),ISNUMBER(E7)),IF((MOD(E7-D7,1)-N(F7))*24>10,"über 10 Std.",IF(AND((MOD(E7-D7,1)-N(F7))*24>9,N(F7)*1440<45),"Pause unter 45 Min.",IF(AND((MOD(E7-D7,1)-N(F7))*24>6,N(F7)*1440<30),"Pause unter 30 Min.",""))),"")
A8: 46573 | B8: Mo | G8: =IF(OR(UPPER(C8)="U",UPPER(C8)="K"),H8,IF(AND(ISNUMBER(D8),ISNUMBER(E8)),ROUND((MOD(E8-D8,1)-N(F8))*24,2),0)) | H8: =INDEX(Einstellungen!$B$7:$B$13,1) | I8: =IF(OR(ISNUMBER(D8),C8<>""),G8-H8,0) | K8: =IF(AND(ISNUMBER(D8),ISNUMBER(E8)),IF((MOD(E8-D8,1)-N(F8))*24>10,"über 10 Std.",IF(AND((MOD(E8-D8,1)-N(F8))*24>9,N(F8)*1440<45),"Pause unter 45 Min.",IF(AND((MOD(E8-D8,1)-N(F8))*24>6,N(F8)*1440<30),"Pause unter 30 Min.",""))),"")
A9: 46574 | B9: Di | G9: =IF(OR(UPPER(C9)="U",UPPER(C9)="K"),H9,IF(AND(ISNUMBER(D9),ISNUMBER(E9)),ROUND((MOD(E9-D9,1)-N(F9))*24,2),0)) | H9: =INDEX(Einstellungen!$B$7:$B$13,2) | I9: =IF(OR(ISNUMBER(D9),C9<>""),G9-H9,0) | K9: =IF(AND(ISNUMBER(D9),ISNUMBER(E9)),IF((MOD(E9-D9,1)-N(F9))*24>10,"über 10 Std.",IF(AND((MOD(E9-D9,1)-N(F9))*24>9,N(F9)*1440<45),"Pause unter 45 Min.",IF(AND((MOD(E9-D9,1)-N(F9))*24>6,N(F9)*1440<30),"Pause unter 30 Min.",""))),"")
A10: 46575 | B10: Mi | G10: =IF(OR(UPPER(C10)="U",UPPER(C10)="K"),H10,IF(AND(ISNUMBER(D10),ISNUMBER(E10)),ROUND((MOD(E10-D10,1)-N(F10))*24,2),0)) | H10: =INDEX(Einstellungen!$B$7:$B$13,3) | I10: =IF(OR(ISNUMBER(D10),C10<>""),G10-H10,0) | K10: =IF(AND(ISNUMBER(D10),ISNUMBER(E10)),IF((MOD(E10-D10,1)-N(F10))*24>10,"über 10 Std.",IF(AND((MOD(E10-D10,1)-N(F10))*24>9,N(F10)*1440<45),"Pause unter 45 Min.",IF(AND((MOD(E10-D10,1)-N(F10))*24>6,N(F10)*1440<30),"Pause unter 30 Min.",""))),"")
A11: 46576 | B11: Do | G11: =IF(OR(UPPER(C11)="U",UPPER(C11)="K"),H11,IF(AND(ISNUMBER(D11),ISNUMBER(E11)),ROUND((MOD(E11-D11,1)-N(F11))*24,2),0)) | H11: =INDEX(Einstellungen!$B$7:$B$13,4) | I11: =IF(OR(ISNUMBER(D11),C11<>""),G11-H11,0) | K11: =IF(AND(ISNUMBER(D11),ISNUMBER(E11)),IF((MOD(E11-D11,1)-N(F11))*24>10,"über 10 Std.",IF(AND((MOD(E11-D11,1)-N(F11))*24>9,N(F11)*1440<45),"Pause unter 45 Min.",IF(AND((MOD(E11-D11,1)-N(F11))*24>6,N(F11)*1440<30),"Pause unter 30 Min.",""))),"")
A12: 46577 | B12: Fr | G12: =IF(OR(UPPER(C12)="U",UPPER(C12)="K"),H12,IF(AND(ISNUMBER(D12),ISNUMBER(E12)),ROUND((MOD(E12-D12,1)-N(F12))*24,2),0)) | H12: =INDEX(Einstellungen!$B$7:$B$13,5) | I12: =IF(OR(ISNUMBER(D12),C12<>""),G12-H12,0) | K12: =IF(AND(ISNUMBER(D12),ISNUMBER(E12)),IF((MOD(E12-D12,1)-N(F12))*24>10,"über 10 Std.",IF(AND((MOD(E12-D12,1)-N(F12))*24>9,N(F12)*1440<45),"Pause unter 45 Min.",IF(AND((MOD(E12-D12,1)-N(F12))*24>6,N(F12)*1440<30),"Pause unter 30 Min.",""))),"")
A13: 46578 | B13: Sa | G13: =IF(OR(UPPER(C13)="U",UPPER(C13)="K"),H13,IF(AND(ISNUMBER(D13),ISNUMBER(E13)),ROUND((MOD(E13-D13,1)-N(F13))*24,2),0)) | H13: =INDEX(Einstellungen!$B$7:$B$13,6) | I13: =IF(OR(ISNUMBER(D13),C13<>""),G13-H13,0) | K13: =IF(AND(ISNUMBER(D13),ISNUMBER(E13)),IF((MOD(E13-D13,1)-N(F13))*24>10,"über 10 Std.",IF(AND((MOD(E13-D13,1)-N(F13))*24>9,N(F13)*1440<45),"Pause unter 45 Min.",IF(AND((MOD(E13-D13,1)-N(F13))*24>6,N(F13)*1440<30),"Pause unter 30 Min.",""))),"")
A14: 46579 | B14: So | G14: =IF(OR(UPPER(C14)="U",UPPER(C14)="K"),H14,IF(AND(ISNUMBER(D14),ISNUMBER(E14)),ROUND((MOD(E14-D14,1)-N(F14))*24,2),0)) | H14: =INDEX(Einstellungen!$B$7:$B$13,7) | I14: =IF(OR(ISNUMBER(D14),C14<>""),G14-H14,0) | K14: =IF(AND(ISNUMBER(D14),ISNUMBER(E14)),IF((MOD(E14-D14,1)-N(F14))*24>10,"über 10 Std.",IF(AND((MOD(E14-D14,1)-N(F14))*24>9,N(F14)*1440<45),"Pause unter 45 Min.",IF(AND((MOD(E14-D14,1)-N(F14))*24>6,N(F14)*1440<30),"Pause unter 30 Min.",""))),"")
A15: 46580 | B15: Mo | G15: =IF(OR(UPPER(C15)="U",UPPER(C15)="K"),H15,IF(AND(ISNUMBER(D15),ISNUMBER(E15)),ROUND((MOD(E15-D15,1)-N(F15))*24,2),0)) | H15: =INDEX(Einstellungen!$B$7:$B$13,1) | I15: =IF(OR(ISNUMBER(D15),C15<>""),G15-H15,0) | K15: =IF(AND(ISNUMBER(D15),ISNUMBER(E15)),IF((MOD(E15-D15,1)-N(F15))*24>10,"über 10 Std.",IF(AND((MOD(E15-D15,1)-N(F15))*24>9,N(F15)*1440<45),"Pause unter 45 Min.",IF(AND((MOD(E15-D15,1)-N(F15))*24>6,N(F15)*1440<30),"Pause unter 30 Min.",""))),"")
A16: 46581 | B16: Di | G16: =IF(OR(UPPER(C16)="U",UPPER(C16)="K"),H16,IF(AND(ISNUMBER(D16),ISNUMBER(E16)),ROUND((MOD(E16-D16,1)-N(F16))*24,2),0)) | H16: =INDEX(Einstellungen!$B$7:$B$13,2) | I16: =IF(OR(ISNUMBER(D16),C16<>""),G16-H16,0) | K16: =IF(AND(ISNUMBER(D16),ISNUMBER(E16)),IF((MOD(E16-D16,1)-N(F16))*24>10,"über 10 Std.",IF(AND((MOD(E16-D16,1)-N(F16))*24>9,N(F16)*1440<45),"Pause unter 45 Min.",IF(AND((MOD(E16-D16,1)-N(F16))*24>6,N(F16)*1440<30),"Pause unter 30 Min.",""))),"")
A17: 46582 | B17: Mi | G17: =IF(OR(UPPER(C17)="U",UPPER(C17)="K"),H17,IF(AND(ISNUMBER(D17),ISNUMBER(E17)),ROUND((MOD(E17-D17,1)-N(F17))*24,2),0)) | H17: =INDEX(Einstellungen!$B$7:$B$13,3) | I17: =IF(OR(ISNUMBER(D17),C17<>""),G17-H17,0) | K17: =IF(AND(ISNUMBER(D17),ISNUMBER(E17)),IF((MOD(E17-D17,1)-N(F17))*24>10,"über 10 Std.",IF(AND((MOD(E17-D17,1)-N(F17))*24>9,N(F17)*1440<45),"Pause unter 45 Min.",IF(AND((MOD(E17-D17,1)-N(F17))*24>6,N(F17)*1440<30),"Pause unter 30 Min.",""))),"")
A18: 46583 | B18: Do | G18: =IF(OR(UPPER(C18)="U",UPPER(C18)="K"),H18,IF(AND(ISNUMBER(D18),ISNUMBER(E18)),ROUND((MOD(E18-D18,1)-N(F18))*24,2),0)) | H18: =INDEX(Einstellungen!$B$7:$B$13,4) | I18: =IF(OR(ISNUMBER(D18),C18<>""),G18-H18,0) | K18: =IF(AND(ISNUMBER(D18),ISNUMBER(E18)),IF((MOD(E18-D18,1)-N(F18))*24>10,"über 10 Std.",IF(AND((MOD(E18-D18,1)-N(F18))*24>9,N(F18)*1440<45),"Pause unter 45 Min.",IF(AND((MOD(E18-D18,1)-N(F18))*24>6,N(F18)*1440<30),"Pause unter 30 Min.",""))),"")
A19: 46584 | B19: Fr | G19: =IF(OR(UPPER(C19)="U",UPPER(C19)="K"),H19,IF(AND(ISNUMBER(D19),ISNUMBER(E19)),ROUND((MOD(E19-D19,1)-N(F19))*24,2),0)) | H19: =INDEX(Einstellungen!$B$7:$B$13,5) | I19: =IF(OR(ISNUMBER(D19),C19<>""),G19-H19,0) | K19: =IF(AND(ISNUMBER(D19),ISNUMBER(E19)),IF((MOD(E19-D19,1)-N(F19))*24>10,"über 10 Std.",IF(AND((MOD(E19-D19,1)-N(F19))*24>9,N(F19)*1440<45),"Pause unter 45 Min.",IF(AND((MOD(E19-D19,1)-N(F19))*24>6,N(F19)*1440<30),"Pause unter 30 Min.",""))),"")
A20: 46585 | B20: Sa | G20: =IF(OR(UPPER(C20)="U",UPPER(C20)="K"),H20,IF(AND(ISNUMBER(D20),ISNUMBER(E20)),ROUND((MOD(E20-D20,1)-N(F20))*24,2),0)) | H20: =INDEX(Einstellungen!$B$7:$B$13,6) | I20: =IF(OR(ISNUMBER(D20),C20<>""),G20-H20,0) | K20: =IF(AND(ISNUMBER(D20),ISNUMBER(E20)),IF((MOD(E20-D20,1)-N(F20))*24>10,"über 10 Std.",IF(AND((MOD(E20-D20,1)-N(F20))*24>9,N(F20)*1440<45),"Pause unter 45 Min.",IF(AND((MOD(E20-D20,1)-N(F20))*24>6,N(F20)*1440<30),"Pause unter 30 Min.",""))),"")
A21: 46586 | B21: So | G21: =IF(OR(UPPER(C21)="U",UPPER(C21)="K"),H21,IF(AND(ISNUMBER(D21),ISNUMBER(E21)),ROUND((MOD(E21-D21,1)-N(F21))*24,2),0)) | H21: =INDEX(Einstellungen!$B$7:$B$13,7) | I21: =IF(OR(ISNUMBER(D21),C21<>""),G21-H21,0) | K21: =IF(AND(ISNUMBER(D21),ISNUMBER(E21)),IF((MOD(E21-D21,1)-N(F21))*24>10,"über 10 Std.",IF(AND((MOD(E21-D21,1)-N(F21))*24>9,N(F21)*1440<45),"Pause unter 45 Min.",IF(AND((MOD(E21-D21,1)-N(F21))*24>6,N(F21)*1440<30),"Pause unter 30 Min.",""))),"")
A22: 46587 | B22: Mo | G22: =IF(OR(UPPER(C22)="U",UPPER(C22)="K"),H22,IF(AND(ISNUMBER(D22),ISNUMBER(E22)),ROUND((MOD(E22-D22,1)-N(F22))*24,2),0)) | H22: =INDEX(Einstellungen!$B$7:$B$13,1) | I22: =IF(OR(ISNUMBER(D22),C22<>""),G22-H22,0) | K22: =IF(AND(ISNUMBER(D22),ISNUMBER(E22)),IF((MOD(E22-D22,1)-N(F22))*24>10,"über 10 Std.",IF(AND((MOD(E22-D22,1)-N(F22))*24>9,N(F22)*1440<45),"Pause unter 45 Min.",IF(AND((MOD(E22-D22,1)-N(F22))*24>6,N(F22)*1440<30),"Pause unter 30 Min.",""))),"")
A23: 46588 | B23: Di | G23: =IF(OR(UPPER(C23)="U",UPPER(C23)="K"),H23,IF(AND(ISNUMBER(D23),ISNUMBER(E23)),ROUND((MOD(E23-D23,1)-N(F23))*24,2),0)) | H23: =INDEX(Einstellungen!$B$7:$B$13,2) | I23: =IF(OR(ISNUMBER(D23),C23<>""),G23-H23,0) | K23: =IF(AND(ISNUMBER(D23),ISNUMBER(E23)),IF((MOD(E23-D23,1)-N(F23))*24>10,"über 10 Std.",IF(AND((MOD(E23-D23,1)-N(F23))*24>9,N(F23)*1440<45),"Pause unter 45 Min.",IF(AND((MOD(E23-D23,1)-N(F23))*24>6,N(F23)*1440<30),"Pause unter 30 Min.",""))),"")
A24: 46589 | B24: Mi | G24: =IF(OR(UPPER(C24)="U",UPPER(C24)="K"),H24,IF(AND(ISNUMBER(D24),ISNUMBER(E24)),ROUND((MOD(E24-D24,1)-N(F24))*24,2),0)) | H24: =INDEX(Einstellungen!$B$7:$B$13,3) | I24: =IF(OR(ISNUMBER(D24),C24<>""),G24-H24,0) | K24: =IF(AND(ISNUMBER(D24),ISNUMBER(E24)),IF((MOD(E24-D24,1)-N(F24))*24>10,"über 10 Std.",IF(AND((MOD(E24-D24,1)-N(F24))*24>9,N(F24)*1440<45),"Pause unter 45 Min.",IF(AND((MOD(E24-D24,1)-N(F24))*24>6,N(F24)*1440<30),"Pause unter 30 Min.",""))),"")
A25: 46590 | B25: Do | G25: =IF(OR(UPPER(C25)="U",UPPER(C25)="K"),H25,IF(AND(ISNUMBER(D25),ISNUMBER(E25)),ROUND((MOD(E25-D25,1)-N(F25))*24,2),0)) | H25: =INDEX(Einstellungen!$B$7:$B$13,4) | I25: =IF(OR(ISNUMBER(D25),C25<>""),G25-H25,0) | K25: =IF(AND(ISNUMBER(D25),ISNUMBER(E25)),IF((MOD(E25-D25,1)-N(F25))*24>10,"über 10 Std.",IF(AND((MOD(E25-D25,1)-N(F25))*24>9,N(F25)*1440<45),"Pause unter 45 Min.",IF(AND((MOD(E25-D25,1)-N(F25))*24>6,N(F25)*1440<30),"Pause unter 30 Min.",""))),"")
A26: 46591 | B26: Fr | G26: =IF(OR(UPPER(C26)="U",UPPER(C26)="K"),H26,IF(AND(ISNUMBER(D26),ISNUMBER(E26)),ROUND((MOD(E26-D26,1)-N(F26))*24,2),0)) | H26: =INDEX(Einstellungen!$B$7:$B$13,5) | I26: =IF(OR(ISNUMBER(D26),C26<>""),G26-H26,0) | K26: =IF(AND(ISNUMBER(D26),ISNUMBER(E26)),IF((MOD(E26-D26,1)-N(F26))*24>10,"über 10 Std.",IF(AND((MOD(E26-D26,1)-N(F26))*24>9,N(F26)*1440<45),"Pause unter 45 Min.",IF(AND((MOD(E26-D26,1)-N(F26))*24>6,N(F26)*1440<30),"Pause unter 30 Min.",""))),"")
A27: 46592 | B27: Sa | G27: =IF(OR(UPPER(C27)="U",UPPER(C27)="K"),H27,IF(AND(ISNUMBER(D27),ISNUMBER(E27)),ROUND((MOD(E27-D27,1)-N(F27))*24,2),0)) | H27: =INDEX(Einstellungen!$B$7:$B$13,6) | I27: =IF(OR(ISNUMBER(D27),C27<>""),G27-H27,0) | K27: =IF(AND(ISNUMBER(D27),ISNUMBER(E27)),IF((MOD(E27-D27,1)-N(F27))*24>10,"über 10 Std.",IF(AND((MOD(E27-D27,1)-N(F27))*24>9,N(F27)*1440<45),"Pause unter 45 Min.",IF(AND((MOD(E27-D27,1)-N(F27))*24>6,N(F27)*1440<30),"Pause unter 30 Min.",""))),"")
A28: 46593 | B28: So | G28: =IF(OR(UPPER(C28)="U",UPPER(C28)="K"),H28,IF(AND(ISNUMBER(D28),ISNUMBER(E28)),ROUND((MOD(E28-D28,1)-N(F28))*24,2),0)) | H28: =INDEX(Einstellungen!$B$7:$B$13,7) | I28: =IF(OR(ISNUMBER(D28),C28<>""),G28-H28,0) | K28: =IF(AND(ISNUMBER(D28),ISNUMBER(E28)),IF((MOD(E28-D28,1)-N(F28))*24>10,"über 10 Std.",IF(AND((MOD(E28-D28,1)-N(F28))*24>9,N(F28)*1440<45),"Pause unter 45 Min.",IF(AND((MOD(E28-D28,1)-N(F28))*24>6,N(F28)*1440<30),"Pause unter 30 Min.",""))),"")
A29: 46594 | B29: Mo | G29: =IF(OR(UPPER(C29)="U",UPPER(C29)="K"),H29,IF(AND(ISNUMBER(D29),ISNUMBER(E29)),ROUND((MOD(E29-D29,1)-N(F29))*24,2),0)) | H29: =INDEX(Einstellungen!$B$7:$B$13,1) | I29: =IF(OR(ISNUMBER(D29),C29<>""),G29-H29,0) | K29: =IF(AND(ISNUMBER(D29),ISNUMBER(E29)),IF((MOD(E29-D29,1)-N(F29))*24>10,"über 10 Std.",IF(AND((MOD(E29-D29,1)-N(F29))*24>9,N(F29)*1440<45),"Pause unter 45 Min.",IF(AND((MOD(E29-D29,1)-N(F29))*24>6,N(F29)*1440<30),"Pause unter 30 Min.",""))),"")
A30: 46595 | B30: Di | G30: =IF(OR(UPPER(C30)="U",UPPER(C30)="K"),H30,IF(AND(ISNUMBER(D30),ISNUMBER(E30)),ROUND((MOD(E30-D30,1)-N(F30))*24,2),0)) | H30: =INDEX(Einstellungen!$B$7:$B$13,2) | I30: =IF(OR(ISNUMBER(D30),C30<>""),G30-H30,0) | K30: =IF(AND(ISNUMBER(D30),ISNUMBER(E30)),IF((MOD(E30-D30,1)-N(F30))*24>10,"über 10 Std.",IF(AND((MOD(E30-D30,1)-N(F30))*24>9,N(F30)*1440<45),"Pause unter 45 Min.",IF(AND((MOD(E30-D30,1)-N(F30))*24>6,N(F30)*1440<30),"Pause unter 30 Min.",""))),"")
A31: 46596 | B31: Mi | G31: =IF(OR(UPPER(C31)="U",UPPER(C31)="K"),H31,IF(AND(ISNUMBER(D31),ISNUMBER(E31)),ROUND((MOD(E31-D31,1)-N(F31))*24,2),0)) | H31: =INDEX(Einstellungen!$B$7:$B$13,3) | I31: =IF(OR(ISNUMBER(D31),C31<>""),G31-H31,0) | K31: =IF(AND(ISNUMBER(D31),ISNUMBER(E31)),IF((MOD(E31-D31,1)-N(F31))*24>10,"über 10 Std.",IF(AND((MOD(E31-D31,1)-N(F31))*24>9,N(F31)*1440<45),"Pause unter 45 Min.",IF(AND((MOD(E31-D31,1)-N(F31))*24>6,N(F31)*1440<30),"Pause unter 30 Min.",""))),"")
A32: 46597 | B32: Do | G32: =IF(OR(UPPER(C32)="U",UPPER(C32)="K"),H32,IF(AND(ISNUMBER(D32),ISNUMBER(E32)),ROUND((MOD(E32-D32,1)-N(F32))*24,2),0)) | H32: =INDEX(Einstellungen!$B$7:$B$13,4) | I32: =IF(OR(ISNUMBER(D32),C32<>""),G32-H32,0) | K32: =IF(AND(ISNUMBER(D32),ISNUMBER(E32)),IF((MOD(E32-D32,1)-N(F32))*24>10,"über 10 Std.",IF(AND((MOD(E32-D32,1)-N(F32))*24>9,N(F32)*1440<45),"Pause unter 45 Min.",IF(AND((MOD(E32-D32,1)-N(F32))*24>6,N(F32)*1440<30),"Pause unter 30 Min.",""))),"")
A33: 46598 | B33: Fr | G33: =IF(OR(UPPER(C33)="U",UPPER(C33)="K"),H33,IF(AND(ISNUMBER(D33),ISNUMBER(E33)),ROUND((MOD(E33-D33,1)-N(F33))*24,2),0)) | H33: =INDEX(Einstellungen!$B$7:$B$13,5) | I33: =IF(OR(ISNUMBER(D33),C33<>""),G33-H33,0) | K33: =IF(AND(ISNUMBER(D33),ISNUMBER(E33)),IF((MOD(E33-D33,1)-N(F33))*24>10,"über 10 Std.",IF(AND((MOD(E33-D33,1)-N(F33))*24>9,N(F33)*1440<45),"Pause unter 45 Min.",IF(AND((MOD(E33-D33,1)-N(F33))*24>6,N(F33)*1440<30),"Pause unter 30 Min.",""))),"")
A34: 46599 | B34: Sa | G34: =IF(OR(UPPER(C34)="U",UPPER(C34)="K"),H34,IF(AND(ISNUMBER(D34),ISNUMBER(E34)),ROUND((MOD(E34-D34,1)-N(F34))*24,2),0)) | H34: =INDEX(Einstellungen!$B$7:$B$13,6) | I34: =IF(OR(ISNUMBER(D34),C34<>""),G34-H34,0) | K34: =IF(AND(ISNUMBER(D34),ISNUMBER(E34)),IF((MOD(E34-D34,1)-N(F34))*24>10,"über 10 Std.",IF(AND((MOD(E34-D34,1)-N(F34))*24>9,N(F34)*1440<45),"Pause unter 45 Min.",IF(AND((MOD(E34-D34,1)-N(F34))*24>6,N(F34)*1440<30),"Pause unter 30 Min.",""))),"")
A36: Ist-Stunden | D36: =SUM(G4:G34)
A37: Soll (ganzer Monat) | D37: =SUM(H4:H34)
A38: Differenz (erfasste Tage) | D38: =SUM(I4:I34)
A39: Urlaubstage | D39: =COUNTIF(C4:C34,"U")
A40: Kranktage | D40: =COUNTIF(C4:C34,"K")

Sheet August
A1: August 2027 | D1: =Einstellungen!B4
A3: Datum | B3: Tag | C3: Art | D3: Beginn | E3: Ende | F3: Pause | G3: Ist (Std.) | H3: Soll (Std.) | I3: Differenz | J3: Bemerkung | K3: Prüfung
A4: 46600 | B4: So | G4: =IF(OR(UPPER(C4)="U",UPPER(C4)="K"),H4,IF(AND(ISNUMBER(D4),ISNUMBER(E4)),ROUND((MOD(E4-D4,1)-N(F4))*24,2),0)) | H4: =INDEX(Einstellungen!$B$7:$B$13,7) | I4: =IF(OR(ISNUMBER(D4),C4<>""),G4-H4,0) | K4: =IF(AND(ISNUMBER(D4),ISNUMBER(E4)),IF((MOD(E4-D4,1)-N(F4))*24>10,"über 10 Std.",IF(AND((MOD(E4-D4,1)-N(F4))*24>9,N(F4)*1440<45),"Pause unter 45 Min.",IF(AND((MOD(E4-D4,1)-N(F4))*24>6,N(F4)*1440<30),"Pause unter 30 Min.",""))),"")
A5: 46601 | B5: Mo | G5: =IF(OR(UPPER(C5)="U",UPPER(C5)="K"),H5,IF(AND(ISNUMBER(D5),ISNUMBER(E5)),ROUND((MOD(E5-D5,1)-N(F5))*24,2),0)) | H5: =INDEX(Einstellungen!$B$7:$B$13,1) | I5: =IF(OR(ISNUMBER(D5),C5<>""),G5-H5,0) | K5: =IF(AND(ISNUMBER(D5),ISNUMBER(E5)),IF((MOD(E5-D5,1)-N(F5))*24>10,"über 10 Std.",IF(AND((MOD(E5-D5,1)-N(F5))*24>9,N(F5)*1440<45),"Pause unter 45 Min.",IF(AND((MOD(E5-D5,1)-N(F5))*24>6,N(F5)*1440<30),"Pause unter 30 Min.",""))),"")
A6: 46602 | B6: Di | G6: =IF(OR(UPPER(C6)="U",UPPER(C6)="K"),H6,IF(AND(ISNUMBER(D6),ISNUMBER(E6)),ROUND((MOD(E6-D6,1)-N(F6))*24,2),0)) | H6: =INDEX(Einstellungen!$B$7:$B$13,2) | I6: =IF(OR(ISNUMBER(D6),C6<>""),G6-H6,0) | K6: =IF(AND(ISNUMBER(D6),ISNUMBER(E6)),IF((MOD(E6-D6,1)-N(F6))*24>10,"über 10 Std.",IF(AND((MOD(E6-D6,1)-N(F6))*24>9,N(F6)*1440<45),"Pause unter 45 Min.",IF(AND((MOD(E6-D6,1)-N(F6))*24>6,N(F6)*1440<30),"Pause unter 30 Min.",""))),"")
A7: 46603 | B7: Mi | G7: =IF(OR(UPPER(C7)="U",UPPER(C7)="K"),H7,IF(AND(ISNUMBER(D7),ISNUMBER(E7)),ROUND((MOD(E7-D7,1)-N(F7))*24,2),0)) | H7: =INDEX(Einstellungen!$B$7:$B$13,3) | I7: =IF(OR(ISNUMBER(D7),C7<>""),G7-H7,0) | K7: =IF(AND(ISNUMBER(D7),ISNUMBER(E7)),IF((MOD(E7-D7,1)-N(F7))*24>10,"über 10 Std.",IF(AND((MOD(E7-D7,1)-N(F7))*24>9,N(F7)*1440<45),"Pause unter 45 Min.",IF(AND((MOD(E7-D7,1)-N(F7))*24>6,N(F7)*1440<30),"Pause unter 30 Min.",""))),"")
A8: 46604 | B8: Do | G8: =IF(OR(UPPER(C8)="U",UPPER(C8)="K"),H8,IF(AND(ISNUMBER(D8),ISNUMBER(E8)),ROUND((MOD(E8-D8,1)-N(F8))*24,2),0)) | H8: =INDEX(Einstellungen!$B$7:$B$13,4) | I8: =IF(OR(ISNUMBER(D8),C8<>""),G8-H8,0) | K8: =IF(AND(ISNUMBER(D8),ISNUMBER(E8)),IF((MOD(E8-D8,1)-N(F8))*24>10,"über 10 Std.",IF(AND((MOD(E8-D8,1)-N(F8))*24>9,N(F8)*1440<45),"Pause unter 45 Min.",IF(AND((MOD(E8-D8,1)-N(F8))*24>6,N(F8)*1440<30),"Pause unter 30 Min.",""))),"")
A9: 46605 | B9: Fr | G9: =IF(OR(UPPER(C9)="U",UPPER(C9)="K"),H9,IF(AND(ISNUMBER(D9),ISNUMBER(E9)),ROUND((MOD(E9-D9,1)-N(F9))*24,2),0)) | H9: =INDEX(Einstellungen!$B$7:$B$13,5) | I9: =IF(OR(ISNUMBER(D9),C9<>""),G9-H9,0) | K9: =IF(AND(ISNUMBER(D9),ISNUMBER(E9)),IF((MOD(E9-D9,1)-N(F9))*24>10,"über 10 Std.",IF(AND((MOD(E9-D9,1)-N(F9))*24>9,N(F9)*1440<45),"Pause unter 45 Min.",IF(AND((MOD(E9-D9,1)-N(F9))*24>6,N(F9)*1440<30),"Pause unter 30 Min.",""))),"")
A10: 46606 | B10: Sa | G10: =IF(OR(UPPER(C10)="U",UPPER(C10)="K"),H10,IF(AND(ISNUMBER(D10),ISNUMBER(E10)),ROUND((MOD(E10-D10,1)-N(F10))*24,2),0)) | H10: =INDEX(Einstellungen!$B$7:$B$13,6) | I10: =IF(OR(ISNUMBER(D10),C10<>""),G10-H10,0) | K10: =IF(AND(ISNUMBER(D10),ISNUMBER(E10)),IF((MOD(E10-D10,1)-N(F10))*24>10,"über 10 Std.",IF(AND((MOD(E10-D10,1)-N(F10))*24>9,N(F10)*1440<45),"Pause unter 45 Min.",IF(AND((MOD(E10-D10,1)-N(F10))*24>6,N(F10)*1440<30),"Pause unter 30 Min.",""))),"")
A11: 46607 | B11: So | G11: =IF(OR(UPPER(C11)="U",UPPER(C11)="K"),H11,IF(AND(ISNUMBER(D11),ISNUMBER(E11)),ROUND((MOD(E11-D11,1)-N(F11))*24,2),0)) | H11: =INDEX(Einstellungen!$B$7:$B$13,7) | I11: =IF(OR(ISNUMBER(D11),C11<>""),G11-H11,0) | K11: =IF(AND(ISNUMBER(D11),ISNUMBER(E11)),IF((MOD(E11-D11,1)-N(F11))*24>10,"über 10 Std.",IF(AND((MOD(E11-D11,1)-N(F11))*24>9,N(F11)*1440<45),"Pause unter 45 Min.",IF(AND((MOD(E11-D11,1)-N(F11))*24>6,N(F11)*1440<30),"Pause unter 30 Min.",""))),"")
A12: 46608 | B12: Mo | G12: =IF(OR(UPPER(C12)="U",UPPER(C12)="K"),H12,IF(AND(ISNUMBER(D12),ISNUMBER(E12)),ROUND((MOD(E12-D12,1)-N(F12))*24,2),0)) | H12: =INDEX(Einstellungen!$B$7:$B$13,1) | I12: =IF(OR(ISNUMBER(D12),C12<>""),G12-H12,0) | K12: =IF(AND(ISNUMBER(D12),ISNUMBER(E12)),IF((MOD(E12-D12,1)-N(F12))*24>10,"über 10 Std.",IF(AND((MOD(E12-D12,1)-N(F12))*24>9,N(F12)*1440<45),"Pause unter 45 Min.",IF(AND((MOD(E12-D12,1)-N(F12))*24>6,N(F12)*1440<30),"Pause unter 30 Min.",""))),"")
A13: 46609 | B13: Di | G13: =IF(OR(UPPER(C13)="U",UPPER(C13)="K"),H13,IF(AND(ISNUMBER(D13),ISNUMBER(E13)),ROUND((MOD(E13-D13,1)-N(F13))*24,2),0)) | H13: =INDEX(Einstellungen!$B$7:$B$13,2) | I13: =IF(OR(ISNUMBER(D13),C13<>""),G13-H13,0) | K13: =IF(AND(ISNUMBER(D13),ISNUMBER(E13)),IF((MOD(E13-D13,1)-N(F13))*24>10,"über 10 Std.",IF(AND((MOD(E13-D13,1)-N(F13))*24>9,N(F13)*1440<45),"Pause unter 45 Min.",IF(AND((MOD(E13-D13,1)-N(F13))*24>6,N(F13)*1440<30),"Pause unter 30 Min.",""))),"")
A14: 46610 | B14: Mi | G14: =IF(OR(UPPER(C14)="U",UPPER(C14)="K"),H14,IF(AND(ISNUMBER(D14),ISNUMBER(E14)),ROUND((MOD(E14-D14,1)-N(F14))*24,2),0)) | H14: =INDEX(Einstellungen!$B$7:$B$13,3) | I14: =IF(OR(ISNUMBER(D14),C14<>""),G14-H14,0) | K14: =IF(AND(ISNUMBER(D14),ISNUMBER(E14)),IF((MOD(E14-D14,1)-N(F14))*24>10,"über 10 Std.",IF(AND((MOD(E14-D14,1)-N(F14))*24>9,N(F14)*1440<45),"Pause unter 45 Min.",IF(AND((MOD(E14-D14,1)-N(F14))*24>6,N(F14)*1440<30),"Pause unter 30 Min.",""))),"")
A15: 46611 | B15: Do | G15: =IF(OR(UPPER(C15)="U",UPPER(C15)="K"),H15,IF(AND(ISNUMBER(D15),ISNUMBER(E15)),ROUND((MOD(E15-D15,1)-N(F15))*24,2),0)) | H15: =INDEX(Einstellungen!$B$7:$B$13,4) | I15: =IF(OR(ISNUMBER(D15),C15<>""),G15-H15,0) | K15: =IF(AND(ISNUMBER(D15),ISNUMBER(E15)),IF((MOD(E15-D15,1)-N(F15))*24>10,"über 10 Std.",IF(AND((MOD(E15-D15,1)-N(F15))*24>9,N(F15)*1440<45),"Pause unter 45 Min.",IF(AND((MOD(E15-D15,1)-N(F15))*24>6,N(F15)*1440<30),"Pause unter 30 Min.",""))),"")
A16: 46612 | B16: Fr | G16: =IF(OR(UPPER(C16)="U",UPPER(C16)="K"),H16,IF(AND(ISNUMBER(D16),ISNUMBER(E16)),ROUND((MOD(E16-D16,1)-N(F16))*24,2),0)) | H16: =INDEX(Einstellungen!$B$7:$B$13,5) | I16: =IF(OR(ISNUMBER(D16),C16<>""),G16-H16,0) | K16: =IF(AND(ISNUMBER(D16),ISNUMBER(E16)),IF((MOD(E16-D16,1)-N(F16))*24>10,"über 10 Std.",IF(AND((MOD(E16-D16,1)-N(F16))*24>9,N(F16)*1440<45),"Pause unter 45 Min.",IF(AND((MOD(E16-D16,1)-N(F16))*24>6,N(F16)*1440<30),"Pause unter 30 Min.",""))),"")
A17: 46613 | B17: Sa | G17: =IF(OR(UPPER(C17)="U",UPPER(C17)="K"),H17,IF(AND(ISNUMBER(D17),ISNUMBER(E17)),ROUND((MOD(E17-D17,1)-N(F17))*24,2),0)) | H17: =INDEX(Einstellungen!$B$7:$B$13,6) | I17: =IF(OR(ISNUMBER(D17),C17<>""),G17-H17,0) | K17: =IF(AND(ISNUMBER(D17),ISNUMBER(E17)),IF((MOD(E17-D17,1)-N(F17))*24>10,"über 10 Std.",IF(AND((MOD(E17-D17,1)-N(F17))*24>9,N(F17)*1440<45),"Pause unter 45 Min.",IF(AND((MOD(E17-D17,1)-N(F17))*24>6,N(F17)*1440<30),"Pause unter 30 Min.",""))),"")
A18: 46614 | B18: So | G18: =IF(OR(UPPER(C18)="U",UPPER(C18)="K"),H18,IF(AND(ISNUMBER(D18),ISNUMBER(E18)),ROUND((MOD(E18-D18,1)-N(F18))*24,2),0)) | H18: =INDEX(Einstellungen!$B$7:$B$13,7) | I18: =IF(OR(ISNUMBER(D18),C18<>""),G18-H18,0) | K18: =IF(AND(ISNUMBER(D18),ISNUMBER(E18)),IF((MOD(E18-D18,1)-N(F18))*24>10,"über 10 Std.",IF(AND((MOD(E18-D18,1)-N(F18))*24>9,N(F18)*1440<45),"Pause unter 45 Min.",IF(AND((MOD(E18-D18,1)-N(F18))*24>6,N(F18)*1440<30),"Pause unter 30 Min.",""))),"")
A19: 46615 | B19: Mo | G19: =IF(OR(UPPER(C19)="U",UPPER(C19)="K"),H19,IF(AND(ISNUMBER(D19),ISNUMBER(E19)),ROUND((MOD(E19-D19,1)-N(F19))*24,2),0)) | H19: =INDEX(Einstellungen!$B$7:$B$13,1) | I19: =IF(OR(ISNUMBER(D19),C19<>""),G19-H19,0) | K19: =IF(AND(ISNUMBER(D19),ISNUMBER(E19)),IF((MOD(E19-D19,1)-N(F19))*24>10,"über 10 Std.",IF(AND((MOD(E19-D19,1)-N(F19))*24>9,N(F19)*1440<45),"Pause unter 45 Min.",IF(AND((MOD(E19-D19,1)-N(F19))*24>6,N(F19)*1440<30),"Pause unter 30 Min.",""))),"")
A20: 46616 | B20: Di | G20: =IF(OR(UPPER(C20)="U",UPPER(C20)="K"),H20,IF(AND(ISNUMBER(D20),ISNUMBER(E20)),ROUND((MOD(E20-D20,1)-N(F20))*24,2),0)) | H20: =INDEX(Einstellungen!$B$7:$B$13,2) | I20: =IF(OR(ISNUMBER(D20),C20<>""),G20-H20,0) | K20: =IF(AND(ISNUMBER(D20),ISNUMBER(E20)),IF((MOD(E20-D20,1)-N(F20))*24>10,"über 10 Std.",IF(AND((MOD(E20-D20,1)-N(F20))*24>9,N(F20)*1440<45),"Pause unter 45 Min.",IF(AND((MOD(E20-D20,1)-N(F20))*24>6,N(F20)*1440<30),"Pause unter 30 Min.",""))),"")
A21: 46617 | B21: Mi | G21: =IF(OR(UPPER(C21)="U",UPPER(C21)="K"),H21,IF(AND(ISNUMBER(D21),ISNUMBER(E21)),ROUND((MOD(E21-D21,1)-N(F21))*24,2),0)) | H21: =INDEX(Einstellungen!$B$7:$B$13,3) | I21: =IF(OR(ISNUMBER(D21),C21<>""),G21-H21,0) | K21: =IF(AND(ISNUMBER(D21),ISNUMBER(E21)),IF((MOD(E21-D21,1)-N(F21))*24>10,"über 10 Std.",IF(AND((MOD(E21-D21,1)-N(F21))*24>9,N(F21)*1440<45),"Pause unter 45 Min.",IF(AND((MOD(E21-D21,1)-N(F21))*24>6,N(F21)*1440<30),"Pause unter 30 Min.",""))),"")
A22: 46618 | B22: Do | G22: =IF(OR(UPPER(C22)="U",UPPER(C22)="K"),H22,IF(AND(ISNUMBER(D22),ISNUMBER(E22)),ROUND((MOD(E22-D22,1)-N(F22))*24,2),0)) | H22: =INDEX(Einstellungen!$B$7:$B$13,4) | I22: =IF(OR(ISNUMBER(D22),C22<>""),G22-H22,0) | K22: =IF(AND(ISNUMBER(D22),ISNUMBER(E22)),IF((MOD(E22-D22,1)-N(F22))*24>10,"über 10 Std.",IF(AND((MOD(E22-D22,1)-N(F22))*24>9,N(F22)*1440<45),"Pause unter 45 Min.",IF(AND((MOD(E22-D22,1)-N(F22))*24>6,N(F22)*1440<30),"Pause unter 30 Min.",""))),"")
A23: 46619 | B23: Fr | G23: =IF(OR(UPPER(C23)="U",UPPER(C23)="K"),H23,IF(AND(ISNUMBER(D23),ISNUMBER(E23)),ROUND((MOD(E23-D23,1)-N(F23))*24,2),0)) | H23: =INDEX(Einstellungen!$B$7:$B$13,5) | I23: =IF(OR(ISNUMBER(D23),C23<>""),G23-H23,0) | K23: =IF(AND(ISNUMBER(D23),ISNUMBER(E23)),IF((MOD(E23-D23,1)-N(F23))*24>10,"über 10 Std.",IF(AND((MOD(E23-D23,1)-N(F23))*24>9,N(F23)*1440<45),"Pause unter 45 Min.",IF(AND((MOD(E23-D23,1)-N(F23))*24>6,N(F23)*1440<30),"Pause unter 30 Min.",""))),"")
A24: 46620 | B24: Sa | G24: =IF(OR(UPPER(C24)="U",UPPER(C24)="K"),H24,IF(AND(ISNUMBER(D24),ISNUMBER(E24)),ROUND((MOD(E24-D24,1)-N(F24))*24,2),0)) | H24: =INDEX(Einstellungen!$B$7:$B$13,6) | I24: =IF(OR(ISNUMBER(D24),C24<>""),G24-H24,0) | K24: =IF(AND(ISNUMBER(D24),ISNUMBER(E24)),IF((MOD(E24-D24,1)-N(F24))*24>10,"über 10 Std.",IF(AND((MOD(E24-D24,1)-N(F24))*24>9,N(F24)*1440<45),"Pause unter 45 Min.",IF(AND((MOD(E24-D24,1)-N(F24))*24>6,N(F24)*1440<30),"Pause unter 30 Min.",""))),"")
A25: 46621 | B25: So | G25: =IF(OR(UPPER(C25)="U",UPPER(C25)="K"),H25,IF(AND(ISNUMBER(D25),ISNUMBER(E25)),ROUND((MOD(E25-D25,1)-N(F25))*24,2),0)) | H25: =INDEX(Einstellungen!$B$7:$B$13,7) | I25: =IF(OR(ISNUMBER(D25),C25<>""),G25-H25,0) | K25: =IF(AND(ISNUMBER(D25),ISNUMBER(E25)),IF((MOD(E25-D25,1)-N(F25))*24>10,"über 10 Std.",IF(AND((MOD(E25-D25,1)-N(F25))*24>9,N(F25)*1440<45),"Pause unter 45 Min.",IF(AND((MOD(E25-D25,1)-N(F25))*24>6,N(F25)*1440<30),"Pause unter 30 Min.",""))),"")
A26: 46622 | B26: Mo | G26: =IF(OR(UPPER(C26)="U",UPPER(C26)="K"),H26,IF(AND(ISNUMBER(D26),ISNUMBER(E26)),ROUND((MOD(E26-D26,1)-N(F26))*24,2),0)) | H26: =INDEX(Einstellungen!$B$7:$B$13,1) | I26: =IF(OR(ISNUMBER(D26),C26<>""),G26-H26,0) | K26: =IF(AND(ISNUMBER(D26),ISNUMBER(E26)),IF((MOD(E26-D26,1)-N(F26))*24>10,"über 10 Std.",IF(AND((MOD(E26-D26,1)-N(F26))*24>9,N(F26)*1440<45),"Pause unter 45 Min.",IF(AND((MOD(E26-D26,1)-N(F26))*24>6,N(F26)*1440<30),"Pause unter 30 Min.",""))),"")
A27: 46623 | B27: Di | G27: =IF(OR(UPPER(C27)="U",UPPER(C27)="K"),H27,IF(AND(ISNUMBER(D27),ISNUMBER(E27)),ROUND((MOD(E27-D27,1)-N(F27))*24,2),0)) | H27: =INDEX(Einstellungen!$B$7:$B$13,2) | I27: =IF(OR(ISNUMBER(D27),C27<>""),G27-H27,0) | K27: =IF(AND(ISNUMBER(D27),ISNUMBER(E27)),IF((MOD(E27-D27,1)-N(F27))*24>10,"über 10 Std.",IF(AND((MOD(E27-D27,1)-N(F27))*24>9,N(F27)*1440<45),"Pause unter 45 Min.",IF(AND((MOD(E27-D27,1)-N(F27))*24>6,N(F27)*1440<30),"Pause unter 30 Min.",""))),"")
A28: 46624 | B28: Mi | G28: =IF(OR(UPPER(C28)="U",UPPER(C28)="K"),H28,IF(AND(ISNUMBER(D28),ISNUMBER(E28)),ROUND((MOD(E28-D28,1)-N(F28))*24,2),0)) | H28: =INDEX(Einstellungen!$B$7:$B$13,3) | I28: =IF(OR(ISNUMBER(D28),C28<>""),G28-H28,0) | K28: =IF(AND(ISNUMBER(D28),ISNUMBER(E28)),IF((MOD(E28-D28,1)-N(F28))*24>10,"über 10 Std.",IF(AND((MOD(E28-D28,1)-N(F28))*24>9,N(F28)*1440<45),"Pause unter 45 Min.",IF(AND((MOD(E28-D28,1)-N(F28))*24>6,N(F28)*1440<30),"Pause unter 30 Min.",""))),"")
A29: 46625 | B29: Do | G29: =IF(OR(UPPER(C29)="U",UPPER(C29)="K"),H29,IF(AND(ISNUMBER(D29),ISNUMBER(E29)),ROUND((MOD(E29-D29,1)-N(F29))*24,2),0)) | H29: =INDEX(Einstellungen!$B$7:$B$13,4) | I29: =IF(OR(ISNUMBER(D29),C29<>""),G29-H29,0) | K29: =IF(AND(ISNUMBER(D29),ISNUMBER(E29)),IF((MOD(E29-D29,1)-N(F29))*24>10,"über 10 Std.",IF(AND((MOD(E29-D29,1)-N(F29))*24>9,N(F29)*1440<45),"Pause unter 45 Min.",IF(AND((MOD(E29-D29,1)-N(F29))*24>6,N(F29)*1440<30),"Pause unter 30 Min.",""))),"")
A30: 46626 | B30: Fr | G30: =IF(OR(UPPER(C30)="U",UPPER(C30)="K"),H30,IF(AND(ISNUMBER(D30),ISNUMBER(E30)),ROUND((MOD(E30-D30,1)-N(F30))*24,2),0)) | H30: =INDEX(Einstellungen!$B$7:$B$13,5) | I30: =IF(OR(ISNUMBER(D30),C30<>""),G30-H30,0) | K30: =IF(AND(ISNUMBER(D30),ISNUMBER(E30)),IF((MOD(E30-D30,1)-N(F30))*24>10,"über 10 Std.",IF(AND((MOD(E30-D30,1)-N(F30))*24>9,N(F30)*1440<45),"Pause unter 45 Min.",IF(AND((MOD(E30-D30,1)-N(F30))*24>6,N(F30)*1440<30),"Pause unter 30 Min.",""))),"")
A31: 46627 | B31: Sa | G31: =IF(OR(UPPER(C31)="U",UPPER(C31)="K"),H31,IF(AND(ISNUMBER(D31),ISNUMBER(E31)),ROUND((MOD(E31-D31,1)-N(F31))*24,2),0)) | H31: =INDEX(Einstellungen!$B$7:$B$13,6) | I31: =IF(OR(ISNUMBER(D31),C31<>""),G31-H31,0) | K31: =IF(AND(ISNUMBER(D31),ISNUMBER(E31)),IF((MOD(E31-D31,1)-N(F31))*24>10,"über 10 Std.",IF(AND((MOD(E31-D31,1)-N(F31))*24>9,N(F31)*1440<45),"Pause unter 45 Min.",IF(AND((MOD(E31-D31,1)-N(F31))*24>6,N(F31)*1440<30),"Pause unter 30 Min.",""))),"")
A32: 46628 | B32: So | G32: =IF(OR(UPPER(C32)="U",UPPER(C32)="K"),H32,IF(AND(ISNUMBER(D32),ISNUMBER(E32)),ROUND((MOD(E32-D32,1)-N(F32))*24,2),0)) | H32: =INDEX(Einstellungen!$B$7:$B$13,7) | I32: =IF(OR(ISNUMBER(D32),C32<>""),G32-H32,0) | K32: =IF(AND(ISNUMBER(D32),ISNUMBER(E32)),IF((MOD(E32-D32,1)-N(F32))*24>10,"über 10 Std.",IF(AND((MOD(E32-D32,1)-N(F32))*24>9,N(F32)*1440<45),"Pause unter 45 Min.",IF(AND((MOD(E32-D32,1)-N(F32))*24>6,N(F32)*1440<30),"Pause unter 30 Min.",""))),"")
A33: 46629 | B33: Mo | G33: =IF(OR(UPPER(C33)="U",UPPER(C33)="K"),H33,IF(AND(ISNUMBER(D33),ISNUMBER(E33)),ROUND((MOD(E33-D33,1)-N(F33))*24,2),0)) | H33: =INDEX(Einstellungen!$B$7:$B$13,1) | I33: =IF(OR(ISNUMBER(D33),C33<>""),G33-H33,0) | K33: =IF(AND(ISNUMBER(D33),ISNUMBER(E33)),IF((MOD(E33-D33,1)-N(F33))*24>10,"über 10 Std.",IF(AND((MOD(E33-D33,1)-N(F33))*24>9,N(F33)*1440<45),"Pause unter 45 Min.",IF(AND((MOD(E33-D33,1)-N(F33))*24>6,N(F33)*1440<30),"Pause unter 30 Min.",""))),"")
A34: 46630 | B34: Di | G34: =IF(OR(UPPER(C34)="U",UPPER(C34)="K"),H34,IF(AND(ISNUMBER(D34),ISNUMBER(E34)),ROUND((MOD(E34-D34,1)-N(F34))*24,2),0)) | H34: =INDEX(Einstellungen!$B$7:$B$13,2) | I34: =IF(OR(ISNUMBER(D34),C34<>""),G34-H34,0) | K34: =IF(AND(ISNUMBER(D34),ISNUMBER(E34)),IF((MOD(E34-D34,1)-N(F34))*24>10,"über 10 Std.",IF(AND((MOD(E34-D34,1)-N(F34))*24>9,N(F34)*1440<45),"Pause unter 45 Min.",IF(AND((MOD(E34-D34,1)-N(F34))*24>6,N(F34)*1440<30),"Pause unter 30 Min.",""))),"")
A36: Ist-Stunden | D36: =SUM(G4:G34)
A37: Soll (ganzer Monat) | D37: =SUM(H4:H34)
A38: Differenz (erfasste Tage) | D38: =SUM(I4:I34)
A39: Urlaubstage | D39: =COUNTIF(C4:C34,"U")
A40: Kranktage | D40: =COUNTIF(C4:C34,"K")

Sheet September
A1: September 2027 | D1: =Einstellungen!B4
A3: Datum | B3: Tag | C3: Art | D3: Beginn | E3: Ende | F3: Pause | G3: Ist (Std.) | H3: Soll (Std.) | I3: Differenz | J3: Bemerkung | K3: Prüfung
A4: 46631 | B4: Mi | G4: =IF(OR(UPPER(C4)="U",UPPER(C4)="K"),H4,IF(AND(ISNUMBER(D4),ISNUMBER(E4)),ROUND((MOD(E4-D4,1)-N(F4))*24,2),0)) | H4: =INDEX(Einstellungen!$B$7:$B$13,3) | I4: =IF(OR(ISNUMBER(D4),C4<>""),G4-H4,0) | K4: =IF(AND(ISNUMBER(D4),ISNUMBER(E4)),IF((MOD(E4-D4,1)-N(F4))*24>10,"über 10 Std.",IF(AND((MOD(E4-D4,1)-N(F4))*24>9,N(F4)*1440<45),"Pause unter 45 Min.",IF(AND((MOD(E4-D4,1)-N(F4))*24>6,N(F4)*1440<30),"Pause unter 30 Min.",""))),"")
A5: 46632 | B5: Do | G5: =IF(OR(UPPER(C5)="U",UPPER(C5)="K"),H5,IF(AND(ISNUMBER(D5),ISNUMBER(E5)),ROUND((MOD(E5-D5,1)-N(F5))*24,2),0)) | H5: =INDEX(Einstellungen!$B$7:$B$13,4) | I5: =IF(OR(ISNUMBER(D5),C5<>""),G5-H5,0) | K5: =IF(AND(ISNUMBER(D5),ISNUMBER(E5)),IF((MOD(E5-D5,1)-N(F5))*24>10,"über 10 Std.",IF(AND((MOD(E5-D5,1)-N(F5))*24>9,N(F5)*1440<45),"Pause unter 45 Min.",IF(AND((MOD(E5-D5,1)-N(F5))*24>6,N(F5)*1440<30),"Pause unter 30 Min.",""))),"")
A6: 46633 | B6: Fr | G6: =IF(OR(UPPER(C6)="U",UPPER(C6)="K"),H6,IF(AND(ISNUMBER(D6),ISNUMBER(E6)),ROUND((MOD(E6-D6,1)-N(F6))*24,2),0)) | H6: =INDEX(Einstellungen!$B$7:$B$13,5) | I6: =IF(OR(ISNUMBER(D6),C6<>""),G6-H6,0) | K6: =IF(AND(ISNUMBER(D6),ISNUMBER(E6)),IF((MOD(E6-D6,1)-N(F6))*24>10,"über 10 Std.",IF(AND((MOD(E6-D6,1)-N(F6))*24>9,N(F6)*1440<45),"Pause unter 45 Min.",IF(AND((MOD(E6-D6,1)-N(F6))*24>6,N(F6)*1440<30),"Pause unter 30 Min.",""))),"")
A7: 46634 | B7: Sa | G7: =IF(OR(UPPER(C7)="U",UPPER(C7)="K"),H7,IF(AND(ISNUMBER(D7),ISNUMBER(E7)),ROUND((MOD(E7-D7,1)-N(F7))*24,2),0)) | H7: =INDEX(Einstellungen!$B$7:$B$13,6) | I7: =IF(OR(ISNUMBER(D7),C7<>""),G7-H7,0) | K7: =IF(AND(ISNUMBER(D7),ISNUMBER(E7)),IF((MOD(E7-D7,1)-N(F7))*24>10,"über 10 Std.",IF(AND((MOD(E7-D7,1)-N(F7))*24>9,N(F7)*1440<45),"Pause unter 45 Min.",IF(AND((MOD(E7-D7,1)-N(F7))*24>6,N(F7)*1440<30),"Pause unter 30 Min.",""))),"")
A8: 46635 | B8: So | G8: =IF(OR(UPPER(C8)="U",UPPER(C8)="K"),H8,IF(AND(ISNUMBER(D8),ISNUMBER(E8)),ROUND((MOD(E8-D8,1)-N(F8))*24,2),0)) | H8: =INDEX(Einstellungen!$B$7:$B$13,7) | I8: =IF(OR(ISNUMBER(D8),C8<>""),G8-H8,0) | K8: =IF(AND(ISNUMBER(D8),ISNUMBER(E8)),IF((MOD(E8-D8,1)-N(F8))*24>10,"über 10 Std.",IF(AND((MOD(E8-D8,1)-N(F8))*24>9,N(F8)*1440<45),"Pause unter 45 Min.",IF(AND((MOD(E8-D8,1)-N(F8))*24>6,N(F8)*1440<30),"Pause unter 30 Min.",""))),"")
A9: 46636 | B9: Mo | G9: =IF(OR(UPPER(C9)="U",UPPER(C9)="K"),H9,IF(AND(ISNUMBER(D9),ISNUMBER(E9)),ROUND((MOD(E9-D9,1)-N(F9))*24,2),0)) | H9: =INDEX(Einstellungen!$B$7:$B$13,1) | I9: =IF(OR(ISNUMBER(D9),C9<>""),G9-H9,0) | K9: =IF(AND(ISNUMBER(D9),ISNUMBER(E9)),IF((MOD(E9-D9,1)-N(F9))*24>10,"über 10 Std.",IF(AND((MOD(E9-D9,1)-N(F9))*24>9,N(F9)*1440<45),"Pause unter 45 Min.",IF(AND((MOD(E9-D9,1)-N(F9))*24>6,N(F9)*1440<30),"Pause unter 30 Min.",""))),"")
A10: 46637 | B10: Di | G10: =IF(OR(UPPER(C10)="U",UPPER(C10)="K"),H10,IF(AND(ISNUMBER(D10),ISNUMBER(E10)),ROUND((MOD(E10-D10,1)-N(F10))*24,2),0)) | H10: =INDEX(Einstellungen!$B$7:$B$13,2) | I10: =IF(OR(ISNUMBER(D10),C10<>""),G10-H10,0) | K10: =IF(AND(ISNUMBER(D10),ISNUMBER(E10)),IF((MOD(E10-D10,1)-N(F10))*24>10,"über 10 Std.",IF(AND((MOD(E10-D10,1)-N(F10))*24>9,N(F10)*1440<45),"Pause unter 45 Min.",IF(AND((MOD(E10-D10,1)-N(F10))*24>6,N(F10)*1440<30),"Pause unter 30 Min.",""))),"")
A11: 46638 | B11: Mi | G11: =IF(OR(UPPER(C11)="U",UPPER(C11)="K"),H11,IF(AND(ISNUMBER(D11),ISNUMBER(E11)),ROUND((MOD(E11-D11,1)-N(F11))*24,2),0)) | H11: =INDEX(Einstellungen!$B$7:$B$13,3) | I11: =IF(OR(ISNUMBER(D11),C11<>""),G11-H11,0) | K11: =IF(AND(ISNUMBER(D11),ISNUMBER(E11)),IF((MOD(E11-D11,1)-N(F11))*24>10,"über 10 Std.",IF(AND((MOD(E11-D11,1)-N(F11))*24>9,N(F11)*1440<45),"Pause unter 45 Min.",IF(AND((MOD(E11-D11,1)-N(F11))*24>6,N(F11)*1440<30),"Pause unter 30 Min.",""))),"")
A12: 46639 | B12: Do | G12: =IF(OR(UPPER(C12)="U",UPPER(C12)="K"),H12,IF(AND(ISNUMBER(D12),ISNUMBER(E12)),ROUND((MOD(E12-D12,1)-N(F12))*24,2),0)) | H12: =INDEX(Einstellungen!$B$7:$B$13,4) | I12: =IF(OR(ISNUMBER(D12),C12<>""),G12-H12,0) | K12: =IF(AND(ISNUMBER(D12),ISNUMBER(E12)),IF((MOD(E12-D12,1)-N(F12))*24>10,"über 10 Std.",IF(AND((MOD(E12-D12,1)-N(F12))*24>9,N(F12)*1440<45),"Pause unter 45 Min.",IF(AND((MOD(E12-D12,1)-N(F12))*24>6,N(F12)*1440<30),"Pause unter 30 Min.",""))),"")
A13: 46640 | B13: Fr | G13: =IF(OR(UPPER(C13)="U",UPPER(C13)="K"),H13,IF(AND(ISNUMBER(D13),ISNUMBER(E13)),ROUND((MOD(E13-D13,1)-N(F13))*24,2),0)) | H13: =INDEX(Einstellungen!$B$7:$B$13,5) | I13: =IF(OR(ISNUMBER(D13),C13<>""),G13-H13,0) | K13: =IF(AND(ISNUMBER(D13),ISNUMBER(E13)),IF((MOD(E13-D13,1)-N(F13))*24>10,"über 10 Std.",IF(AND((MOD(E13-D13,1)-N(F13))*24>9,N(F13)*1440<45),"Pause unter 45 Min.",IF(AND((MOD(E13-D13,1)-N(F13))*24>6,N(F13)*1440<30),"Pause unter 30 Min.",""))),"")
A14: 46641 | B14: Sa | G14: =IF(OR(UPPER(C14)="U",UPPER(C14)="K"),H14,IF(AND(ISNUMBER(D14),ISNUMBER(E14)),ROUND((MOD(E14-D14,1)-N(F14))*24,2),0)) | H14: =INDEX(Einstellungen!$B$7:$B$13,6) | I14: =IF(OR(ISNUMBER(D14),C14<>""),G14-H14,0) | K14: =IF(AND(ISNUMBER(D14),ISNUMBER(E14)),IF((MOD(E14-D14,1)-N(F14))*24>10,"über 10 Std.",IF(AND((MOD(E14-D14,1)-N(F14))*24>9,N(F14)*1440<45),"Pause unter 45 Min.",IF(AND((MOD(E14-D14,1)-N(F14))*24>6,N(F14)*1440<30),"Pause unter 30 Min.",""))),"")
A15: 46642 | B15: So | G15: =IF(OR(UPPER(C15)="U",UPPER(C15)="K"),H15,IF(AND(ISNUMBER(D15),ISNUMBER(E15)),ROUND((MOD(E15-D15,1)-N(F15))*24,2),0)) | H15: =INDEX(Einstellungen!$B$7:$B$13,7) | I15: =IF(OR(ISNUMBER(D15),C15<>""),G15-H15,0) | K15: =IF(AND(ISNUMBER(D15),ISNUMBER(E15)),IF((MOD(E15-D15,1)-N(F15))*24>10,"über 10 Std.",IF(AND((MOD(E15-D15,1)-N(F15))*24>9,N(F15)*1440<45),"Pause unter 45 Min.",IF(AND((MOD(E15-D15,1)-N(F15))*24>6,N(F15)*1440<30),"Pause unter 30 Min.",""))),"")
A16: 46643 | B16: Mo | G16: =IF(OR(UPPER(C16)="U",UPPER(C16)="K"),H16,IF(AND(ISNUMBER(D16),ISNUMBER(E16)),ROUND((MOD(E16-D16,1)-N(F16))*24,2),0)) | H16: =INDEX(Einstellungen!$B$7:$B$13,1) | I16: =IF(OR(ISNUMBER(D16),C16<>""),G16-H16,0) | K16: =IF(AND(ISNUMBER(D16),ISNUMBER(E16)),IF((MOD(E16-D16,1)-N(F16))*24>10,"über 10 Std.",IF(AND((MOD(E16-D16,1)-N(F16))*24>9,N(F16)*1440<45),"Pause unter 45 Min.",IF(AND((MOD(E16-D16,1)-N(F16))*24>6,N(F16)*1440<30),"Pause unter 30 Min.",""))),"")
A17: 46644 | B17: Di | G17: =IF(OR(UPPER(C17)="U",UPPER(C17)="K"),H17,IF(AND(ISNUMBER(D17),ISNUMBER(E17)),ROUND((MOD(E17-D17,1)-N(F17))*24,2),0)) | H17: =INDEX(Einstellungen!$B$7:$B$13,2) | I17: =IF(OR(ISNUMBER(D17),C17<>""),G17-H17,0) | K17: =IF(AND(ISNUMBER(D17),ISNUMBER(E17)),IF((MOD(E17-D17,1)-N(F17))*24>10,"über 10 Std.",IF(AND((MOD(E17-D17,1)-N(F17))*24>9,N(F17)*1440<45),"Pause unter 45 Min.",IF(AND((MOD(E17-D17,1)-N(F17))*24>6,N(F17)*1440<30),"Pause unter 30 Min.",""))),"")
A18: 46645 | B18: Mi | G18: =IF(OR(UPPER(C18)="U",UPPER(C18)="K"),H18,IF(AND(ISNUMBER(D18),ISNUMBER(E18)),ROUND((MOD(E18-D18,1)-N(F18))*24,2),0)) | H18: =INDEX(Einstellungen!$B$7:$B$13,3) | I18: =IF(OR(ISNUMBER(D18),C18<>""),G18-H18,0) | K18: =IF(AND(ISNUMBER(D18),ISNUMBER(E18)),IF((MOD(E18-D18,1)-N(F18))*24>10,"über 10 Std.",IF(AND((MOD(E18-D18,1)-N(F18))*24>9,N(F18)*1440<45),"Pause unter 45 Min.",IF(AND((MOD(E18-D18,1)-N(F18))*24>6,N(F18)*1440<30),"Pause unter 30 Min.",""))),"")
A19: 46646 | B19: Do | G19: =IF(OR(UPPER(C19)="U",UPPER(C19)="K"),H19,IF(AND(ISNUMBER(D19),ISNUMBER(E19)),ROUND((MOD(E19-D19,1)-N(F19))*24,2),0)) | H19: =INDEX(Einstellungen!$B$7:$B$13,4) | I19: =IF(OR(ISNUMBER(D19),C19<>""),G19-H19,0) | K19: =IF(AND(ISNUMBER(D19),ISNUMBER(E19)),IF((MOD(E19-D19,1)-N(F19))*24>10,"über 10 Std.",IF(AND((MOD(E19-D19,1)-N(F19))*24>9,N(F19)*1440<45),"Pause unter 45 Min.",IF(AND((MOD(E19-D19,1)-N(F19))*24>6,N(F19)*1440<30),"Pause unter 30 Min.",""))),"")
A20: 46647 | B20: Fr | G20: =IF(OR(UPPER(C20)="U",UPPER(C20)="K"),H20,IF(AND(ISNUMBER(D20),ISNUMBER(E20)),ROUND((MOD(E20-D20,1)-N(F20))*24,2),0)) | H20: =INDEX(Einstellungen!$B$7:$B$13,5) | I20: =IF(OR(ISNUMBER(D20),C20<>""),G20-H20,0) | K20: =IF(AND(ISNUMBER(D20),ISNUMBER(E20)),IF((MOD(E20-D20,1)-N(F20))*24>10,"über 10 Std.",IF(AND((MOD(E20-D20,1)-N(F20))*24>9,N(F20)*1440<45),"Pause unter 45 Min.",IF(AND((MOD(E20-D20,1)-N(F20))*24>6,N(F20)*1440<30),"Pause unter 30 Min.",""))),"")
A21: 46648 | B21: Sa | G21: =IF(OR(UPPER(C21)="U",UPPER(C21)="K"),H21,IF(AND(ISNUMBER(D21),ISNUMBER(E21)),ROUND((MOD(E21-D21,1)-N(F21))*24,2),0)) | H21: =INDEX(Einstellungen!$B$7:$B$13,6) | I21: =IF(OR(ISNUMBER(D21),C21<>""),G21-H21,0) | K21: =IF(AND(ISNUMBER(D21),ISNUMBER(E21)),IF((MOD(E21-D21,1)-N(F21))*24>10,"über 10 Std.",IF(AND((MOD(E21-D21,1)-N(F21))*24>9,N(F21)*1440<45),"Pause unter 45 Min.",IF(AND((MOD(E21-D21,1)-N(F21))*24>6,N(F21)*1440<30),"Pause unter 30 Min.",""))),"")
A22: 46649 | B22: So | G22: =IF(OR(UPPER(C22)="U",UPPER(C22)="K"),H22,IF(AND(ISNUMBER(D22),ISNUMBER(E22)),ROUND((MOD(E22-D22,1)-N(F22))*24,2),0)) | H22: =INDEX(Einstellungen!$B$7:$B$13,7) | I22: =IF(OR(ISNUMBER(D22),C22<>""),G22-H22,0) | K22: =IF(AND(ISNUMBER(D22),ISNUMBER(E22)),IF((MOD(E22-D22,1)-N(F22))*24>10,"über 10 Std.",IF(AND((MOD(E22-D22,1)-N(F22))*24>9,N(F22)*1440<45),"Pause unter 45 Min.",IF(AND((MOD(E22-D22,1)-N(F22))*24>6,N(F22)*1440<30),"Pause unter 30 Min.",""))),"")
A23: 46650 | B23: Mo | G23: =IF(OR(UPPER(C23)="U",UPPER(C23)="K"),H23,IF(AND(ISNUMBER(D23),ISNUMBER(E23)),ROUND((MOD(E23-D23,1)-N(F23))*24,2),0)) | H23: =INDEX(Einstellungen!$B$7:$B$13,1) | I23: =IF(OR(ISNUMBER(D23),C23<>""),G23-H23,0) | K23: =IF(AND(ISNUMBER(D23),ISNUMBER(E23)),IF((MOD(E23-D23,1)-N(F23))*24>10,"über 10 Std.",IF(AND((MOD(E23-D23,1)-N(F23))*24>9,N(F23)*1440<45),"Pause unter 45 Min.",IF(AND((MOD(E23-D23,1)-N(F23))*24>6,N(F23)*1440<30),"Pause unter 30 Min.",""))),"")
A24: 46651 | B24: Di | G24: =IF(OR(UPPER(C24)="U",UPPER(C24)="K"),H24,IF(AND(ISNUMBER(D24),ISNUMBER(E24)),ROUND((MOD(E24-D24,1)-N(F24))*24,2),0)) | H24: =INDEX(Einstellungen!$B$7:$B$13,2) | I24: =IF(OR(ISNUMBER(D24),C24<>""),G24-H24,0) | K24: =IF(AND(ISNUMBER(D24),ISNUMBER(E24)),IF((MOD(E24-D24,1)-N(F24))*24>10,"über 10 Std.",IF(AND((MOD(E24-D24,1)-N(F24))*24>9,N(F24)*1440<45),"Pause unter 45 Min.",IF(AND((MOD(E24-D24,1)-N(F24))*24>6,N(F24)*1440<30),"Pause unter 30 Min.",""))),"")
A25: 46652 | B25: Mi | G25: =IF(OR(UPPER(C25)="U",UPPER(C25)="K"),H25,IF(AND(ISNUMBER(D25),ISNUMBER(E25)),ROUND((MOD(E25-D25,1)-N(F25))*24,2),0)) | H25: =INDEX(Einstellungen!$B$7:$B$13,3) | I25: =IF(OR(ISNUMBER(D25),C25<>""),G25-H25,0) | K25: =IF(AND(ISNUMBER(D25),ISNUMBER(E25)),IF((MOD(E25-D25,1)-N(F25))*24>10,"über 10 Std.",IF(AND((MOD(E25-D25,1)-N(F25))*24>9,N(F25)*1440<45),"Pause unter 45 Min.",IF(AND((MOD(E25-D25,1)-N(F25))*24>6,N(F25)*1440<30),"Pause unter 30 Min.",""))),"")
A26: 46653 | B26: Do | G26: =IF(OR(UPPER(C26)="U",UPPER(C26)="K"),H26,IF(AND(ISNUMBER(D26),ISNUMBER(E26)),ROUND((MOD(E26-D26,1)-N(F26))*24,2),0)) | H26: =INDEX(Einstellungen!$B$7:$B$13,4) | I26: =IF(OR(ISNUMBER(D26),C26<>""),G26-H26,0) | K26: =IF(AND(ISNUMBER(D26),ISNUMBER(E26)),IF((MOD(E26-D26,1)-N(F26))*24>10,"über 10 Std.",IF(AND((MOD(E26-D26,1)-N(F26))*24>9,N(F26)*1440<45),"Pause unter 45 Min.",IF(AND((MOD(E26-D26,1)-N(F26))*24>6,N(F26)*1440<30),"Pause unter 30 Min.",""))),"")
A27: 46654 | B27: Fr | G27: =IF(OR(UPPER(C27)="U",UPPER(C27)="K"),H27,IF(AND(ISNUMBER(D27),ISNUMBER(E27)),ROUND((MOD(E27-D27,1)-N(F27))*24,2),0)) | H27: =INDEX(Einstellungen!$B$7:$B$13,5) | I27: =IF(OR(ISNUMBER(D27),C27<>""),G27-H27,0) | K27: =IF(AND(ISNUMBER(D27),ISNUMBER(E27)),IF((MOD(E27-D27,1)-N(F27))*24>10,"über 10 Std.",IF(AND((MOD(E27-D27,1)-N(F27))*24>9,N(F27)*1440<45),"Pause unter 45 Min.",IF(AND((MOD(E27-D27,1)-N(F27))*24>6,N(F27)*1440<30),"Pause unter 30 Min.",""))),"")
A28: 46655 | B28: Sa | G28: =IF(OR(UPPER(C28)="U",UPPER(C28)="K"),H28,IF(AND(ISNUMBER(D28),ISNUMBER(E28)),ROUND((MOD(E28-D28,1)-N(F28))*24,2),0)) | H28: =INDEX(Einstellungen!$B$7:$B$13,6) | I28: =IF(OR(ISNUMBER(D28),C28<>""),G28-H28,0) | K28: =IF(AND(ISNUMBER(D28),ISNUMBER(E28)),IF((MOD(E28-D28,1)-N(F28))*24>10,"über 10 Std.",IF(AND((MOD(E28-D28,1)-N(F28))*24>9,N(F28)*1440<45),"Pause unter 45 Min.",IF(AND((MOD(E28-D28,1)-N(F28))*24>6,N(F28)*1440<30),"Pause unter 30 Min.",""))),"")
A29: 46656 | B29: So | G29: =IF(OR(UPPER(C29)="U",UPPER(C29)="K"),H29,IF(AND(ISNUMBER(D29),ISNUMBER(E29)),ROUND((MOD(E29-D29,1)-N(F29))*24,2),0)) | H29: =INDEX(Einstellungen!$B$7:$B$13,7) | I29: =IF(OR(ISNUMBER(D29),C29<>""),G29-H29,0) | K29: =IF(AND(ISNUMBER(D29),ISNUMBER(E29)),IF((MOD(E29-D29,1)-N(F29))*24>10,"über 10 Std.",IF(AND((MOD(E29-D29,1)-N(F29))*24>9,N(F29)*1440<45),"Pause unter 45 Min.",IF(AND((MOD(E29-D29,1)-N(F29))*24>6,N(F29)*1440<30),"Pause unter 30 Min.",""))),"")
A30: 46657 | B30: Mo | G30: =IF(OR(UPPER(C30)="U",UPPER(C30)="K"),H30,IF(AND(ISNUMBER(D30),ISNUMBER(E30)),ROUND((MOD(E30-D30,1)-N(F30))*24,2),0)) | H30: =INDEX(Einstellungen!$B$7:$B$13,1) | I30: =IF(OR(ISNUMBER(D30),C30<>""),G30-H30,0) | K30: =IF(AND(ISNUMBER(D30),ISNUMBER(E30)),IF((MOD(E30-D30,1)-N(F30))*24>10,"über 10 Std.",IF(AND((MOD(E30-D30,1)-N(F30))*24>9,N(F30)*1440<45),"Pause unter 45 Min.",IF(AND((MOD(E30-D30,1)-N(F30))*24>6,N(F30)*1440<30),"Pause unter 30 Min.",""))),"")
A31: 46658 | B31: Di | G31: =IF(OR(UPPER(C31)="U",UPPER(C31)="K"),H31,IF(AND(ISNUMBER(D31),ISNUMBER(E31)),ROUND((MOD(E31-D31,1)-N(F31))*24,2),0)) | H31: =INDEX(Einstellungen!$B$7:$B$13,2) | I31: =IF(OR(ISNUMBER(D31),C31<>""),G31-H31,0) | K31: =IF(AND(ISNUMBER(D31),ISNUMBER(E31)),IF((MOD(E31-D31,1)-N(F31))*24>10,"über 10 Std.",IF(AND((MOD(E31-D31,1)-N(F31))*24>9,N(F31)*1440<45),"Pause unter 45 Min.",IF(AND((MOD(E31-D31,1)-N(F31))*24>6,N(F31)*1440<30),"Pause unter 30 Min.",""))),"")
A32: 46659 | B32: Mi | G32: =IF(OR(UPPER(C32)="U",UPPER(C32)="K"),H32,IF(AND(ISNUMBER(D32),ISNUMBER(E32)),ROUND((MOD(E32-D32,1)-N(F32))*24,2),0)) | H32: =INDEX(Einstellungen!$B$7:$B$13,3) | I32: =IF(OR(ISNUMBER(D32),C32<>""),G32-H32,0) | K32: =IF(AND(ISNUMBER(D32),ISNUMBER(E32)),IF((MOD(E32-D32,1)-N(F32))*24>10,"über 10 Std.",IF(AND((MOD(E32-D32,1)-N(F32))*24>9,N(F32)*1440<45),"Pause unter 45 Min.",IF(AND((MOD(E32-D32,1)-N(F32))*24>6,N(F32)*1440<30),"Pause unter 30 Min.",""))),"")
A33: 46660 | B33: Do | G33: =IF(OR(UPPER(C33)="U",UPPER(C33)="K"),H33,IF(AND(ISNUMBER(D33),ISNUMBER(E33)),ROUND((MOD(E33-D33,1)-N(F33))*24,2),0)) | H33: =INDEX(Einstellungen!$B$7:$B$13,4) | I33: =IF(OR(ISNUMBER(D33),C33<>""),G33-H33,0) | K33: =IF(AND(ISNUMBER(D33),ISNUMBER(E33)),IF((MOD(E33-D33,1)-N(F33))*24>10,"über 10 Std.",IF(AND((MOD(E33-D33,1)-N(F33))*24>9,N(F33)*1440<45),"Pause unter 45 Min.",IF(AND((MOD(E33-D33,1)-N(F33))*24>6,N(F33)*1440<30),"Pause unter 30 Min.",""))),"")
A35: Ist-Stunden | D35: =SUM(G4:G33)
A36: Soll (ganzer Monat) | D36: =SUM(H4:H33)
A37: Differenz (erfasste Tage) | D37: =SUM(I4:I33)
A38: Urlaubstage | D38: =COUNTIF(C4:C33,"U")
A39: Kranktage | D39: =COUNTIF(C4:C33,"K")

Sheet Oktober
A1: Oktober 2027 | D1: =Einstellungen!B4
A3: Datum | B3: Tag | C3: Art | D3: Beginn | E3: Ende | F3: Pause | G3: Ist (Std.) | H3: Soll (Std.) | I3: Differenz | J3: Bemerkung | K3: Prüfung
A4: 46661 | B4: Fr | G4: =IF(OR(UPPER(C4)="U",UPPER(C4)="K"),H4,IF(AND(ISNUMBER(D4),ISNUMBER(E4)),ROUND((MOD(E4-D4,1)-N(F4))*24,2),0)) | H4: =INDEX(Einstellungen!$B$7:$B$13,5) | I4: =IF(OR(ISNUMBER(D4),C4<>""),G4-H4,0) | K4: =IF(AND(ISNUMBER(D4),ISNUMBER(E4)),IF((MOD(E4-D4,1)-N(F4))*24>10,"über 10 Std.",IF(AND((MOD(E4-D4,1)-N(F4))*24>9,N(F4)*1440<45),"Pause unter 45 Min.",IF(AND((MOD(E4-D4,1)-N(F4))*24>6,N(F4)*1440<30),"Pause unter 30 Min.",""))),"")
A5: 46662 | B5: Sa | G5: =IF(OR(UPPER(C5)="U",UPPER(C5)="K"),H5,IF(AND(ISNUMBER(D5),ISNUMBER(E5)),ROUND((MOD(E5-D5,1)-N(F5))*24,2),0)) | H5: =INDEX(Einstellungen!$B$7:$B$13,6) | I5: =IF(OR(ISNUMBER(D5),C5<>""),G5-H5,0) | K5: =IF(AND(ISNUMBER(D5),ISNUMBER(E5)),IF((MOD(E5-D5,1)-N(F5))*24>10,"über 10 Std.",IF(AND((MOD(E5-D5,1)-N(F5))*24>9,N(F5)*1440<45),"Pause unter 45 Min.",IF(AND((MOD(E5-D5,1)-N(F5))*24>6,N(F5)*1440<30),"Pause unter 30 Min.",""))),"")
A6: 46663 | B6: So | G6: =IF(OR(UPPER(C6)="U",UPPER(C6)="K"),H6,IF(AND(ISNUMBER(D6),ISNUMBER(E6)),ROUND((MOD(E6-D6,1)-N(F6))*24,2),0)) | H6: 0 | I6: =IF(OR(ISNUMBER(D6),C6<>""),G6-H6,0) | J6: Tag der Deutschen Einheit | K6: =IF(AND(ISNUMBER(D6),ISNUMBER(E6)),IF((MOD(E6-D6,1)-N(F6))*24>10,"über 10 Std.",IF(AND((MOD(E6-D6,1)-N(F6))*24>9,N(F6)*1440<45),"Pause unter 45 Min.",IF(AND((MOD(E6-D6,1)-N(F6))*24>6,N(F6)*1440<30),"Pause unter 30 Min.",""))),"")
A7: 46664 | B7: Mo | G7: =IF(OR(UPPER(C7)="U",UPPER(C7)="K"),H7,IF(AND(ISNUMBER(D7),ISNUMBER(E7)),ROUND((MOD(E7-D7,1)-N(F7))*24,2),0)) | H7: =INDEX(Einstellungen!$B$7:$B$13,1) | I7: =IF(OR(ISNUMBER(D7),C7<>""),G7-H7,0) | K7: =IF(AND(ISNUMBER(D7),ISNUMBER(E7)),IF((MOD(E7-D7,1)-N(F7))*24>10,"über 10 Std.",IF(AND((MOD(E7-D7,1)-N(F7))*24>9,N(F7)*1440<45),"Pause unter 45 Min.",IF(AND((MOD(E7-D7,1)-N(F7))*24>6,N(F7)*1440<30),"Pause unter 30 Min.",""))),"")
A8: 46665 | B8: Di | G8: =IF(OR(UPPER(C8)="U",UPPER(C8)="K"),H8,IF(AND(ISNUMBER(D8),ISNUMBER(E8)),ROUND((MOD(E8-D8,1)-N(F8))*24,2),0)) | H8: =INDEX(Einstellungen!$B$7:$B$13,2) | I8: =IF(OR(ISNUMBER(D8),C8<>""),G8-H8,0) | K8: =IF(AND(ISNUMBER(D8),ISNUMBER(E8)),IF((MOD(E8-D8,1)-N(F8))*24>10,"über 10 Std.",IF(AND((MOD(E8-D8,1)-N(F8))*24>9,N(F8)*1440<45),"Pause unter 45 Min.",IF(AND((MOD(E8-D8,1)-N(F8))*24>6,N(F8)*1440<30),"Pause unter 30 Min.",""))),"")
A9: 46666 | B9: Mi | G9: =IF(OR(UPPER(C9)="U",UPPER(C9)="K"),H9,IF(AND(ISNUMBER(D9),ISNUMBER(E9)),ROUND((MOD(E9-D9,1)-N(F9))*24,2),0)) | H9: =INDEX(Einstellungen!$B$7:$B$13,3) | I9: =IF(OR(ISNUMBER(D9),C9<>""),G9-H9,0) | K9: =IF(AND(ISNUMBER(D9),ISNUMBER(E9)),IF((MOD(E9-D9,1)-N(F9))*24>10,"über 10 Std.",IF(AND((MOD(E9-D9,1)-N(F9))*24>9,N(F9)*1440<45),"Pause unter 45 Min.",IF(AND((MOD(E9-D9,1)-N(F9))*24>6,N(F9)*1440<30),"Pause unter 30 Min.",""))),"")
A10: 46667 | B10: Do | G10: =IF(OR(UPPER(C10)="U",UPPER(C10)="K"),H10,IF(AND(ISNUMBER(D10),ISNUMBER(E10)),ROUND((MOD(E10-D10,1)-N(F10))*24,2),0)) | H10: =INDEX(Einstellungen!$B$7:$B$13,4) | I10: =IF(OR(ISNUMBER(D10),C10<>""),G10-H10,0) | K10: =IF(AND(ISNUMBER(D10),ISNUMBER(E10)),IF((MOD(E10-D10,1)-N(F10))*24>10,"über 10 Std.",IF(AND((MOD(E10-D10,1)-N(F10))*24>9,N(F10)*1440<45),"Pause unter 45 Min.",IF(AND((MOD(E10-D10,1)-N(F10))*24>6,N(F10)*1440<30),"Pause unter 30 Min.",""))),"")
A11: 46668 | B11: Fr | G11: =IF(OR(UPPER(C11)="U",UPPER(C11)="K"),H11,IF(AND(ISNUMBER(D11),ISNUMBER(E11)),ROUND((MOD(E11-D11,1)-N(F11))*24,2),0)) | H11: =INDEX(Einstellungen!$B$7:$B$13,5) | I11: =IF(OR(ISNUMBER(D11),C11<>""),G11-H11,0) | K11: =IF(AND(ISNUMBER(D11),ISNUMBER(E11)),IF((MOD(E11-D11,1)-N(F11))*24>10,"über 10 Std.",IF(AND((MOD(E11-D11,1)-N(F11))*24>9,N(F11)*1440<45),"Pause unter 45 Min.",IF(AND((MOD(E11-D11,1)-N(F11))*24>6,N(F11)*1440<30),"Pause unter 30 Min.",""))),"")
A12: 46669 | B12: Sa | G12: =IF(OR(UPPER(C12)="U",UPPER(C12)="K"),H12,IF(AND(ISNUMBER(D12),ISNUMBER(E12)),ROUND((MOD(E12-D12,1)-N(F12))*24,2),0)) | H12: =INDEX(Einstellungen!$B$7:$B$13,6) | I12: =IF(OR(ISNUMBER(D12),C12<>""),G12-H12,0) | K12: =IF(AND(ISNUMBER(D12),ISNUMBER(E12)),IF((MOD(E12-D12,1)-N(F12))*24>10,"über 10 Std.",IF(AND((MOD(E12-D12,1)-N(F12))*24>9,N(F12)*1440<45),"Pause unter 45 Min.",IF(AND((MOD(E12-D12,1)-N(F12))*24>6,N(F12)*1440<30),"Pause unter 30 Min.",""))),"")
A13: 46670 | B13: So | G13: =IF(OR(UPPER(C13)="U",UPPER(C13)="K"),H13,IF(AND(ISNUMBER(D13),ISNUMBER(E13)),ROUND((MOD(E13-D13,1)-N(F13))*24,2),0)) | H13: =INDEX(Einstellungen!$B$7:$B$13,7) | I13: =IF(OR(ISNUMBER(D13),C13<>""),G13-H13,0) | K13: =IF(AND(ISNUMBER(D13),ISNUMBER(E13)),IF((MOD(E13-D13,1)-N(F13))*24>10,"über 10 Std.",IF(AND((MOD(E13-D13,1)-N(F13))*24>9,N(F13)*1440<45),"Pause unter 45 Min.",IF(AND((MOD(E13-D13,1)-N(F13))*24>6,N(F13)*1440<30),"Pause unter 30 Min.",""))),"")
A14: 46671 | B14: Mo | G14: =IF(OR(UPPER(C14)="U",UPPER(C14)="K"),H14,IF(AND(ISNUMBER(D14),ISNUMBER(E14)),ROUND((MOD(E14-D14,1)-N(F14))*24,2),0)) | H14: =INDEX(Einstellungen!$B$7:$B$13,1) | I14: =IF(OR(ISNUMBER(D14),C14<>""),G14-H14,0) | K14: =IF(AND(ISNUMBER(D14),ISNUMBER(E14)),IF((MOD(E14-D14,1)-N(F14))*24>10,"über 10 Std.",IF(AND((MOD(E14-D14,1)-N(F14))*24>9,N(F14)*1440<45),"Pause unter 45 Min.",IF(AND((MOD(E14-D14,1)-N(F14))*24>6,N(F14)*1440<30),"Pause unter 30 Min.",""))),"")
A15: 46672 | B15: Di | G15: =IF(OR(UPPER(C15)="U",UPPER(C15)="K"),H15,IF(AND(ISNUMBER(D15),ISNUMBER(E15)),ROUND((MOD(E15-D15,1)-N(F15))*24,2),0)) | H15: =INDEX(Einstellungen!$B$7:$B$13,2) | I15: =IF(OR(ISNUMBER(D15),C15<>""),G15-H15,0) | K15: =IF(AND(ISNUMBER(D15),ISNUMBER(E15)),IF((MOD(E15-D15,1)-N(F15))*24>10,"über 10 Std.",IF(AND((MOD(E15-D15,1)-N(F15))*24>9,N(F15)*1440<45),"Pause unter 45 Min.",IF(AND((MOD(E15-D15,1)-N(F15))*24>6,N(F15)*1440<30),"Pause unter 30 Min.",""))),"")
A16: 46673 | B16: Mi | G16: =IF(OR(UPPER(C16)="U",UPPER(C16)="K"),H16,IF(AND(ISNUMBER(D16),ISNUMBER(E16)),ROUND((MOD(E16-D16,1)-N(F16))*24,2),0)) | H16: =INDEX(Einstellungen!$B$7:$B$13,3) | I16: =IF(OR(ISNUMBER(D16),C16<>""),G16-H16,0) | K16: =IF(AND(ISNUMBER(D16),ISNUMBER(E16)),IF((MOD(E16-D16,1)-N(F16))*24>10,"über 10 Std.",IF(AND((MOD(E16-D16,1)-N(F16))*24>9,N(F16)*1440<45),"Pause unter 45 Min.",IF(AND((MOD(E16-D16,1)-N(F16))*24>6,N(F16)*1440<30),"Pause unter 30 Min.",""))),"")
A17: 46674 | B17: Do | G17: =IF(OR(UPPER(C17)="U",UPPER(C17)="K"),H17,IF(AND(ISNUMBER(D17),ISNUMBER(E17)),ROUND((MOD(E17-D17,1)-N(F17))*24,2),0)) | H17: =INDEX(Einstellungen!$B$7:$B$13,4) | I17: =IF(OR(ISNUMBER(D17),C17<>""),G17-H17,0) | K17: =IF(AND(ISNUMBER(D17),ISNUMBER(E17)),IF((MOD(E17-D17,1)-N(F17))*24>10,"über 10 Std.",IF(AND((MOD(E17-D17,1)-N(F17))*24>9,N(F17)*1440<45),"Pause unter 45 Min.",IF(AND((MOD(E17-D17,1)-N(F17))*24>6,N(F17)*1440<30),"Pause unter 30 Min.",""))),"")
A18: 46675 | B18: Fr | G18: =IF(OR(UPPER(C18)="U",UPPER(C18)="K"),H18,IF(AND(ISNUMBER(D18),ISNUMBER(E18)),ROUND((MOD(E18-D18,1)-N(F18))*24,2),0)) | H18: =INDEX(Einstellungen!$B$7:$B$13,5) | I18: =IF(OR(ISNUMBER(D18),C18<>""),G18-H18,0) | K18: =IF(AND(ISNUMBER(D18),ISNUMBER(E18)),IF((MOD(E18-D18,1)-N(F18))*24>10,"über 10 Std.",IF(AND((MOD(E18-D18,1)-N(F18))*24>9,N(F18)*1440<45),"Pause unter 45 Min.",IF(AND((MOD(E18-D18,1)-N(F18))*24>6,N(F18)*1440<30),"Pause unter 30 Min.",""))),"")
A19: 46676 | B19: Sa | G19: =IF(OR(UPPER(C19)="U",UPPER(C19)="K"),H19,IF(AND(ISNUMBER(D19),ISNUMBER(E19)),ROUND((MOD(E19-D19,1)-N(F19))*24,2),0)) | H19: =INDEX(Einstellungen!$B$7:$B$13,6) | I19: =IF(OR(ISNUMBER(D19),C19<>""),G19-H19,0) | K19: =IF(AND(ISNUMBER(D19),ISNUMBER(E19)),IF((MOD(E19-D19,1)-N(F19))*24>10,"über 10 Std.",IF(AND((MOD(E19-D19,1)-N(F19))*24>9,N(F19)*1440<45),"Pause unter 45 Min.",IF(AND((MOD(E19-D19,1)-N(F19))*24>6,N(F19)*1440<30),"Pause unter 30 Min.",""))),"")
A20: 46677 | B20: So | G20: =IF(OR(UPPER(C20)="U",UPPER(C20)="K"),H20,IF(AND(ISNUMBER(D20),ISNUMBER(E20)),ROUND((MOD(E20-D20,1)-N(F20))*24,2),0)) | H20: =INDEX(Einstellungen!$B$7:$B$13,7) | I20: =IF(OR(ISNUMBER(D20),C20<>""),G20-H20,0) | K20: =IF(AND(ISNUMBER(D20),ISNUMBER(E20)),IF((MOD(E20-D20,1)-N(F20))*24>10,"über 10 Std.",IF(AND((MOD(E20-D20,1)-N(F20))*24>9,N(F20)*1440<45),"Pause unter 45 Min.",IF(AND((MOD(E20-D20,1)-N(F20))*24>6,N(F20)*1440<30),"Pause unter 30 Min.",""))),"")
A21: 46678 | B21: Mo | G21: =IF(OR(UPPER(C21)="U",UPPER(C21)="K"),H21,IF(AND(ISNUMBER(D21),ISNUMBER(E21)),ROUND((MOD(E21-D21,1)-N(F21))*24,2),0)) | H21: =INDEX(Einstellungen!$B$7:$B$13,1) | I21: =IF(OR(ISNUMBER(D21),C21<>""),G21-H21,0) | K21: =IF(AND(ISNUMBER(D21),ISNUMBER(E21)),IF((MOD(E21-D21,1)-N(F21))*24>10,"über 10 Std.",IF(AND((MOD(E21-D21,1)-N(F21))*24>9,N(F21)*1440<45),"Pause unter 45 Min.",IF(AND((MOD(E21-D21,1)-N(F21))*24>6,N(F21)*1440<30),"Pause unter 30 Min.",""))),"")
A22: 46679 | B22: Di | G22: =IF(OR(UPPER(C22)="U",UPPER(C22)="K"),H22,IF(AND(ISNUMBER(D22),ISNUMBER(E22)),ROUND((MOD(E22-D22,1)-N(F22))*24,2),0)) | H22: =INDEX(Einstellungen!$B$7:$B$13,2) | I22: =IF(OR(ISNUMBER(D22),C22<>""),G22-H22,0) | K22: =IF(AND(ISNUMBER(D22),ISNUMBER(E22)),IF((MOD(E22-D22,1)-N(F22))*24>10,"über 10 Std.",IF(AND((MOD(E22-D22,1)-N(F22))*24>9,N(F22)*1440<45),"Pause unter 45 Min.",IF(AND((MOD(E22-D22,1)-N(F22))*24>6,N(F22)*1440<30),"Pause unter 30 Min.",""))),"")
A23: 46680 | B23: Mi | G23: =IF(OR(UPPER(C23)="U",UPPER(C23)="K"),H23,IF(AND(ISNUMBER(D23),ISNUMBER(E23)),ROUND((MOD(E23-D23,1)-N(F23))*24,2),0)) | H23: =INDEX(Einstellungen!$B$7:$B$13,3) | I23: =IF(OR(ISNUMBER(D23),C23<>""),G23-H23,0) | K23: =IF(AND(ISNUMBER(D23),ISNUMBER(E23)),IF((MOD(E23-D23,1)-N(F23))*24>10,"über 10 Std.",IF(AND((MOD(E23-D23,1)-N(F23))*24>9,N(F23)*1440<45),"Pause unter 45 Min.",IF(AND((MOD(E23-D23,1)-N(F23))*24>6,N(F23)*1440<30),"Pause unter 30 Min.",""))),"")
A24: 46681 | B24: Do | G24: =IF(OR(UPPER(C24)="U",UPPER(C24)="K"),H24,IF(AND(ISNUMBER(D24),ISNUMBER(E24)),ROUND((MOD(E24-D24,1)-N(F24))*24,2),0)) | H24: =INDEX(Einstellungen!$B$7:$B$13,4) | I24: =IF(OR(ISNUMBER(D24),C24<>""),G24-H24,0) | K24: =IF(AND(ISNUMBER(D24),ISNUMBER(E24)),IF((MOD(E24-D24,1)-N(F24))*24>10,"über 10 Std.",IF(AND((MOD(E24-D24,1)-N(F24))*24>9,N(F24)*1440<45),"Pause unter 45 Min.",IF(AND((MOD(E24-D24,1)-N(F24))*24>6,N(F24)*1440<30),"Pause unter 30 Min.",""))),"")
A25: 46682 | B25: Fr | G25: =IF(OR(UPPER(C25)="U",UPPER(C25)="K"),H25,IF(AND(ISNUMBER(D25),ISNUMBER(E25)),ROUND((MOD(E25-D25,1)-N(F25))*24,2),0)) | H25: =INDEX(Einstellungen!$B$7:$B$13,5) | I25: =IF(OR(ISNUMBER(D25),C25<>""),G25-H25,0) | K25: =IF(AND(ISNUMBER(D25),ISNUMBER(E25)),IF((MOD(E25-D25,1)-N(F25))*24>10,"über 10 Std.",IF(AND((MOD(E25-D25,1)-N(F25))*24>9,N(F25)*1440<45),"Pause unter 45 Min.",IF(AND((MOD(E25-D25,1)-N(F25))*24>6,N(F25)*1440<30),"Pause unter 30 Min.",""))),"")
A26: 46683 | B26: Sa | G26: =IF(OR(UPPER(C26)="U",UPPER(C26)="K"),H26,IF(AND(ISNUMBER(D26),ISNUMBER(E26)),ROUND((MOD(E26-D26,1)-N(F26))*24,2),0)) | H26: =INDEX(Einstellungen!$B$7:$B$13,6) | I26: =IF(OR(ISNUMBER(D26),C26<>""),G26-H26,0) | K26: =IF(AND(ISNUMBER(D26),ISNUMBER(E26)),IF((MOD(E26-D26,1)-N(F26))*24>10,"über 10 Std.",IF(AND((MOD(E26-D26,1)-N(F26))*24>9,N(F26)*1440<45),"Pause unter 45 Min.",IF(AND((MOD(E26-D26,1)-N(F26))*24>6,N(F26)*1440<30),"Pause unter 30 Min.",""))),"")
A27: 46684 | B27: So | G27: =IF(OR(UPPER(C27)="U",UPPER(C27)="K"),H27,IF(AND(ISNUMBER(D27),ISNUMBER(E27)),ROUND((MOD(E27-D27,1)-N(F27))*24,2),0)) | H27: =INDEX(Einstellungen!$B$7:$B$13,7) | I27: =IF(OR(ISNUMBER(D27),C27<>""),G27-H27,0) | K27: =IF(AND(ISNUMBER(D27),ISNUMBER(E27)),IF((MOD(E27-D27,1)-N(F27))*24>10,"über 10 Std.",IF(AND((MOD(E27-D27,1)-N(F27))*24>9,N(F27)*1440<45),"Pause unter 45 Min.",IF(AND((MOD(E27-D27,1)-N(F27))*24>6,N(F27)*1440<30),"Pause unter 30 Min.",""))),"")
A28: 46685 | B28: Mo | G28: =IF(OR(UPPER(C28)="U",UPPER(C28)="K"),H28,IF(AND(ISNUMBER(D28),ISNUMBER(E28)),ROUND((MOD(E28-D28,1)-N(F28))*24,2),0)) | H28: =INDEX(Einstellungen!$B$7:$B$13,1) | I28: =IF(OR(ISNUMBER(D28),C28<>""),G28-H28,0) | K28: =IF(AND(ISNUMBER(D28),ISNUMBER(E28)),IF((MOD(E28-D28,1)-N(F28))*24>10,"über 10 Std.",IF(AND((MOD(E28-D28,1)-N(F28))*24>9,N(F28)*1440<45),"Pause unter 45 Min.",IF(AND((MOD(E28-D28,1)-N(F28))*24>6,N(F28)*1440<30),"Pause unter 30 Min.",""))),"")
A29: 46686 | B29: Di | G29: =IF(OR(UPPER(C29)="U",UPPER(C29)="K"),H29,IF(AND(ISNUMBER(D29),ISNUMBER(E29)),ROUND((MOD(E29-D29,1)-N(F29))*24,2),0)) | H29: =INDEX(Einstellungen!$B$7:$B$13,2) | I29: =IF(OR(ISNUMBER(D29),C29<>""),G29-H29,0) | K29: =IF(AND(ISNUMBER(D29),ISNUMBER(E29)),IF((MOD(E29-D29,1)-N(F29))*24>10,"über 10 Std.",IF(AND((MOD(E29-D29,1)-N(F29))*24>9,N(F29)*1440<45),"Pause unter 45 Min.",IF(AND((MOD(E29-D29,1)-N(F29))*24>6,N(F29)*1440<30),"Pause unter 30 Min.",""))),"")
A30: 46687 | B30: Mi | G30: =IF(OR(UPPER(C30)="U",UPPER(C30)="K"),H30,IF(AND(ISNUMBER(D30),ISNUMBER(E30)),ROUND((MOD(E30-D30,1)-N(F30))*24,2),0)) | H30: =INDEX(Einstellungen!$B$7:$B$13,3) | I30: =IF(OR(ISNUMBER(D30),C30<>""),G30-H30,0) | K30: =IF(AND(ISNUMBER(D30),ISNUMBER(E30)),IF((MOD(E30-D30,1)-N(F30))*24>10,"über 10 Std.",IF(AND((MOD(E30-D30,1)-N(F30))*24>9,N(F30)*1440<45),"Pause unter 45 Min.",IF(AND((MOD(E30-D30,1)-N(F30))*24>6,N(F30)*1440<30),"Pause unter 30 Min.",""))),"")
A31: 46688 | B31: Do | G31: =IF(OR(UPPER(C31)="U",UPPER(C31)="K"),H31,IF(AND(ISNUMBER(D31),ISNUMBER(E31)),ROUND((MOD(E31-D31,1)-N(F31))*24,2),0)) | H31: =INDEX(Einstellungen!$B$7:$B$13,4) | I31: =IF(OR(ISNUMBER(D31),C31<>""),G31-H31,0) | K31: =IF(AND(ISNUMBER(D31),ISNUMBER(E31)),IF((MOD(E31-D31,1)-N(F31))*24>10,"über 10 Std.",IF(AND((MOD(E31-D31,1)-N(F31))*24>9,N(F31)*1440<45),"Pause unter 45 Min.",IF(AND((MOD(E31-D31,1)-N(F31))*24>6,N(F31)*1440<30),"Pause unter 30 Min.",""))),"")
A32: 46689 | B32: Fr | G32: =IF(OR(UPPER(C32)="U",UPPER(C32)="K"),H32,IF(AND(ISNUMBER(D32),ISNUMBER(E32)),ROUND((MOD(E32-D32,1)-N(F32))*24,2),0)) | H32: =INDEX(Einstellungen!$B$7:$B$13,5) | I32: =IF(OR(ISNUMBER(D32),C32<>""),G32-H32,0) | K32: =IF(AND(ISNUMBER(D32),ISNUMBER(E32)),IF((MOD(E32-D32,1)-N(F32))*24>10,"über 10 Std.",IF(AND((MOD(E32-D32,1)-N(F32))*24>9,N(F32)*1440<45),"Pause unter 45 Min.",IF(AND((MOD(E32-D32,1)-N(F32))*24>6,N(F32)*1440<30),"Pause unter 30 Min.",""))),"")
A33: 46690 | B33: Sa | G33: =IF(OR(UPPER(C33)="U",UPPER(C33)="K"),H33,IF(AND(ISNUMBER(D33),ISNUMBER(E33)),ROUND((MOD(E33-D33,1)-N(F33))*24,2),0)) | H33: =INDEX(Einstellungen!$B$7:$B$13,6) | I33: =IF(OR(ISNUMBER(D33),C33<>""),G33-H33,0) | K33: =IF(AND(ISNUMBER(D33),ISNUMBER(E33)),IF((MOD(E33-D33,1)-N(F33))*24>10,"über 10 Std.",IF(AND((MOD(E33-D33,1)-N(F33))*24>9,N(F33)*1440<45),"Pause unter 45 Min.",IF(AND((MOD(E33-D33,1)-N(F33))*24>6,N(F33)*1440<30),"Pause unter 30 Min.",""))),"")
A34: 46691 | B34: So | G34: =IF(OR(UPPER(C34)="U",UPPER(C34)="K"),H34,IF(AND(ISNUMBER(D34),ISNUMBER(E34)),ROUND((MOD(E34-D34,1)-N(F34))*24,2),0)) | H34: =INDEX(Einstellungen!$B$7:$B$13,7) | I34: =IF(OR(ISNUMBER(D34),C34<>""),G34-H34,0) | K34: =IF(AND(ISNUMBER(D34),ISNUMBER(E34)),IF((MOD(E34-D34,1)-N(F34))*24>10,"über 10 Std.",IF(AND((MOD(E34-D34,1)-N(F34))*24>9,N(F34)*1440<45),"Pause unter 45 Min.",IF(AND((MOD(E34-D34,1)-N(F34))*24>6,N(F34)*1440<30),"Pause unter 30 Min.",""))),"")
A36: Ist-Stunden | D36: =SUM(G4:G34)
A37: Soll (ganzer Monat) | D37: =SUM(H4:H34)
A38: Differenz (erfasste Tage) | D38: =SUM(I4:I34)
A39: Urlaubstage | D39: =COUNTIF(C4:C34,"U")
A40: Kranktage | D40: =COUNTIF(C4:C34,"K")

Sheet November
A1: November 2027 | D1: =Einstellungen!B4
A3: Datum | B3: Tag | C3: Art | D3: Beginn | E3: Ende | F3: Pause | G3: Ist (Std.) | H3: Soll (Std.) | I3: Differenz | J3: Bemerkung | K3: Prüfung
A4: 46692 | B4: Mo | G4: =IF(OR(UPPER(C4)="U",UPPER(C4)="K"),H4,IF(AND(ISNUMBER(D4),ISNUMBER(E4)),ROUND((MOD(E4-D4,1)-N(F4))*24,2),0)) | H4: =INDEX(Einstellungen!$B$7:$B$13,1) | I4: =IF(OR(ISNUMBER(D4),C4<>""),G4-H4,0) | K4: =IF(AND(ISNUMBER(D4),ISNUMBER(E4)),IF((MOD(E4-D4,1)-N(F4))*24>10,"über 10 Std.",IF(AND((MOD(E4-D4,1)-N(F4))*24>9,N(F4)*1440<45),"Pause unter 45 Min.",IF(AND((MOD(E4-D4,1)-N(F4))*24>6,N(F4)*1440<30),"Pause unter 30 Min.",""))),"")
A5: 46693 | B5: Di | G5: =IF(OR(UPPER(C5)="U",UPPER(C5)="K"),H5,IF(AND(ISNUMBER(D5),ISNUMBER(E5)),ROUND((MOD(E5-D5,1)-N(F5))*24,2),0)) | H5: =INDEX(Einstellungen!$B$7:$B$13,2) | I5: =IF(OR(ISNUMBER(D5),C5<>""),G5-H5,0) | K5: =IF(AND(ISNUMBER(D5),ISNUMBER(E5)),IF((MOD(E5-D5,1)-N(F5))*24>10,"über 10 Std.",IF(AND((MOD(E5-D5,1)-N(F5))*24>9,N(F5)*1440<45),"Pause unter 45 Min.",IF(AND((MOD(E5-D5,1)-N(F5))*24>6,N(F5)*1440<30),"Pause unter 30 Min.",""))),"")
A6: 46694 | B6: Mi | G6: =IF(OR(UPPER(C6)="U",UPPER(C6)="K"),H6,IF(AND(ISNUMBER(D6),ISNUMBER(E6)),ROUND((MOD(E6-D6,1)-N(F6))*24,2),0)) | H6: =INDEX(Einstellungen!$B$7:$B$13,3) | I6: =IF(OR(ISNUMBER(D6),C6<>""),G6-H6,0) | K6: =IF(AND(ISNUMBER(D6),ISNUMBER(E6)),IF((MOD(E6-D6,1)-N(F6))*24>10,"über 10 Std.",IF(AND((MOD(E6-D6,1)-N(F6))*24>9,N(F6)*1440<45),"Pause unter 45 Min.",IF(AND((MOD(E6-D6,1)-N(F6))*24>6,N(F6)*1440<30),"Pause unter 30 Min.",""))),"")
A7: 46695 | B7: Do | G7: =IF(OR(UPPER(C7)="U",UPPER(C7)="K"),H7,IF(AND(ISNUMBER(D7),ISNUMBER(E7)),ROUND((MOD(E7-D7,1)-N(F7))*24,2),0)) | H7: =INDEX(Einstellungen!$B$7:$B$13,4) | I7: =IF(OR(ISNUMBER(D7),C7<>""),G7-H7,0) | K7: =IF(AND(ISNUMBER(D7),ISNUMBER(E7)),IF((MOD(E7-D7,1)-N(F7))*24>10,"über 10 Std.",IF(AND((MOD(E7-D7,1)-N(F7))*24>9,N(F7)*1440<45),"Pause unter 45 Min.",IF(AND((MOD(E7-D7,1)-N(F7))*24>6,N(F7)*1440<30),"Pause unter 30 Min.",""))),"")
A8: 46696 | B8: Fr | G8: =IF(OR(UPPER(C8)="U",UPPER(C8)="K"),H8,IF(AND(ISNUMBER(D8),ISNUMBER(E8)),ROUND((MOD(E8-D8,1)-N(F8))*24,2),0)) | H8: =INDEX(Einstellungen!$B$7:$B$13,5) | I8: =IF(OR(ISNUMBER(D8),C8<>""),G8-H8,0) | K8: =IF(AND(ISNUMBER(D8),ISNUMBER(E8)),IF((MOD(E8-D8,1)-N(F8))*24>10,"über 10 Std.",IF(AND((MOD(E8-D8,1)-N(F8))*24>9,N(F8)*1440<45),"Pause unter 45 Min.",IF(AND((MOD(E8-D8,1)-N(F8))*24>6,N(F8)*1440<30),"Pause unter 30 Min.",""))),"")
A9: 46697 | B9: Sa | G9: =IF(OR(UPPER(C9)="U",UPPER(C9)="K"),H9,IF(AND(ISNUMBER(D9),ISNUMBER(E9)),ROUND((MOD(E9-D9,1)-N(F9))*24,2),0)) | H9: =INDEX(Einstellungen!$B$7:$B$13,6) | I9: =IF(OR(ISNUMBER(D9),C9<>""),G9-H9,0) | K9: =IF(AND(ISNUMBER(D9),ISNUMBER(E9)),IF((MOD(E9-D9,1)-N(F9))*24>10,"über 10 Std.",IF(AND((MOD(E9-D9,1)-N(F9))*24>9,N(F9)*1440<45),"Pause unter 45 Min.",IF(AND((MOD(E9-D9,1)-N(F9))*24>6,N(F9)*1440<30),"Pause unter 30 Min.",""))),"")
A10: 46698 | B10: So | G10: =IF(OR(UPPER(C10)="U",UPPER(C10)="K"),H10,IF(AND(ISNUMBER(D10),ISNUMBER(E10)),ROUND((MOD(E10-D10,1)-N(F10))*24,2),0)) | H10: =INDEX(Einstellungen!$B$7:$B$13,7) | I10: =IF(OR(ISNUMBER(D10),C10<>""),G10-H10,0) | K10: =IF(AND(ISNUMBER(D10),ISNUMBER(E10)),IF((MOD(E10-D10,1)-N(F10))*24>10,"über 10 Std.",IF(AND((MOD(E10-D10,1)-N(F10))*24>9,N(F10)*1440<45),"Pause unter 45 Min.",IF(AND((MOD(E10-D10,1)-N(F10))*24>6,N(F10)*1440<30),"Pause unter 30 Min.",""))),"")
A11: 46699 | B11: Mo | G11: =IF(OR(UPPER(C11)="U",UPPER(C11)="K"),H11,IF(AND(ISNUMBER(D11),ISNUMBER(E11)),ROUND((MOD(E11-D11,1)-N(F11))*24,2),0)) | H11: =INDEX(Einstellungen!$B$7:$B$13,1) | I11: =IF(OR(ISNUMBER(D11),C11<>""),G11-H11,0) | K11: =IF(AND(ISNUMBER(D11),ISNUMBER(E11)),IF((MOD(E11-D11,1)-N(F11))*24>10,"über 10 Std.",IF(AND((MOD(E11-D11,1)-N(F11))*24>9,N(F11)*1440<45),"Pause unter 45 Min.",IF(AND((MOD(E11-D11,1)-N(F11))*24>6,N(F11)*1440<30),"Pause unter 30 Min.",""))),"")
A12: 46700 | B12: Di | G12: =IF(OR(UPPER(C12)="U",UPPER(C12)="K"),H12,IF(AND(ISNUMBER(D12),ISNUMBER(E12)),ROUND((MOD(E12-D12,1)-N(F12))*24,2),0)) | H12: =INDEX(Einstellungen!$B$7:$B$13,2) | I12: =IF(OR(ISNUMBER(D12),C12<>""),G12-H12,0) | K12: =IF(AND(ISNUMBER(D12),ISNUMBER(E12)),IF((MOD(E12-D12,1)-N(F12))*24>10,"über 10 Std.",IF(AND((MOD(E12-D12,1)-N(F12))*24>9,N(F12)*1440<45),"Pause unter 45 Min.",IF(AND((MOD(E12-D12,1)-N(F12))*24>6,N(F12)*1440<30),"Pause unter 30 Min.",""))),"")
A13: 46701 | B13: Mi | G13: =IF(OR(UPPER(C13)="U",UPPER(C13)="K"),H13,IF(AND(ISNUMBER(D13),ISNUMBER(E13)),ROUND((MOD(E13-D13,1)-N(F13))*24,2),0)) | H13: =INDEX(Einstellungen!$B$7:$B$13,3) | I13: =IF(OR(ISNUMBER(D13),C13<>""),G13-H13,0) | K13: =IF(AND(ISNUMBER(D13),ISNUMBER(E13)),IF((MOD(E13-D13,1)-N(F13))*24>10,"über 10 Std.",IF(AND((MOD(E13-D13,1)-N(F13))*24>9,N(F13)*1440<45),"Pause unter 45 Min.",IF(AND((MOD(E13-D13,1)-N(F13))*24>6,N(F13)*1440<30),"Pause unter 30 Min.",""))),"")
A14: 46702 | B14: Do | G14: =IF(OR(UPPER(C14)="U",UPPER(C14)="K"),H14,IF(AND(ISNUMBER(D14),ISNUMBER(E14)),ROUND((MOD(E14-D14,1)-N(F14))*24,2),0)) | H14: =INDEX(Einstellungen!$B$7:$B$13,4) | I14: =IF(OR(ISNUMBER(D14),C14<>""),G14-H14,0) | K14: =IF(AND(ISNUMBER(D14),ISNUMBER(E14)),IF((MOD(E14-D14,1)-N(F14))*24>10,"über 10 Std.",IF(AND((MOD(E14-D14,1)-N(F14))*24>9,N(F14)*1440<45),"Pause unter 45 Min.",IF(AND((MOD(E14-D14,1)-N(F14))*24>6,N(F14)*1440<30),"Pause unter 30 Min.",""))),"")
A15: 46703 | B15: Fr | G15: =IF(OR(UPPER(C15)="U",UPPER(C15)="K"),H15,IF(AND(ISNUMBER(D15),ISNUMBER(E15)),ROUND((MOD(E15-D15,1)-N(F15))*24,2),0)) | H15: =INDEX(Einstellungen!$B$7:$B$13,5) | I15: =IF(OR(ISNUMBER(D15),C15<>""),G15-H15,0) | K15: =IF(AND(ISNUMBER(D15),ISNUMBER(E15)),IF((MOD(E15-D15,1)-N(F15))*24>10,"über 10 Std.",IF(AND((MOD(E15-D15,1)-N(F15))*24>9,N(F15)*1440<45),"Pause unter 45 Min.",IF(AND((MOD(E15-D15,1)-N(F15))*24>6,N(F15)*1440<30),"Pause unter 30 Min.",""))),"")
A16: 46704 | B16: Sa | G16: =IF(OR(UPPER(C16)="U",UPPER(C16)="K"),H16,IF(AND(ISNUMBER(D16),ISNUMBER(E16)),ROUND((MOD(E16-D16,1)-N(F16))*24,2),0)) | H16: =INDEX(Einstellungen!$B$7:$B$13,6) | I16: =IF(OR(ISNUMBER(D16),C16<>""),G16-H16,0) | K16: =IF(AND(ISNUMBER(D16),ISNUMBER(E16)),IF((MOD(E16-D16,1)-N(F16))*24>10,"über 10 Std.",IF(AND((MOD(E16-D16,1)-N(F16))*24>9,N(F16)*1440<45),"Pause unter 45 Min.",IF(AND((MOD(E16-D16,1)-N(F16))*24>6,N(F16)*1440<30),"Pause unter 30 Min.",""))),"")
A17: 46705 | B17: So | G17: =IF(OR(UPPER(C17)="U",UPPER(C17)="K"),H17,IF(AND(ISNUMBER(D17),ISNUMBER(E17)),ROUND((MOD(E17-D17,1)-N(F17))*24,2),0)) | H17: =INDEX(Einstellungen!$B$7:$B$13,7) | I17: =IF(OR(ISNUMBER(D17),C17<>""),G17-H17,0) | K17: =IF(AND(ISNUMBER(D17),ISNUMBER(E17)),IF((MOD(E17-D17,1)-N(F17))*24>10,"über 10 Std.",IF(AND((MOD(E17-D17,1)-N(F17))*24>9,N(F17)*1440<45),"Pause unter 45 Min.",IF(AND((MOD(E17-D17,1)-N(F17))*24>6,N(F17)*1440<30),"Pause unter 30 Min.",""))),"")
A18: 46706 | B18: Mo | G18: =IF(OR(UPPER(C18)="U",UPPER(C18)="K"),H18,IF(AND(ISNUMBER(D18),ISNUMBER(E18)),ROUND((MOD(E18-D18,1)-N(F18))*24,2),0)) | H18: =INDEX(Einstellungen!$B$7:$B$13,1) | I18: =IF(OR(ISNUMBER(D18),C18<>""),G18-H18,0) | K18: =IF(AND(ISNUMBER(D18),ISNUMBER(E18)),IF((MOD(E18-D18,1)-N(F18))*24>10,"über 10 Std.",IF(AND((MOD(E18-D18,1)-N(F18))*24>9,N(F18)*1440<45),"Pause unter 45 Min.",IF(AND((MOD(E18-D18,1)-N(F18))*24>6,N(F18)*1440<30),"Pause unter 30 Min.",""))),"")
A19: 46707 | B19: Di | G19: =IF(OR(UPPER(C19)="U",UPPER(C19)="K"),H19,IF(AND(ISNUMBER(D19),ISNUMBER(E19)),ROUND((MOD(E19-D19,1)-N(F19))*24,2),0)) | H19: =INDEX(Einstellungen!$B$7:$B$13,2) | I19: =IF(OR(ISNUMBER(D19),C19<>""),G19-H19,0) | K19: =IF(AND(ISNUMBER(D19),ISNUMBER(E19)),IF((MOD(E19-D19,1)-N(F19))*24>10,"über 10 Std.",IF(AND((MOD(E19-D19,1)-N(F19))*24>9,N(F19)*1440<45),"Pause unter 45 Min.",IF(AND((MOD(E19-D19,1)-N(F19))*24>6,N(F19)*1440<30),"Pause unter 30 Min.",""))),"")
A20: 46708 | B20: Mi | G20: =IF(OR(UPPER(C20)="U",UPPER(C20)="K"),H20,IF(AND(ISNUMBER(D20),ISNUMBER(E20)),ROUND((MOD(E20-D20,1)-N(F20))*24,2),0)) | H20: =INDEX(Einstellungen!$B$7:$B$13,3) | I20: =IF(OR(ISNUMBER(D20),C20<>""),G20-H20,0) | K20: =IF(AND(ISNUMBER(D20),ISNUMBER(E20)),IF((MOD(E20-D20,1)-N(F20))*24>10,"über 10 Std.",IF(AND((MOD(E20-D20,1)-N(F20))*24>9,N(F20)*1440<45),"Pause unter 45 Min.",IF(AND((MOD(E20-D20,1)-N(F20))*24>6,N(F20)*1440<30),"Pause unter 30 Min.",""))),"")
A21: 46709 | B21: Do | G21: =IF(OR(UPPER(C21)="U",UPPER(C21)="K"),H21,IF(AND(ISNUMBER(D21),ISNUMBER(E21)),ROUND((MOD(E21-D21,1)-N(F21))*24,2),0)) | H21: =INDEX(Einstellungen!$B$7:$B$13,4) | I21: =IF(OR(ISNUMBER(D21),C21<>""),G21-H21,0) | K21: =IF(AND(ISNUMBER(D21),ISNUMBER(E21)),IF((MOD(E21-D21,1)-N(F21))*24>10,"über 10 Std.",IF(AND((MOD(E21-D21,1)-N(F21))*24>9,N(F21)*1440<45),"Pause unter 45 Min.",IF(AND((MOD(E21-D21,1)-N(F21))*24>6,N(F21)*1440<30),"Pause unter 30 Min.",""))),"")
A22: 46710 | B22: Fr | G22: =IF(OR(UPPER(C22)="U",UPPER(C22)="K"),H22,IF(AND(ISNUMBER(D22),ISNUMBER(E22)),ROUND((MOD(E22-D22,1)-N(F22))*24,2),0)) | H22: =INDEX(Einstellungen!$B$7:$B$13,5) | I22: =IF(OR(ISNUMBER(D22),C22<>""),G22-H22,0) | K22: =IF(AND(ISNUMBER(D22),ISNUMBER(E22)),IF((MOD(E22-D22,1)-N(F22))*24>10,"über 10 Std.",IF(AND((MOD(E22-D22,1)-N(F22))*24>9,N(F22)*1440<45),"Pause unter 45 Min.",IF(AND((MOD(E22-D22,1)-N(F22))*24>6,N(F22)*1440<30),"Pause unter 30 Min.",""))),"")
A23: 46711 | B23: Sa | G23: =IF(OR(UPPER(C23)="U",UPPER(C23)="K"),H23,IF(AND(ISNUMBER(D23),ISNUMBER(E23)),ROUND((MOD(E23-D23,1)-N(F23))*24,2),0)) | H23: =INDEX(Einstellungen!$B$7:$B$13,6) | I23: =IF(OR(ISNUMBER(D23),C23<>""),G23-H23,0) | K23: =IF(AND(ISNUMBER(D23),ISNUMBER(E23)),IF((MOD(E23-D23,1)-N(F23))*24>10,"über 10 Std.",IF(AND((MOD(E23-D23,1)-N(F23))*24>9,N(F23)*1440<45),"Pause unter 45 Min.",IF(AND((MOD(E23-D23,1)-N(F23))*24>6,N(F23)*1440<30),"Pause unter 30 Min.",""))),"")
A24: 46712 | B24: So | G24: =IF(OR(UPPER(C24)="U",UPPER(C24)="K"),H24,IF(AND(ISNUMBER(D24),ISNUMBER(E24)),ROUND((MOD(E24-D24,1)-N(F24))*24,2),0)) | H24: =INDEX(Einstellungen!$B$7:$B$13,7) | I24: =IF(OR(ISNUMBER(D24),C24<>""),G24-H24,0) | K24: =IF(AND(ISNUMBER(D24),ISNUMBER(E24)),IF((MOD(E24-D24,1)-N(F24))*24>10,"über 10 Std.",IF(AND((MOD(E24-D24,1)-N(F24))*24>9,N(F24)*1440<45),"Pause unter 45 Min.",IF(AND((MOD(E24-D24,1)-N(F24))*24>6,N(F24)*1440<30),"Pause unter 30 Min.",""))),"")
A25: 46713 | B25: Mo | G25: =IF(OR(UPPER(C25)="U",UPPER(C25)="K"),H25,IF(AND(ISNUMBER(D25),ISNUMBER(E25)),ROUND((MOD(E25-D25,1)-N(F25))*24,2),0)) | H25: =INDEX(Einstellungen!$B$7:$B$13,1) | I25: =IF(OR(ISNUMBER(D25),C25<>""),G25-H25,0) | K25: =IF(AND(ISNUMBER(D25),ISNUMBER(E25)),IF((MOD(E25-D25,1)-N(F25))*24>10,"über 10 Std.",IF(AND((MOD(E25-D25,1)-N(F25))*24>9,N(F25)*1440<45),"Pause unter 45 Min.",IF(AND((MOD(E25-D25,1)-N(F25))*24>6,N(F25)*1440<30),"Pause unter 30 Min.",""))),"")
A26: 46714 | B26: Di | G26: =IF(OR(UPPER(C26)="U",UPPER(C26)="K"),H26,IF(AND(ISNUMBER(D26),ISNUMBER(E26)),ROUND((MOD(E26-D26,1)-N(F26))*24,2),0)) | H26: =INDEX(Einstellungen!$B$7:$B$13,2) | I26: =IF(OR(ISNUMBER(D26),C26<>""),G26-H26,0) | K26: =IF(AND(ISNUMBER(D26),ISNUMBER(E26)),IF((MOD(E26-D26,1)-N(F26))*24>10,"über 10 Std.",IF(AND((MOD(E26-D26,1)-N(F26))*24>9,N(F26)*1440<45),"Pause unter 45 Min.",IF(AND((MOD(E26-D26,1)-N(F26))*24>6,N(F26)*1440<30),"Pause unter 30 Min.",""))),"")
A27: 46715 | B27: Mi | G27: =IF(OR(UPPER(C27)="U",UPPER(C27)="K"),H27,IF(AND(ISNUMBER(D27),ISNUMBER(E27)),ROUND((MOD(E27-D27,1)-N(F27))*24,2),0)) | H27: =INDEX(Einstellungen!$B$7:$B$13,3) | I27: =IF(OR(ISNUMBER(D27),C27<>""),G27-H27,0) | K27: =IF(AND(ISNUMBER(D27),ISNUMBER(E27)),IF((MOD(E27-D27,1)-N(F27))*24>10,"über 10 Std.",IF(AND((MOD(E27-D27,1)-N(F27))*24>9,N(F27)*1440<45),"Pause unter 45 Min.",IF(AND((MOD(E27-D27,1)-N(F27))*24>6,N(F27)*1440<30),"Pause unter 30 Min.",""))),"")
A28: 46716 | B28: Do | G28: =IF(OR(UPPER(C28)="U",UPPER(C28)="K"),H28,IF(AND(ISNUMBER(D28),ISNUMBER(E28)),ROUND((MOD(E28-D28,1)-N(F28))*24,2),0)) | H28: =INDEX(Einstellungen!$B$7:$B$13,4) | I28: =IF(OR(ISNUMBER(D28),C28<>""),G28-H28,0) | K28: =IF(AND(ISNUMBER(D28),ISNUMBER(E28)),IF((MOD(E28-D28,1)-N(F28))*24>10,"über 10 Std.",IF(AND((MOD(E28-D28,1)-N(F28))*24>9,N(F28)*1440<45),"Pause unter 45 Min.",IF(AND((MOD(E28-D28,1)-N(F28))*24>6,N(F28)*1440<30),"Pause unter 30 Min.",""))),"")
A29: 46717 | B29: Fr | G29: =IF(OR(UPPER(C29)="U",UPPER(C29)="K"),H29,IF(AND(ISNUMBER(D29),ISNUMBER(E29)),ROUND((MOD(E29-D29,1)-N(F29))*24,2),0)) | H29: =INDEX(Einstellungen!$B$7:$B$13,5) | I29: =IF(OR(ISNUMBER(D29),C29<>""),G29-H29,0) | K29: =IF(AND(ISNUMBER(D29),ISNUMBER(E29)),IF((MOD(E29-D29,1)-N(F29))*24>10,"über 10 Std.",IF(AND((MOD(E29-D29,1)-N(F29))*24>9,N(F29)*1440<45),"Pause unter 45 Min.",IF(AND((MOD(E29-D29,1)-N(F29))*24>6,N(F29)*1440<30),"Pause unter 30 Min.",""))),"")
A30: 46718 | B30: Sa | G30: =IF(OR(UPPER(C30)="U",UPPER(C30)="K"),H30,IF(AND(ISNUMBER(D30),ISNUMBER(E30)),ROUND((MOD(E30-D30,1)-N(F30))*24,2),0)) | H30: =INDEX(Einstellungen!$B$7:$B$13,6) | I30: =IF(OR(ISNUMBER(D30),C30<>""),G30-H30,0) | K30: =IF(AND(ISNUMBER(D30),ISNUMBER(E30)),IF((MOD(E30-D30,1)-N(F30))*24>10,"über 10 Std.",IF(AND((MOD(E30-D30,1)-N(F30))*24>9,N(F30)*1440<45),"Pause unter 45 Min.",IF(AND((MOD(E30-D30,1)-N(F30))*24>6,N(F30)*1440<30),"Pause unter 30 Min.",""))),"")
A31: 46719 | B31: So | G31: =IF(OR(UPPER(C31)="U",UPPER(C31)="K"),H31,IF(AND(ISNUMBER(D31),ISNUMBER(E31)),ROUND((MOD(E31-D31,1)-N(F31))*24,2),0)) | H31: =INDEX(Einstellungen!$B$7:$B$13,7) | I31: =IF(OR(ISNUMBER(D31),C31<>""),G31-H31,0) | K31: =IF(AND(ISNUMBER(D31),ISNUMBER(E31)),IF((MOD(E31-D31,1)-N(F31))*24>10,"über 10 Std.",IF(AND((MOD(E31-D31,1)-N(F31))*24>9,N(F31)*1440<45),"Pause unter 45 Min.",IF(AND((MOD(E31-D31,1)-N(F31))*24>6,N(F31)*1440<30),"Pause unter 30 Min.",""))),"")
A32: 46720 | B32: Mo | G32: =IF(OR(UPPER(C32)="U",UPPER(C32)="K"),H32,IF(AND(ISNUMBER(D32),ISNUMBER(E32)),ROUND((MOD(E32-D32,1)-N(F32))*24,2),0)) | H32: =INDEX(Einstellungen!$B$7:$B$13,1) | I32: =IF(OR(ISNUMBER(D32),C32<>""),G32-H32,0) | K32: =IF(AND(ISNUMBER(D32),ISNUMBER(E32)),IF((MOD(E32-D32,1)-N(F32))*24>10,"über 10 Std.",IF(AND((MOD(E32-D32,1)-N(F32))*24>9,N(F32)*1440<45),"Pause unter 45 Min.",IF(AND((MOD(E32-D32,1)-N(F32))*24>6,N(F32)*1440<30),"Pause unter 30 Min.",""))),"")
A33: 46721 | B33: Di | G33: =IF(OR(UPPER(C33)="U",UPPER(C33)="K"),H33,IF(AND(ISNUMBER(D33),ISNUMBER(E33)),ROUND((MOD(E33-D33,1)-N(F33))*24,2),0)) | H33: =INDEX(Einstellungen!$B$7:$B$13,2) | I33: =IF(OR(ISNUMBER(D33),C33<>""),G33-H33,0) | K33: =IF(AND(ISNUMBER(D33),ISNUMBER(E33)),IF((MOD(E33-D33,1)-N(F33))*24>10,"über 10 Std.",IF(AND((MOD(E33-D33,1)-N(F33))*24>9,N(F33)*1440<45),"Pause unter 45 Min.",IF(AND((MOD(E33-D33,1)-N(F33))*24>6,N(F33)*1440<30),"Pause unter 30 Min.",""))),"")
A35: Ist-Stunden | D35: =SUM(G4:G33)
A36: Soll (ganzer Monat) | D36: =SUM(H4:H33)
A37: Differenz (erfasste Tage) | D37: =SUM(I4:I33)
A38: Urlaubstage | D38: =COUNTIF(C4:C33,"U")
A39: Kranktage | D39: =COUNTIF(C4:C33,"K")

Sheet Dezember
A1: Dezember 2027 | D1: =Einstellungen!B4
A3: Datum | B3: Tag | C3: Art | D3: Beginn | E3: Ende | F3: Pause | G3: Ist (Std.) | H3: Soll (Std.) | I3: Differenz | J3: Bemerkung | K3: Prüfung
A4: 46722 | B4: Mi | G4: =IF(OR(UPPER(C4)="U",UPPER(C4)="K"),H4,IF(AND(ISNUMBER(D4),ISNUMBER(E4)),ROUND((MOD(E4-D4,1)-N(F4))*24,2),0)) | H4: =INDEX(Einstellungen!$B$7:$B$13,3) | I4: =IF(OR(ISNUMBER(D4),C4<>""),G4-H4,0) | K4: =IF(AND(ISNUMBER(D4),ISNUMBER(E4)),IF((MOD(E4-D4,1)-N(F4))*24>10,"über 10 Std.",IF(AND((MOD(E4-D4,1)-N(F4))*24>9,N(F4)*1440<45),"Pause unter 45 Min.",IF(AND((MOD(E4-D4,1)-N(F4))*24>6,N(F4)*1440<30),"Pause unter 30 Min.",""))),"")
A5: 46723 | B5: Do | G5: =IF(OR(UPPER(C5)="U",UPPER(C5)="K"),H5,IF(AND(ISNUMBER(D5),ISNUMBER(E5)),ROUND((MOD(E5-D5,1)-N(F5))*24,2),0)) | H5: =INDEX(Einstellungen!$B$7:$B$13,4) | I5: =IF(OR(ISNUMBER(D5),C5<>""),G5-H5,0) | K5: =IF(AND(ISNUMBER(D5),ISNUMBER(E5)),IF((MOD(E5-D5,1)-N(F5))*24>10,"über 10 Std.",IF(AND((MOD(E5-D5,1)-N(F5))*24>9,N(F5)*1440<45),"Pause unter 45 Min.",IF(AND((MOD(E5-D5,1)-N(F5))*24>6,N(F5)*1440<30),"Pause unter 30 Min.",""))),"")
A6: 46724 | B6: Fr | G6: =IF(OR(UPPER(C6)="U",UPPER(C6)="K"),H6,IF(AND(ISNUMBER(D6),ISNUMBER(E6)),ROUND((MOD(E6-D6,1)-N(F6))*24,2),0)) | H6: =INDEX(Einstellungen!$B$7:$B$13,5) | I6: =IF(OR(ISNUMBER(D6),C6<>""),G6-H6,0) | K6: =IF(AND(ISNUMBER(D6),ISNUMBER(E6)),IF((MOD(E6-D6,1)-N(F6))*24>10,"über 10 Std.",IF(AND((MOD(E6-D6,1)-N(F6))*24>9,N(F6)*1440<45),"Pause unter 45 Min.",IF(AND((MOD(E6-D6,1)-N(F6))*24>6,N(F6)*1440<30),"Pause unter 30 Min.",""))),"")
A7: 46725 | B7: Sa | G7: =IF(OR(UPPER(C7)="U",UPPER(C7)="K"),H7,IF(AND(ISNUMBER(D7),ISNUMBER(E7)),ROUND((MOD(E7-D7,1)-N(F7))*24,2),0)) | H7: =INDEX(Einstellungen!$B$7:$B$13,6) | I7: =IF(OR(ISNUMBER(D7),C7<>""),G7-H7,0) | K7: =IF(AND(ISNUMBER(D7),ISNUMBER(E7)),IF((MOD(E7-D7,1)-N(F7))*24>10,"über 10 Std.",IF(AND((MOD(E7-D7,1)-N(F7))*24>9,N(F7)*1440<45),"Pause unter 45 Min.",IF(AND((MOD(E7-D7,1)-N(F7))*24>6,N(F7)*1440<30),"Pause unter 30 Min.",""))),"")
A8: 46726 | B8: So | G8: =IF(OR(UPPER(C8)="U",UPPER(C8)="K"),H8,IF(AND(ISNUMBER(D8),ISNUMBER(E8)),ROUND((MOD(E8-D8,1)-N(F8))*24,2),0)) | H8: =INDEX(Einstellungen!$B$7:$B$13,7) | I8: =IF(OR(ISNUMBER(D8),C8<>""),G8-H8,0) | K8: =IF(AND(ISNUMBER(D8),ISNUMBER(E8)),IF((MOD(E8-D8,1)-N(F8))*24>10,"über 10 Std.",IF(AND((MOD(E8-D8,1)-N(F8))*24>9,N(F8)*1440<45),"Pause unter 45 Min.",IF(AND((MOD(E8-D8,1)-N(F8))*24>6,N(F8)*1440<30),"Pause unter 30 Min.",""))),"")
A9: 46727 | B9: Mo | G9: =IF(OR(UPPER(C9)="U",UPPER(C9)="K"),H9,IF(AND(ISNUMBER(D9),ISNUMBER(E9)),ROUND((MOD(E9-D9,1)-N(F9))*24,2),0)) | H9: =INDEX(Einstellungen!$B$7:$B$13,1) | I9: =IF(OR(ISNUMBER(D9),C9<>""),G9-H9,0) | K9: =IF(AND(ISNUMBER(D9),ISNUMBER(E9)),IF((MOD(E9-D9,1)-N(F9))*24>10,"über 10 Std.",IF(AND((MOD(E9-D9,1)-N(F9))*24>9,N(F9)*1440<45),"Pause unter 45 Min.",IF(AND((MOD(E9-D9,1)-N(F9))*24>6,N(F9)*1440<30),"Pause unter 30 Min.",""))),"")
A10: 46728 | B10: Di | G10: =IF(OR(UPPER(C10)="U",UPPER(C10)="K"),H10,IF(AND(ISNUMBER(D10),ISNUMBER(E10)),ROUND((MOD(E10-D10,1)-N(F10))*24,2),0)) | H10: =INDEX(Einstellungen!$B$7:$B$13,2) | I10: =IF(OR(ISNUMBER(D10),C10<>""),G10-H10,0) | K10: =IF(AND(ISNUMBER(D10),ISNUMBER(E10)),IF((MOD(E10-D10,1)-N(F10))*24>10,"über 10 Std.",IF(AND((MOD(E10-D10,1)-N(F10))*24>9,N(F10)*1440<45),"Pause unter 45 Min.",IF(AND((MOD(E10-D10,1)-N(F10))*24>6,N(F10)*1440<30),"Pause unter 30 Min.",""))),"")
A11: 46729 | B11: Mi | G11: =IF(OR(UPPER(C11)="U",UPPER(C11)="K"),H11,IF(AND(ISNUMBER(D11),ISNUMBER(E11)),ROUND((MOD(E11-D11,1)-N(F11))*24,2),0)) | H11: =INDEX(Einstellungen!$B$7:$B$13,3) | I11: =IF(OR(ISNUMBER(D11),C11<>""),G11-H11,0) | K11: =IF(AND(ISNUMBER(D11),ISNUMBER(E11)),IF((MOD(E11-D11,1)-N(F11))*24>10,"über 10 Std.",IF(AND((MOD(E11-D11,1)-N(F11))*24>9,N(F11)*1440<45),"Pause unter 45 Min.",IF(AND((MOD(E11-D11,1)-N(F11))*24>6,N(F11)*1440<30),"Pause unter 30 Min.",""))),"")
A12: 46730 | B12: Do | G12: =IF(OR(UPPER(C12)="U",UPPER(C12)="K"),H12,IF(AND(ISNUMBER(D12),ISNUMBER(E12)),ROUND((MOD(E12-D12,1)-N(F12))*24,2),0)) | H12: =INDEX(Einstellungen!$B$7:$B$13,4) | I12: =IF(OR(ISNUMBER(D12),C12<>""),G12-H12,0) | K12: =IF(AND(ISNUMBER(D12),ISNUMBER(E12)),IF((MOD(E12-D12,1)-N(F12))*24>10,"über 10 Std.",IF(AND((MOD(E12-D12,1)-N(F12))*24>9,N(F12)*1440<45),"Pause unter 45 Min.",IF(AND((MOD(E12-D12,1)-N(F12))*24>6,N(F12)*1440<30),"Pause unter 30 Min.",""))),"")
A13: 46731 | B13: Fr | G13: =IF(OR(UPPER(C13)="U",UPPER(C13)="K"),H13,IF(AND(ISNUMBER(D13),ISNUMBER(E13)),ROUND((MOD(E13-D13,1)-N(F13))*24,2),0)) | H13: =INDEX(Einstellungen!$B$7:$B$13,5) | I13: =IF(OR(ISNUMBER(D13),C13<>""),G13-H13,0) | K13: =IF(AND(ISNUMBER(D13),ISNUMBER(E13)),IF((MOD(E13-D13,1)-N(F13))*24>10,"über 10 Std.",IF(AND((MOD(E13-D13,1)-N(F13))*24>9,N(F13)*1440<45),"Pause unter 45 Min.",IF(AND((MOD(E13-D13,1)-N(F13))*24>6,N(F13)*1440<30),"Pause unter 30 Min.",""))),"")
A14: 46732 | B14: Sa | G14: =IF(OR(UPPER(C14)="U",UPPER(C14)="K"),H14,IF(AND(ISNUMBER(D14),ISNUMBER(E14)),ROUND((MOD(E14-D14,1)-N(F14))*24,2),0)) | H14: =INDEX(Einstellungen!$B$7:$B$13,6) | I14: =IF(OR(ISNUMBER(D14),C14<>""),G14-H14,0) | K14: =IF(AND(ISNUMBER(D14),ISNUMBER(E14)),IF((MOD(E14-D14,1)-N(F14))*24>10,"über 10 Std.",IF(AND((MOD(E14-D14,1)-N(F14))*24>9,N(F14)*1440<45),"Pause unter 45 Min.",IF(AND((MOD(E14-D14,1)-N(F14))*24>6,N(F14)*1440<30),"Pause unter 30 Min.",""))),"")
A15: 46733 | B15: So | G15: =IF(OR(UPPER(C15)="U",UPPER(C15)="K"),H15,IF(AND(ISNUMBER(D15),ISNUMBER(E15)),ROUND((MOD(E15-D15,1)-N(F15))*24,2),0)) | H15: =INDEX(Einstellungen!$B$7:$B$13,7) | I15: =IF(OR(ISNUMBER(D15),C15<>""),G15-H15,0) | K15: =IF(AND(ISNUMBER(D15),ISNUMBER(E15)),IF((MOD(E15-D15,1)-N(F15))*24>10,"über 10 Std.",IF(AND((MOD(E15-D15,1)-N(F15))*24>9,N(F15)*1440<45),"Pause unter 45 Min.",IF(AND((MOD(E15-D15,1)-N(F15))*24>6,N(F15)*1440<30),"Pause unter 30 Min.",""))),"")
A16: 46734 | B16: Mo | G16: =IF(OR(UPPER(C16)="U",UPPER(C16)="K"),H16,IF(AND(ISNUMBER(D16),ISNUMBER(E16)),ROUND((MOD(E16-D16,1)-N(F16))*24,2),0)) | H16: =INDEX(Einstellungen!$B$7:$B$13,1) | I16: =IF(OR(ISNUMBER(D16),C16<>""),G16-H16,0) | K16: =IF(AND(ISNUMBER(D16),ISNUMBER(E16)),IF((MOD(E16-D16,1)-N(F16))*24>10,"über 10 Std.",IF(AND((MOD(E16-D16,1)-N(F16))*24>9,N(F16)*1440<45),"Pause unter 45 Min.",IF(AND((MOD(E16-D16,1)-N(F16))*24>6,N(F16)*1440<30),"Pause unter 30 Min.",""))),"")
A17: 46735 | B17: Di | G17: =IF(OR(UPPER(C17)="U",UPPER(C17)="K"),H17,IF(AND(ISNUMBER(D17),ISNUMBER(E17)),ROUND((MOD(E17-D17,1)-N(F17))*24,2),0)) | H17: =INDEX(Einstellungen!$B$7:$B$13,2) | I17: =IF(OR(ISNUMBER(D17),C17<>""),G17-H17,0) | K17: =IF(AND(ISNUMBER(D17),ISNUMBER(E17)),IF((MOD(E17-D17,1)-N(F17))*24>10,"über 10 Std.",IF(AND((MOD(E17-D17,1)-N(F17))*24>9,N(F17)*1440<45),"Pause unter 45 Min.",IF(AND((MOD(E17-D17,1)-N(F17))*24>6,N(F17)*1440<30),"Pause unter 30 Min.",""))),"")
A18: 46736 | B18: Mi | G18: =IF(OR(UPPER(C18)="U",UPPER(C18)="K"),H18,IF(AND(ISNUMBER(D18),ISNUMBER(E18)),ROUND((MOD(E18-D18,1)-N(F18))*24,2),0)) | H18: =INDEX(Einstellungen!$B$7:$B$13,3) | I18: =IF(OR(ISNUMBER(D18),C18<>""),G18-H18,0) | K18: =IF(AND(ISNUMBER(D18),ISNUMBER(E18)),IF((MOD(E18-D18,1)-N(F18))*24>10,"über 10 Std.",IF(AND((MOD(E18-D18,1)-N(F18))*24>9,N(F18)*1440<45),"Pause unter 45 Min.",IF(AND((MOD(E18-D18,1)-N(F18))*24>6,N(F18)*1440<30),"Pause unter 30 Min.",""))),"")
A19: 46737 | B19: Do | G19: =IF(OR(UPPER(C19)="U",UPPER(C19)="K"),H19,IF(AND(ISNUMBER(D19),ISNUMBER(E19)),ROUND((MOD(E19-D19,1)-N(F19))*24,2),0)) | H19: =INDEX(Einstellungen!$B$7:$B$13,4) | I19: =IF(OR(ISNUMBER(D19),C19<>""),G19-H19,0) | K19: =IF(AND(ISNUMBER(D19),ISNUMBER(E19)),IF((MOD(E19-D19,1)-N(F19))*24>10,"über 10 Std.",IF(AND((MOD(E19-D19,1)-N(F19))*24>9,N(F19)*1440<45),"Pause unter 45 Min.",IF(AND((MOD(E19-D19,1)-N(F19))*24>6,N(F19)*1440<30),"Pause unter 30 Min.",""))),"")
A20: 46738 | B20: Fr | G20: =IF(OR(UPPER(C20)="U",UPPER(C20)="K"),H20,IF(AND(ISNUMBER(D20),ISNUMBER(E20)),ROUND((MOD(E20-D20,1)-N(F20))*24,2),0)) | H20: =INDEX(Einstellungen!$B$7:$B$13,5) | I20: =IF(OR(ISNUMBER(D20),C20<>""),G20-H20,0) | K20: =IF(AND(ISNUMBER(D20),ISNUMBER(E20)),IF((MOD(E20-D20,1)-N(F20))*24>10,"über 10 Std.",IF(AND((MOD(E20-D20,1)-N(F20))*24>9,N(F20)*1440<45),"Pause unter 45 Min.",IF(AND((MOD(E20-D20,1)-N(F20))*24>6,N(F20)*1440<30),"Pause unter 30 Min.",""))),"")
A21: 46739 | B21: Sa | G21: =IF(OR(UPPER(C21)="U",UPPER(C21)="K"),H21,IF(AND(ISNUMBER(D21),ISNUMBER(E21)),ROUND((MOD(E21-D21,1)-N(F21))*24,2),0)) | H21: =INDEX(Einstellungen!$B$7:$B$13,6) | I21: =IF(OR(ISNUMBER(D21),C21<>""),G21-H21,0) | K21: =IF(AND(ISNUMBER(D21),ISNUMBER(E21)),IF((MOD(E21-D21,1)-N(F21))*24>10,"über 10 Std.",IF(AND((MOD(E21-D21,1)-N(F21))*24>9,N(F21)*1440<45),"Pause unter 45 Min.",IF(AND((MOD(E21-D21,1)-N(F21))*24>6,N(F21)*1440<30),"Pause unter 30 Min.",""))),"")
A22: 46740 | B22: So | G22: =IF(OR(UPPER(C22)="U",UPPER(C22)="K"),H22,IF(AND(ISNUMBER(D22),ISNUMBER(E22)),ROUND((MOD(E22-D22,1)-N(F22))*24,2),0)) | H22: =INDEX(Einstellungen!$B$7:$B$13,7) | I22: =IF(OR(ISNUMBER(D22),C22<>""),G22-H22,0) | K22: =IF(AND(ISNUMBER(D22),ISNUMBER(E22)),IF((MOD(E22-D22,1)-N(F22))*24>10,"über 10 Std.",IF(AND((MOD(E22-D22,1)-N(F22))*24>9,N(F22)*1440<45),"Pause unter 45 Min.",IF(AND((MOD(E22-D22,1)-N(F22))*24>6,N(F22)*1440<30),"Pause unter 30 Min.",""))),"")
A23: 46741 | B23: Mo | G23: =IF(OR(UPPER(C23)="U",UPPER(C23)="K"),H23,IF(AND(ISNUMBER(D23),ISNUMBER(E23)),ROUND((MOD(E23-D23,1)-N(F23))*24,2),0)) | H23: =INDEX(Einstellungen!$B$7:$B$13,1) | I23: =IF(OR(ISNUMBER(D23),C23<>""),G23-H23,0) | K23: =IF(AND(ISNUMBER(D23),ISNUMBER(E23)),IF((MOD(E23-D23,1)-N(F23))*24>10,"über 10 Std.",IF(AND((MOD(E23-D23,1)-N(F23))*24>9,N(F23)*1440<45),"Pause unter 45 Min.",IF(AND((MOD(E23-D23,1)-N(F23))*24>6,N(F23)*1440<30),"Pause unter 30 Min.",""))),"")
A24: 46742 | B24: Di | G24: =IF(OR(UPPER(C24)="U",UPPER(C24)="K"),H24,IF(AND(ISNUMBER(D24),ISNUMBER(E24)),ROUND((MOD(E24-D24,1)-N(F24))*24,2),0)) | H24: =INDEX(Einstellungen!$B$7:$B$13,2) | I24: =IF(OR(ISNUMBER(D24),C24<>""),G24-H24,0) | K24: =IF(AND(ISNUMBER(D24),ISNUMBER(E24)),IF((MOD(E24-D24,1)-N(F24))*24>10,"über 10 Std.",IF(AND((MOD(E24-D24,1)-N(F24))*24>9,N(F24)*1440<45),"Pause unter 45 Min.",IF(AND((MOD(E24-D24,1)-N(F24))*24>6,N(F24)*1440<30),"Pause unter 30 Min.",""))),"")
A25: 46743 | B25: Mi | G25: =IF(OR(UPPER(C25)="U",UPPER(C25)="K"),H25,IF(AND(ISNUMBER(D25),ISNUMBER(E25)),ROUND((MOD(E25-D25,1)-N(F25))*24,2),0)) | H25: =INDEX(Einstellungen!$B$7:$B$13,3) | I25: =IF(OR(ISNUMBER(D25),C25<>""),G25-H25,0) | K25: =IF(AND(ISNUMBER(D25),ISNUMBER(E25)),IF((MOD(E25-D25,1)-N(F25))*24>10,"über 10 Std.",IF(AND((MOD(E25-D25,1)-N(F25))*24>9,N(F25)*1440<45),"Pause unter 45 Min.",IF(AND((MOD(E25-D25,1)-N(F25))*24>6,N(F25)*1440<30),"Pause unter 30 Min.",""))),"")
A26: 46744 | B26: Do | G26: =IF(OR(UPPER(C26)="U",UPPER(C26)="K"),H26,IF(AND(ISNUMBER(D26),ISNUMBER(E26)),ROUND((MOD(E26-D26,1)-N(F26))*24,2),0)) | H26: =INDEX(Einstellungen!$B$7:$B$13,4) | I26: =IF(OR(ISNUMBER(D26),C26<>""),G26-H26,0) | K26: =IF(AND(ISNUMBER(D26),ISNUMBER(E26)),IF((MOD(E26-D26,1)-N(F26))*24>10,"über 10 Std.",IF(AND((MOD(E26-D26,1)-N(F26))*24>9,N(F26)*1440<45),"Pause unter 45 Min.",IF(AND((MOD(E26-D26,1)-N(F26))*24>6,N(F26)*1440<30),"Pause unter 30 Min.",""))),"")
A27: 46745 | B27: Fr | G27: =IF(OR(UPPER(C27)="U",UPPER(C27)="K"),H27,IF(AND(ISNUMBER(D27),ISNUMBER(E27)),ROUND((MOD(E27-D27,1)-N(F27))*24,2),0)) | H27: =INDEX(Einstellungen!$B$7:$B$13,5) | I27: =IF(OR(ISNUMBER(D27),C27<>""),G27-H27,0) | K27: =IF(AND(ISNUMBER(D27),ISNUMBER(E27)),IF((MOD(E27-D27,1)-N(F27))*24>10,"über 10 Std.",IF(AND((MOD(E27-D27,1)-N(F27))*24>9,N(F27)*1440<45),"Pause unter 45 Min.",IF(AND((MOD(E27-D27,1)-N(F27))*24>6,N(F27)*1440<30),"Pause unter 30 Min.",""))),"")
A28: 46746 | B28: Sa | G28: =IF(OR(UPPER(C28)="U",UPPER(C28)="K"),H28,IF(AND(ISNUMBER(D28),ISNUMBER(E28)),ROUND((MOD(E28-D28,1)-N(F28))*24,2),0)) | H28: 0 | I28: =IF(OR(ISNUMBER(D28),C28<>""),G28-H28,0) | J28: 1. Weihnachtsfeiertag | K28: =IF(AND(ISNUMBER(D28),ISNUMBER(E28)),IF((MOD(E28-D28,1)-N(F28))*24>10,"über 10 Std.",IF(AND((MOD(E28-D28,1)-N(F28))*24>9,N(F28)*1440<45),"Pause unter 45 Min.",IF(AND((MOD(E28-D28,1)-N(F28))*24>6,N(F28)*1440<30),"Pause unter 30 Min.",""))),"")
A29: 46747 | B29: So | G29: =IF(OR(UPPER(C29)="U",UPPER(C29)="K"),H29,IF(AND(ISNUMBER(D29),ISNUMBER(E29)),ROUND((MOD(E29-D29,1)-N(F29))*24,2),0)) | H29: 0 | I29: =IF(OR(ISNUMBER(D29),C29<>""),G29-H29,0) | J29: 2. Weihnachtsfeiertag | K29: =IF(AND(ISNUMBER(D29),ISNUMBER(E29)),IF((MOD(E29-D29,1)-N(F29))*24>10,"über 10 Std.",IF(AND((MOD(E29-D29,1)-N(F29))*24>9,N(F29)*1440<45),"Pause unter 45 Min.",IF(AND((MOD(E29-D29,1)-N(F29))*24>6,N(F29)*1440<30),"Pause unter 30 Min.",""))),"")
A30: 46748 | B30: Mo | G30: =IF(OR(UPPER(C30)="U",UPPER(C30)="K"),H30,IF(AND(ISNUMBER(D30),ISNUMBER(E30)),ROUND((MOD(E30-D30,1)-N(F30))*24,2),0)) | H30: =INDEX(Einstellungen!$B$7:$B$13,1) | I30: =IF(OR(ISNUMBER(D30),C30<>""),G30-H30,0) | K30: =IF(AND(ISNUMBER(D30),ISNUMBER(E30)),IF((MOD(E30-D30,1)-N(F30))*24>10,"über 10 Std.",IF(AND((MOD(E30-D30,1)-N(F30))*24>9,N(F30)*1440<45),"Pause unter 45 Min.",IF(AND((MOD(E30-D30,1)-N(F30))*24>6,N(F30)*1440<30),"Pause unter 30 Min.",""))),"")
A31: 46749 | B31: Di | G31: =IF(OR(UPPER(C31)="U",UPPER(C31)="K"),H31,IF(AND(ISNUMBER(D31),ISNUMBER(E31)),ROUND((MOD(E31-D31,1)-N(F31))*24,2),0)) | H31: =INDEX(Einstellungen!$B$7:$B$13,2) | I31: =IF(OR(ISNUMBER(D31),C31<>""),G31-H31,0) | K31: =IF(AND(ISNUMBER(D31),ISNUMBER(E31)),IF((MOD(E31-D31,1)-N(F31))*24>10,"über 10 Std.",IF(AND((MOD(E31-D31,1)-N(F31))*24>9,N(F31)*1440<45),"Pause unter 45 Min.",IF(AND((MOD(E31-D31,1)-N(F31))*24>6,N(F31)*1440<30),"Pause unter 30 Min.",""))),"")
A32: 46750 | B32: Mi | G32: =IF(OR(UPPER(C32)="U",UPPER(C32)="K"),H32,IF(AND(ISNUMBER(D32),ISNUMBER(E32)),ROUND((MOD(E32-D32,1)-N(F32))*24,2),0)) | H32: =INDEX(Einstellungen!$B$7:$B$13,3) | I32: =IF(OR(ISNUMBER(D32),C32<>""),G32-H32,0) | K32: =IF(AND(ISNUMBER(D32),ISNUMBER(E32)),IF((MOD(E32-D32,1)-N(F32))*24>10,"über 10 Std.",IF(AND((MOD(E32-D32,1)-N(F32))*24>9,N(F32)*1440<45),"Pause unter 45 Min.",IF(AND((MOD(E32-D32,1)-N(F32))*24>6,N(F32)*1440<30),"Pause unter 30 Min.",""))),"")
A33: 46751 | B33: Do | G33: =IF(OR(UPPER(C33)="U",UPPER(C33)="K"),H33,IF(AND(ISNUMBER(D33),ISNUMBER(E33)),ROUND((MOD(E33-D33,1)-N(F33))*24,2),0)) | H33: =INDEX(Einstellungen!$B$7:$B$13,4) | I33: =IF(OR(ISNUMBER(D33),C33<>""),G33-H33,0) | K33: =IF(AND(ISNUMBER(D33),ISNUMBER(E33)),IF((MOD(E33-D33,1)-N(F33))*24>10,"über 10 Std.",IF(AND((MOD(E33-D33,1)-N(F33))*24>9,N(F33)*1440<45),"Pause unter 45 Min.",IF(AND((MOD(E33-D33,1)-N(F33))*24>6,N(F33)*1440<30),"Pause unter 30 Min.",""))),"")
A34: 46752 | B34: Fr | G34: =IF(OR(UPPER(C34)="U",UPPER(C34)="K"),H34,IF(AND(ISNUMBER(D34),ISNUMBER(E34)),ROUND((MOD(E34-D34,1)-N(F34))*24,2),0)) | H34: =INDEX(Einstellungen!$B$7:$B$13,5) | I34: =IF(OR(ISNUMBER(D34),C34<>""),G34-H34,0) | K34: =IF(AND(ISNUMBER(D34),ISNUMBER(E34)),IF((MOD(E34-D34,1)-N(F34))*24>10,"über 10 Std.",IF(AND((MOD(E34-D34,1)-N(F34))*24>9,N(F34)*1440<45),"Pause unter 45 Min.",IF(AND((MOD(E34-D34,1)-N(F34))*24>6,N(F34)*1440<30),"Pause unter 30 Min.",""))),"")
A36: Ist-Stunden | D36: =SUM(G4:G34)
A37: Soll (ganzer Monat) | D37: =SUM(H4:H34)
A38: Differenz (erfasste Tage) | D38: =SUM(I4:I34)
A39: Urlaubstage | D39: =COUNTIF(C4:C34,"U")
A40: Kranktage | D40: =COUNTIF(C4:C34,"K")
